Workbook

Sheet PUBLIC ECCDE
A1: ENROLMENT OF PUBLIC ECCDE | N1: ENROLMENT OF PRIVATE ECCDE
A2: S/N | B2: STATE | C2: 2014 | F2: 2015 | I2: 2016 | N2: S/N | O2: STATE | P2: 2014 | S2: 2015 | V2: 2016
C3: MALE | D3: FEMALE | E3: TOTAL | F3: MALE | G3: FEMALE | H3: TOTAL | I3: MALE | J3: FEMALE | K3: TOTAL | P3: MALE | Q3: FEMALE | R3: TOTAL | S3: MALE | T3: FEMALE | U3: TOTAL | V3: MALE | W3: FEMALE | X3: TOTAL
A4: 1 | B4: ABIA | C4: 28172 | D4: 29206 | E4: =SUM(C4:D4) -> 57378 | F4: 25835 | G4: 25305 | H4: =SUM(F4:G4) -> 51140 | I4: 18660 | J4: 16496 | K4: =SUM(I4:J4) -> 35156 | N4: 1 | O4: ABIA | P4: 10461 | Q4: 10649 | R4: =SUM(P4:Q4) -> 21110 | S4: 7760 | T4: 7641 | U4: =SUM(S4:T4) -> 15401 | V4: 10323 | W4: 10684 | X4: =SUM(V4:W4) -> 21007
A5: 2 | B5: ADAMAWA | C5: 24687 | D5: 24356 | E5: =SUM(C5:D5) -> 49043 | F5: 0 | G5: 0 | H5: =SUM(F5:G5) -> 0 | I5: 17788 | J5: 16900 | K5: =SUM(I5:J5) -> 34688 | N5: 2 | O5: ADAMAWA | P5: 0 | Q5: 0 | R5: =SUM(P5:Q5) -> 0 | S5: 0 | T5: 0 | U5: =SUM(S5:T5) -> 0 | V5: 11306 | W5: 10734 | X5: =SUM(V5:W5) -> 22040
A6: 3 | B6: AKWA IBOM | C6: 0 | D6: 0 | E6: =SUM(C6:D6) -> 0 | F6: 0 | G6: 0 | H6: =SUM(F6:G6) -> 0 | I6: 58418 | J6: 61736 | K6: =SUM(I6:J6) -> 120154 | N6: 3 | O6: AKWA IBOM | P6: 0 | Q6: 0 | R6: =SUM(P6:Q6) -> 0 | S6: 0 | T6: 0 | U6: =SUM(S6:T6) -> 0 | V6: 16503 | W6: 17368 | X6: =SUM(V6:W6) -> 33871
A7: 4 | B7: ANAMBRA | C7: 96337 | D7: 96526 | E7: =SUM(C7:D7) -> 192863 | F7: 88279 | G7: 88315 | H7: =SUM(F7:G7) -> 176594 | I7: 107107 | J7: 108343 | K7: =SUM(I7:J7) -> 215450 | N7: 4 | O7: ANAMBRA | P7: 0 | Q7: 0 | R7: =SUM(P7:Q7) -> 0 | S7: 0 | T7: 0 | U7: =SUM(S7:T7) -> 0 | V7: 0 | W7: 0 | X7: =SUM(V7:W7) -> 0
A8: 5 | B8: BAUCHI | C8: 50924 | D8: 45038 | E8: =SUM(C8:D8) -> 95962 | F8: 25462 | G8: 22519 | H8: =SUM(F8:G8) -> 47981 | I8: 37999 | J8: 34658 | K8: =SUM(I8:J8) -> 72657 | N8: 5 | O8: BAUCHI | P8: 36307 | Q8: 24656 | R8: =SUM(P8:Q8) -> 60963 | S8: 14424 | T8: 14377 | U8: =SUM(S8:T8) -> 28801 | V8: 20841 | W8: 20484 | X8: =SUM(V8:W8) -> 41325
A9: 6 | B9: BAYELSA | C9: 3973 | D9: 3886 | E9: =SUM(C9:D9) -> 7859 | F9: 3358 | G9: 3376 | H9: =SUM(F9:G9) -> 6734 | I9: 3058 | J9: 3317 | K9: =SUM(I9:J9) -> 6375 | N9: 6 | O9: BAYELSA | P9: 6135 | Q9: 6217 | R9: =SUM(P9:Q9) -> 12352 | S9: 10009 | T9: 10439 | U9: =SUM(S9:T9) -> 20448 | V9: 5186 | W9: 5044 | X9: =SUM(V9:W9) -> 10230
A10: 7 | B10: BENUE | C10: 32299 | D10: 24205 | E10: =SUM(C10:D10) -> 56504 | F10: 32593 | G10: 24430 | H10: =SUM(F10:G10) -> 57023 | I10: 7327 | J10: 6832 | K10: =SUM(I10:J10) -> 14159 | N10: 7 | O10: BENUE | P10: 84576 | Q10: 63378 | R10: =SUM(P10:Q10) -> 147954 | S10: 99046 | T10: 74220 | U10: =SUM(S10:T10) -> 173266 | V10: 30823 | W10: 29219 | X10: =SUM(V10:W10) -> 60042
A11: 8 | B11: BORNO | C11: 0 | D11: 0 | E11: =SUM(C11:D11) -> 0 | F11: 0 | G11: 0 | H11: =SUM(F11:G11) -> 0 | I11: 11066 | J11: 10912 | K11: =SUM(I11:J11) -> 21978 | N11: 8 | O11: BORNO | P11: 0 | Q11: 0 | R11: =SUM(P11:Q11) -> 0 | S11: 0 | T11: 0 | U11: =SUM(S11:T11) -> 0 | V11: 3346 | W11: 3429 | X11: =SUM(V11:W11) -> 6775
A12: 9 | B12: CROSS RIVER | C12: 0 | D12: 0 | E12: =SUM(C12:D12) -> 0 | F12: 10665 | G12: 10641 | H12: =SUM(F12:G12) -> 21306 | I12: 16803 | J12: 16593 | K12: =SUM(I12:J12) -> 33396 | N12: 9 | O12: CROSS RIVER | P12: 57900 | Q12: 55200 | R12: =SUM(P12:Q12) -> 113100 | S12: 57900 | T12: 55200 | U12: =SUM(S12:T12) -> 113100 | V12: 18207 | W12: 18106 | X12: =SUM(V12:W12) -> 36313
A13: 10 | B13: DELTA | C13: 34638 | D13: 31212 | E13: =SUM(C13:D13) -> 65850 | F13: 28007 | G13: 30380 | H13: =SUM(F13:G13) -> 58387 | I13: 20252 | J13: 19885 | K13: =SUM(I13:J13) -> 40137 | N13: 10 | O13: DELTA | P13: 25106 | Q13: 25215 | R13: =SUM(P13:Q13) -> 50321 | S13: 0 | T13: 0 | U13: =SUM(S13:T13) -> 0 | V13: 28918 | W13: 28931 | X13: =SUM(V13:W13) -> 57849
A14: 11 | B14: EBONYI | C14: 0 | D14: 0 | E14: =SUM(C14:D14) -> 0 | F14: 28112 | G14: 29200 | H14: =SUM(F14:G14) -> 57312 | I14: 20551 | J14: 21138 | K14: =SUM(I14:J14) -> 41689 | N14: 11 | O14: EBONYI | P14: 0 | Q14: 0 | R14: =SUM(P14:Q14) -> 0 | S14: 2866 | T14: 3277 | U14: =SUM(S14:T14) -> 6143 | V14: 11515 | W14: 11506 | X14: =SUM(V14:W14) -> 23021
A15: 12 | B15: EDO | C15: 46090 | D15: 47077 | E15: =SUM(C15:D15) -> 93167 | F15: 0 | G15: 0 | H15: =SUM(F15:G15) -> 0 | I15: 21737 | J15: 20942 | K15: =SUM(I15:J15) -> 42679 | N15: 12 | O15: EDO | P15: 10666 | Q15: 10649 | R15: =SUM(P15:Q15) -> 21315 | S15: 0 | T15: 0 | U15: =SUM(S15:T15) -> 0 | V15: 17299 | W15: 16959 | X15: =SUM(V15:W15) -> 34258
... A40: 37 | B40: ZAMFARA | C40: 0 | D40: 0 | E40: =SUM(C40:D40) -> 0 | F40: 23821 | G40: 16959 | H40: =SUM(F40:G40) -> 40780 | I40: 32280 | J40: 21406 | K40: =SUM(I40:J40) -> 53686 | N40: 37 | O40: ZAMFARA | P40: 0 | Q40: 0 | R40: =SUM(P40:Q40) -> 0 | S40: 5250 | T40: 4503 | U40: =SUM(S40:T40) -> 9753 | V40: 4571 | W40: 3902 | X40: =SUM(V40:W40) -> 8473
A41: 38 | B41: TOTAL | C41: =SUM(C4:C40) -> 1400854 | D41: =SUM(D4:D40) -> 1337997 | E41: =SUM(E4:E40) -> 2738851 | F41: =SUM(F4:F40) -> 2323231 | G41: =SUM(G4:G40) -> 2349677 | H41: =SUM(H4:H40) -> 4672908 | I41: =SUM(I4:I40) -> 1361297 | J41: =SUM(J4:J40) -> 1333490 | K41: =SUM(K4:K40) -> 2694787 | N41: 38 | O41: TOTAL | P41: =SUM(P4:P40) -> 811762 | Q41: =SUM(Q4:Q40) -> 736135 | R41: =SUM(R4:R40) -> 1547897 | S41: =SUM(S4:S40) -> 1060002 | T41: =SUM(T4:T40) -> 1016418 | U41: =SUM(U4:U40) -> 2076420 | V41: =SUM(V4:V40) -> 734726 | W41: =SUM(W4:W40) -> 722735 | X41: =SUM(X4:X40) -> 1457461
B43: NOTE: ECCDE- Early Child Care Development Education

Sheet ENROLMENT IN PRIMARY SCHL
A1: ENROLMENT IN PUBLIC PRIMARY SCHOOLS | N1: ENROLMENT IN PRIVATE PRIMARY SCHOOLS
A2: S/N | B2: STATE | C2: 2014 | F2: 2015 | I2: 2016 | N2: S/N | O2: STATE | P2: 2014 | S2: 2015 | V2: 2016
C3: MALE | D3: FEMALE | E3: TOTAL | F3: MALE | G3: FEMALE | H3: TOTAL | I3: MALE | J3: FEMALE | K3: TOTAL | P3: MALE | Q3: FEMALE | R3: TOTAL | S3: MALE | T3: FEMALE | U3: TOTAL | V3: MALE | W3: FEMALE | X3: TOTAL
A4: 1 | B4: ABIA | C4: 104164 | D4: 158493 | E4: =SUM(C4:D4) -> 262657 | F4: 81192 | G4: 79040 | H4: =SUM(F4:G4) -> 160232 | I4: 60596 | J4: 57948 | K4: =SUM(I4:J4) -> 118544 | N4: 1 | O4: ABIA | P4: 15123 | Q4: 15908 | R4: =SUM(P4:Q4) -> 31031 | S4: 14114 | T4: 13399 | U4: =SUM(S4:T4) -> 27513 | V4: 20231 | W4: 20645 | X4: =SUM(V4:W4) -> 40876
A5: 2 | B5: ADAMAWA | C5: 303513 | D5: 278710 | E5: =SUM(C5:D5) -> 582223 | F5: 17063 | G5: 16465 | H5: =SUM(F5:G5) -> 33528 | I5: 254013 | J5: 231253 | K5: =SUM(I5:J5) -> 485266 | N5: 2 | O5: ADAMAWA | P5: 0 | Q5: 0 | R5: =SUM(P5:Q5) -> 0 | S5: 17063 | T5: 16465 | U5: =SUM(S5:T5) -> 33528 | V5: 17907 | W5: 16731 | X5: =SUM(V5:W5) -> 34638
A6: 3 | B6: AKWA IBOM | C6: 449699 | D6: 479474 | E6: =SUM(C6:D6) -> 929173 | F6: 472187 | G6: 503444 | H6: =SUM(F6:G6) -> 975631 | I6: 402533 | J6: 421679 | K6: =SUM(I6:J6) -> 824212 | N6: 3 | O6: AKWA IBOM | P6: 15738 | Q6: 15416 | R6: =SUM(P6:Q6) -> 31154 | S6: 16530 | T6: 16178 | U6: =SUM(S6:T6) -> 32708 | V6: 21741 | W6: 22196 | X6: =SUM(V6:W6) -> 43937
A7: 4 | B7: ANAMBRA | C7: 369088 | D7: 386164 | E7: =SUM(C7:D7) -> 755252 | F7: 323152 | G7: 333137 | H7: =SUM(F7:G7) -> 656289 | I7: 348071 | J7: 365051 | K7: =SUM(I7:J7) -> 713122 | N7: 4 | O7: ANAMBRA | P7: 79598 | Q7: 80881 | R7: =SUM(P7:Q7) -> 160479 | S7: 79753 | T7: 81031 | U7: =SUM(S7:T7) -> 160784 | V7: 79853 | W7: 81129 | X7: =SUM(V7:W7) -> 160982
A8: 5 | B8: BAUCHI | C8: 390007 | D8: 898143 | E8: =SUM(C8:D8) -> 1288150 | F8: 418263 | G8: 343095 | H8: =SUM(F8:G8) -> 761358 | I8: 427593 | J8: 353950 | K8: =SUM(I8:J8) -> 781543 | N8: 5 | O8: BAUCHI | P8: 39877 | Q8: 42345 | R8: =SUM(P8:Q8) -> 82222 | S8: 49551 | T8: 52241 | U8: =SUM(S8:T8) -> 101792 | V8: 67734 | W8: 67990 | X8: =SUM(V8:W8) -> 135724
A9: 6 | B9: BAYELSA | C9: 62078 | D9: 61862 | E9: =SUM(C9:D9) -> 123940 | F9: 53708 | G9: 51770 | H9: =SUM(F9:G9) -> 105478 | I9: 51521 | J9: 48093 | K9: =SUM(I9:J9) -> 99614 | N9: 6 | O9: BAYELSA | P9: 5979 | Q9: 6114 | R9: =SUM(P9:Q9) -> 12093 | S9: 9512 | T9: 9679 | U9: =SUM(S9:T9) -> 19191 | V9: 5923 | W9: 6237 | X9: =SUM(V9:W9) -> 12160
A10: 7 | B10: BENUE | C10: 196532 | D10: 174055 | E10: =SUM(C10:D10) -> 370587 | F10: 168350 | G10: 151607 | H10: =SUM(F10:G10) -> 319957 | I10: 210026 | J10: 183683 | K10: =SUM(I10:J10) -> 393709 | N10: 7 | O10: BENUE | P10: 175486 | Q10: 158102 | R10: =SUM(P10:Q10) -> 333588 | S10: 362236 | T10: 326212 | U10: =SUM(S10:T10) -> 688448 | V10: 73923 | W10: 69911 | X10: =SUM(V10:W10) -> 143834
A11: 8 | B11: BORNO | C11: 0 | D11: 0 | E11: =SUM(C11:D11) -> 0 | F11: 0 | G11: 0 | H11: =SUM(F11:G11) -> 0 | I11: 282529 | J11: 241751 | K11: =SUM(I11:J11) -> 524280 | N11: 8 | O11: BORNO | P11: 0 | Q11: 0 | R11: =SUM(P11:Q11) -> 0 | S11: 0 | T11: 0 | U11: =SUM(S11:T11) -> 0 | V11: 8082 | W11: 7300 | X11: =SUM(V11:W11) -> 15382
A12: 9 | B12: CROSS RIVER | C12: 96499 | D12: 95725 | E12: =SUM(C12:D12) -> 192224 | F12: 96499 | G12: 95725 | H12: =SUM(F12:G12) -> 192224 | I12: 82912 | J12: 78923 | K12: =SUM(I12:J12) -> 161835 | N12: 9 | O12: CROSS RIVER | P12: 122837 | Q12: 120334 | R12: =SUM(P12:Q12) -> 243171 | S12: 122837 | T12: 120334 | U12: =SUM(S12:T12) -> 243171 | V12: 17806 | W12: 17935 | X12: =SUM(V12:W12) -> 35741
A13: 10 | B13: DELTA | C13: 187825 | D13: 183049 | E13: =SUM(C13:D13) -> 370874 | F13: 167589 | G13: 165036 | H13: =SUM(F13:G13) -> 332625 | I13: 150025 | J13: 146444 | K13: =SUM(I13:J13) -> 296469 | N13: 10 | O13: DELTA | P13: 65636 | Q13: 65239 | R13: =SUM(P13:Q13) -> 130875 | S13: 72816 | T13: 73639 | U13: =SUM(S13:T13) -> 146455 | V13: 44182 | W13: 44866 | X13: =SUM(V13:W13) -> 89048
A14: 11 | B14: EBONYI | C14: 174923 | D14: 178623 | E14: =SUM(C14:D14) -> 353546 | F14: 184896 | G14: 189995 | H14: =SUM(F14:G14) -> 374891 | I14: 155841 | J14: 156308 | K14: =SUM(I14:J14) -> 312149 | N14: 11 | O14: EBONYI | P14: 5389 | Q14: 5414 | R14: =SUM(P14:Q14) -> 10803 | S14: 6826 | T14: 6943 | U14: =SUM(S14:T14) -> 13769 | V14: 17143 | W14: 18114 | X14: =SUM(V14:W14) -> 35257
A15: 12 | B15: EDO | C15: 167356 | D15: 165697 | E15: =SUM(C15:D15) -> 333053 | F15: 168030 | G15: 162875 | H15: =SUM(F15:G15) -> 330905 | I15: 125080 | J15: 120965 | K15: =SUM(I15:J15) -> 246045 | N15: 12 | O15: EDO | P15: 19082 | Q15: 19085 | R15: =SUM(P15:Q15) -> 38167 | S15: 19082 | T15: 19085 | U15: =SUM(S15:T15) -> 38167 | V15: 30777 | W15: 31342 | X15: =SUM(V15:W15) -> 62119
... A40: 37 | B40: ZAMFARA | C40: 281804 | D40: 148688 | E40: =SUM(C40:D40) -> 430492 | F40: 309283 | G40: 167832 | H40: =SUM(F40:G40) -> 477115 | I40: 310148 | J40: 168237 | K40: =SUM(I40:J40) -> 478385 | N40: 37 | O40: ZAMFARA | P40: 5815 | Q40: 4621 | R40: =SUM(P40:Q40) -> 10436 | S40: 10305 | T40: 8771 | U40: =SUM(S40:T40) -> 19076 | V40: 9179 | W40: 7731 | X40: =SUM(V40:W40) -> 16910
A41: 38 | B41: TOTAL | C41: =SUM(C4:C40) -> 11496946 | D41: =SUM(D4:D40) -> 10827559 | E41: =SUM(E4:E40) -> 22324505 | F41: =SUM(F4:F40) -> 11043844 | G41: =SUM(G4:G40) -> 9744346 | H41: =SUM(H4:H40) -> 20788190 | I41: =SUM(I4:I40) -> 11804167 | J41: =SUM(J4:J40) -> 10548159 | K41: =SUM(K4:K40) -> 22352326 | N41: 38 | O41: TOTAL | P41: =SUM(P4:P40) -> 1758843 | Q41: =SUM(Q4:Q40) -> 1717848 | R41: =SUM(R4:R40) -> 3476691 | S41: =SUM(S4:S40) -> 2349466 | T41: =SUM(T4:T40) -> 2304879 | U41: =SUM(U4:U40) -> 4654345 | V41: =SUM(V4:V40) -> 1631773 | W41: =SUM(W4:W40) -> 1607082 | X41: =SUM(X4:X40) -> 3238855

Sheet PRIMARY SCHOOL TEACHERS
A1: PUBLIC PRIMARY SCHOOL TEACHERS
A2: S/N | B2: STATE | C2: 2014 | F2: 2015 | I2: 2016
C3: MALE | D3: FEMALE | E3: TOTAL | F3: MALE | G3: FEMALE | H3: TOTAL | I3: MALE | J3: FEMALE | K3: TOTAL
A4: 1 | B4: ABIA | C4: 901 | D4: 6467 | E4: =SUM(C4:D4) -> 7368 | F4: 23165 | G4: 28731 | H4: =SUM(F4:G4) -> 51896 | I4: 45429 | J4: 50995 | K4: =SUM(I4:J4) -> 96424
A5: 2 | B5: ADAMAWA | C5: 13642 | D5: 13642 | E5: =SUM(C5:D5) -> 27284 | H5: =SUM(F5:G5) -> 0 | I5: 8239 | J5: 4471 | K5: =SUM(I5:J5) -> 12710
A6: 3 | B6: AKWA IBOM | C6: 4011 | D6: 10926 | E6: =SUM(C6:D6) -> 14937 | F6: 4210 | G6: 11474 | H6: =SUM(F6:G6) -> 15684 | I6: 2079 | J6: 6413 | K6: =SUM(I6:J6) -> 8492
A7: 4 | B7: ANAMBRA | C7: 434 | D7: 7182 | E7: =SUM(C7:D7) -> 7616 | F7: 1036 | G7: 8162 | H7: =SUM(F7:G7) -> 9198 | I7: 514 | J7: 7873 | K7: =SUM(I7:J7) -> 8387
A8: 5 | B8: BAUCHI | C8: 9974 | D8: 3720 | E8: =SUM(C8:D8) -> 13694 | F8: 10652 | G8: 4719 | H8: =SUM(F8:G8) -> 15371 | I8: 10888 | J8: 5135 | K8: =SUM(I8:J8) -> 16023
A9: 6 | B9: BAYELSA | C9: 2846 | D9: 2839 | E9: =SUM(C9:D9) -> 5685 | F9: 3053 | G9: 3296 | H9: =SUM(F9:G9) -> 6349 | I9: 2416 | J9: 2260 | K9: =SUM(I9:J9) -> 4676
A10: 7 | B10: BENUE | C10: 8567 | D10: 4404 | E10: =SUM(C10:D10) -> 12971 | F10: 8567 | G10: 4404 | H10: =SUM(F10:G10) -> 12971 | I10: 7168 | J10: 4819 | K10: =SUM(I10:J10) -> 11987
A11: 8 | B11: BORNO | E11: =SUM(C11:D11) -> 0 | H11: =SUM(F11:G11) -> 0 | I11: 6357 | J11: 3333 | K11: =SUM(I11:J11) -> 9690
A12: 9 | B12: CROSS RIVER | C12: 5273 | D12: 7002 | E12: =SUM(C12:D12) -> 12275 | F12: 5273 | G12: 7002 | H12: =SUM(F12:G12) -> 12275 | I12: 3661 | J12: 4383 | K12: =SUM(I12:J12) -> 8044
A13: 10 | B13: DELTA | C13: 4436 | D13: 11380 | E13: =SUM(C13:D13) -> 15816 | F13: 4951 | G13: 14464 | H13: =SUM(F13:G13) -> 19415 | I13: 2658 | J13: 6649 | K13: =SUM(I13:J13) -> 9307
A14: 11 | B14: EBONYI | C14: 3852 | D14: 5577 | E14: =SUM(C14:D14) -> 9429 | F14: 3570 | G14: 5218 | H14: =SUM(F14:G14) -> 8788 | I14: 3507 | J14: 5383 | K14: =SUM(I14:J14) -> 8890
A15: 12 | B15: EDO | C15: 2961 | D15: 3336 | E15: =SUM(C15:D15) -> 6297 | F15: 2985 | G15: 8167 | H15: =SUM(F15:G15) -> 11152 | I15: 1430 | J15: 4445 | K15: =SUM(I15:J15) -> 5875
A16: 13 | B16: EKITI | C16: 9989 | D16: 2224 | E16: =SUM(C16:D16) -> 12213 | F16: 9634 | G16: 2072 | H16: =SUM(F16:G16) -> 11706 | I16: 1795 | J16: 5611 | K16: =SUM(I16:J16) -> 7406
A17: 14 | B17: ENUGU | C17: 2794 | D17: 9189 | E17: =SUM(C17:D17) -> 11983 | F17: 2381 | G17: 8752 | H17: =SUM(F17:G17) -> 11133 | I17: 2075 | J17: 8340 | K17: =SUM(I17:J17) -> 10415
A18: 15 | B18: FCT | C18: 4751 | D18: 4687 | E18: =SUM(C18:D18) -> 9438 | F18: 6863 | G18: 6770 | H18: =SUM(F18:G18) -> 13633 | I18: 2695 | J18: 2413 | K18: =SUM(I18:J18) -> 5108
A19: 16 | B19: GOMBE | C19: 9638 | D19: 4942 | E19: =SUM(C19:D19) -> 14580 | F19: 4768 | G19: 13088 | H19: =SUM(F19:G19) -> 17856 | I19: 7925 | J19: 4706 | K19: =SUM(I19:J19) -> 12631
A20: 17 | B20: IMO | C20: 546 | D20: 7087 | E20: =SUM(C20:D20) -> 7633 | F20: 2657 | G20: 9741 | H20: =SUM(F20:G20) -> 12398 | I20: 1348 | J20: 9308 | K20: =SUM(I20:J20) -> 10656
A21: 18 | B21: JIGAWA | C21: 11956 | D21: 1611 | E21: =SUM(C21:D21) -> 13567 | F21: 10754 | G21: 1459 | H21: =SUM(F21:G21) -> 12213 | I21: 10660 | J21: 1748 | K21: =SUM(I21:J21) -> 12408
A22: 19 | B22: KADUNA | C22: 18681 | D22: 16923 | E22: =SUM(C22:D22) -> 35604 | F22: 16646 | G22: 16292 | H22: =SUM(F22:G22) -> 32938 | I22: 17551 | J22: 16453 | K22: =SUM(I22:J22) -> 34004
A23: 20 | B23: KANO | C23: 40913 | D23: 10334 | E23: =SUM(C23:D23) -> 51247 | F23: 35473 | G23: 10299 | H23: =SUM(F23:G23) -> 45772 | I23: 34928 | J23: 10874 | K23: =SUM(I23:J23) -> 45802
... A32: 29 | B32: ONDO | C32: 4445 | D32: 8687 | E32: =SUM(C32:D32) -> 13132 | F32: 4445 | G32: 8687 | H32: =SUM(F32:G32) -> 13132 | I32: 2389 | J32: 5152 | K32: =SUM(I32:J32) -> 7541
A33: 30 | B33: OSUN | C33: 3884 | D33: 8367 | E33: =SUM(C33:D33) -> 12251 | H33: =SUM(F33:G33) -> 0 | I33: 2359 | J33: 5652 | K33: =SUM(I33:J33) -> 8011
A34: 31 | B34: OYO | C34: 9225 | D34: 18771 | E34: =SUM(C34:D34) -> 27996 | F34: 5527 | G34: 13997 | H34: =SUM(F34:G34) -> 19524 | I34: 5290 | J34: 14244 | K34: =SUM(I34:J34) -> 19534
A35: 32 | B35: PLATEAU | C35: 9842 | D35: 7730 | E35: =SUM(C35:D35) -> 17572 | F35: 16827 | G35: 9541 | H35: =SUM(F35:G35) -> 26368 | I35: 8247 | J35: 5841 | K35: =SUM(I35:J35) -> 14088
A36: 33 | B36: RIVERS | E36: =SUM(C36:D36) -> 0 | F36: 2916 | G36: 5162 | H36: =SUM(F36:G36) -> 8078 | I36: 1992 | J36: 3665 | K36: =SUM(I36:J36) -> 5657
A37: 34 | B37: SOKOTO | C37: 11314 | D37: 1695 | E37: =SUM(C37:D37) -> 13009 | F37: 11996 | G37: 2166 | H37: =SUM(F37:G37) -> 14162 | I37: 11749 | J37: 2317 | K37: =SUM(I37:J37) -> 14066
A38: 35 | B38: TARABA | C38: 11398 | D38: 5322 | E38: =SUM(C38:D38) -> 16720 | F38: 10910 | G38: 5186 | H38: =SUM(F38:G38) -> 16096 | I38: 9390 | J38: 4229 | K38: =SUM(I38:J38) -> 13619
A39: 36 | B39: YOBE | C39: 6115 | D39: 2798 | E39: =SUM(C39:D39) -> 8913 | F39: 11000 | G39: 5000 | H39: =SUM(F39:G39) -> 16000 | I39: 5237 | J39: 4000 | K39: =SUM(I39:J39) -> 9237
A40: 37 | B40: ZAMFARA | E40: =SUM(C40:D40) -> 0 | F40: 7979 | G40: 1653 | H40: =SUM(F40:G40) -> 9632 | I40: 7756 | J40: 1559 | K40: =SUM(I40:J40) -> 9315
A41: 38 | B41: TOTAL | C41: =SUM(C4:C40) -> 284220 | D41: =SUM(D4:D40) -> 243983 | E41: =SUM(E4:E40) -> 528203 | F41: =SUM(F4:F40) -> 293019 | G41: =SUM(G4:G40) -> 274361 | H41: =SUM(H4:H40) -> 567380 | I41: =SUM(I4:I40) -> 283051 | J41: =SUM(J4:J40) -> 259482 | K41: =SUM(K4:K40) -> 542533

Sheet ENROLMENT IN JUNIOR SEC SCHL
A1: TOTAL ENROLMENT IN JUNIOR SECONDARY SCHOOL | M1: ENROLMENT IN PUBLIC JUNIOR SECONDARY SCHOOLS | Y1: ENROLMENT IN PRIVATE JUNIOR SECONDARY SCHOOLS
A2: S/N | B2: STATE | C2: 2014 | F2: 2015 | I2: 2016 | M2: 2014 | P2: 2015 | S2: 2016 | Y2: 2014 | AB2: 2015 | AE2: 2016
C3: PUBLIC | D3: PRIVATE | E3: TOTAL | F3: PUBLIC | G3: PRIVATE | H3: TOTAL | I3: PUBLIC | J3: PRIVATE | K3: TOTAL | M3: MALE | N3: FEMALE | O3: TOTAL | P3: MALE | Q3: FEMALE | R3: TOTAL | S3: MALE | T3: FEMALE | U3: TOTAL | Y3: MALE | Z3: FEMALE | AA3: TOTAL | AB3: MALE | AC3: FEMALE | AD3: TOTAL | AE3: MALE | AF3: FEMALE | AG3: TOTAL
A4: 1 | B4: ABIA | C4: 44718 | D4: 15586 | E4: =SUM(C4:D4) -> 60304 | F4: 44816 | G4: 22286 | H4: =SUM(F4:G4) -> 67102 | I4: 16535 | J4: 18807 | K4: =SUM(I4:J4) -> 35342 | M4: 19932 | N4: 24786 | O4: =SUM(M4:N4) -> 44718 | P4: 20207 | Q4: 24609 | R4: =SUM(P4:Q4) -> 44816 | S4: 6761 | T4: 9774 | U4: =SUM(S4:T4) -> 16535 | Y4: 7975 | Z4: 7611 | AA4: =SUM(Y4:Z4) -> 15586 | AB4: 11548 | AC4: 10738 | AD4: =SUM(AB4:AC4) -> 22286 | AE4: 8948 | AF4: 9859 | AG4: =SUM(AE4:AF4) -> 18807
A5: 2 | B5: ADAMAWA | C5: 107630 | D5: 7596 | E5: =SUM(C5:D5) -> 115226 | F5: 94101 | G5: 7690 | H5: =SUM(F5:G5) -> 101791 | I5: 96019 | J5: 7881 | K5: =SUM(I5:J5) -> 103900 | M5: 61195 | N5: 46435 | O5: =SUM(M5:N5) -> 107630 | P5: 51178 | Q5: 42923 | R5: =SUM(P5:Q5) -> 94101 | S5: 52222 | T5: 43797 | U5: =SUM(S5:T5) -> 96019 | Y5: 3930 | Z5: 3666 | AA5: =SUM(Y5:Z5) -> 7596 | AB5: 3949 | AC5: 3741 | AD5: =SUM(AB5:AC5) -> 7690 | AE5: 4064 | AF5: 3817 | AG5: =SUM(AE5:AF5) -> 7881
A6: 3 | B6: AKWA IBOM | C6: 335018 | D6: 15217 | E6: =SUM(C6:D6) -> 350235 | F6: 351770 | G6: 15981 | H6: =SUM(F6:G6) -> 367751 | I6: 168094 | J6: 12838 | K6: =SUM(I6:J6) -> 180932 | M6: 161653 | N6: 173365 | O6: =SUM(M6:N6) -> 335018 | P6: 169737 | Q6: 182033 | R6: =SUM(P6:Q6) -> 351770 | S6: 82440 | T6: 85654 | U6: =SUM(S6:T6) -> 168094 | Y6: 7386 | Z6: 7831 | AA6: =SUM(Y6:Z6) -> 15217 | AB6: 7751 | AC6: 8230 | AD6: =SUM(AB6:AC6) -> 15981 | AE6: 6060 | AF6: 6778 | AG6: =SUM(AE6:AF6) -> 12838
A7: 4 | B7: ANAMBRA | C7: 78259 | D7: 8579 | E7: =SUM(C7:D7) -> 86838 | F7: 121087 | G7: 8819 | H7: =SUM(F7:G7) -> 129906 | I7: 85510 | J7: 9102 | K7: =SUM(I7:J7) -> 94612 | M7: 36270 | N7: 41989 | O7: =SUM(M7:N7) -> 78259 | P7: 56888 | Q7: 64199 | R7: =SUM(P7:Q7) -> 121087 | S7: 41590 | T7: 43920 | U7: =SUM(S7:T7) -> 85510 | Y7: 4191 | Z7: 4388 | AA7: =SUM(Y7:Z7) -> 8579 | AB7: 4381 | AC7: 4438 | AD7: =SUM(AB7:AC7) -> 8819 | AE7: 4474 | AF7: 4628 | AG7: =SUM(AE7:AF7) -> 9102
A8: 5 | B8: BAUCHI | C8: 133664 | D8: 17635 | E8: =SUM(C8:D8) -> 151299 | F8: 149299 | G8: 19932 | H8: =SUM(F8:G8) -> 169231 | I8: 160306 | J8: 34043 | K8: =SUM(I8:J8) -> 194349 | M8: 81419 | N8: 52245 | O8: =SUM(M8:N8) -> 133664 | P8: 89502 | Q8: 59797 | R8: =SUM(P8:Q8) -> 149299 | S8: 95774 | T8: 64532 | U8: =SUM(S8:T8) -> 160306 | Y8: 7685 | Z8: 9950 | AA8: =SUM(Y8:Z8) -> 17635 | AB8: 9587 | AC8: 10345 | AD8: =SUM(AB8:AC8) -> 19932 | AE8: 16336 | AF8: 17707 | AG8: =SUM(AE8:AF8) -> 34043
A9: 6 | B9: BAYELSA | C9: 36234 | D9: 5562 | E9: =SUM(C9:D9) -> 41796 | F9: 40767 | G9: 1421 | H9: =SUM(F9:G9) -> 42188 | I9: 31158 | J9: 4193 | K9: =SUM(I9:J9) -> 35351 | M9: 18451 | N9: 17783 | O9: =SUM(M9:N9) -> 36234 | P9: 20823 | Q9: 19944 | R9: =SUM(P9:Q9) -> 40767 | S9: 15866 | T9: 15292 | U9: =SUM(S9:T9) -> 31158 | Y9: 2711 | Z9: 2851 | AA9: =SUM(Y9:Z9) -> 5562 | AB9: 691 | AC9: 730 | AD9: =SUM(AB9:AC9) -> 1421 | AE9: 2013 | AF9: 2180 | AG9: =SUM(AE9:AF9) -> 4193
A10: 7 | B10: BENUE | C10: 188486 | D10: 493109 | E10: =SUM(C10:D10) -> 681595 | F10: 225875 | G10: 192021 | H10: =SUM(F10:G10) -> 417896 | I10: 92563 | J10: 62703 | K10: =SUM(I10:J10) -> 155266 | M10: 105962 | N10: 82524 | O10: =SUM(M10:N10) -> 188486 | P10: 126771 | Q10: 99104 | R10: =SUM(P10:Q10) -> 225875 | S10: 50306 | T10: 42257 | U10: =SUM(S10:T10) -> 92563 | Y10: 277237 | Z10: 215872 | AA10: =SUM(Y10:Z10) -> 493109 | AB10: 107957 | AC10: 84064 | AD10: =SUM(AB10:AC10) -> 192021 | AE10: 33312 | AF10: 29391 | AG10: =SUM(AE10:AF10) -> 62703
A11: 8 | B11: BORNO | C11: 0 | D11: 0 | E11: =SUM(C11:D11) -> 0 | F11: 0 | G11: 0 | H11: =SUM(F11:G11) -> 0 | I11: 115546 | J11: 5710 | K11: =SUM(I11:J11) -> 121256 | M11: NA | N11: NA | O11: =SUM(M11:N11) -> 0 | P11: NA | Q11: NA | R11: =SUM(P11:Q11) -> 0 | S11: 63359 | T11: 52187 | U11: =SUM(S11:T11) -> 115546 | Y11: NA | Z11: NA | AA11: =SUM(Y11:Z11) -> 0 | AB11: NA | AC11: NA | AD11: =SUM(AB11:AC11) -> 0 | AE11: 2879 | AF11: 2831 | AG11: =SUM(AE11:AF11) -> 5710
A12: 9 | B12: CROSS RIVER | C12: 60578 | D12: 115151 | E12: =SUM(C12:D12) -> 175729 | F12: 60578 | G12: 115151 | H12: =SUM(F12:G12) -> 175729 | I12: 46777 | J12: 17535 | K12: =SUM(I12:J12) -> 64312 | M12: 28182 | N12: 32396 | O12: =SUM(M12:N12) -> 60578 | P12: 28182 | Q12: 32396 | R12: =SUM(P12:Q12) -> 60578 | S12: 24333 | T12: 22444 | U12: =SUM(S12:T12) -> 46777 | Y12: 58938 | Z12: 56213 | AA12: =SUM(Y12:Z12) -> 115151 | AB12: 58938 | AC12: 56213 | AD12: =SUM(AB12:AC12) -> 115151 | AE12: 8742 | AF12: 8793 | AG12: =SUM(AE12:AF12) -> 17535
A13: 10 | B13: DELTA | C13: 127077 | D13: 60898 | E13: =SUM(C13:D13) -> 187975 | F13: 153237 | G13: 66408 | H13: =SUM(F13:G13) -> 219645 | I13: 123083 | J13: 32045 | K13: =SUM(I13:J13) -> 155128 | M13: 63240 | N13: 63837 | O13: =SUM(M13:N13) -> 127077 | P13: 76655 | Q13: 76582 | R13: =SUM(P13:Q13) -> 153237 | S13: 64055 | T13: 59028 | U13: =SUM(S13:T13) -> 123083 | Y13: 29236 | Z13: 31662 | AA13: =SUM(Y13:Z13) -> 60898 | AB13: 31996 | AC13: 34412 | AD13: =SUM(AB13:AC13) -> 66408 | AE13: 15685 | AF13: 16360 | AG13: =SUM(AE13:AF13) -> 32045
A14: 11 | B14: EBONYI | C14: 66426 | D14: 7344 | E14: =SUM(C14:D14) -> 73770 | F14: 69653 | G14: 7344 | H14: =SUM(F14:G14) -> 76997 | I14: 69415 | J14: 27175 | K14: =SUM(I14:J14) -> 96590 | M14: 33184 | N14: 33242 | O14: =SUM(M14:N14) -> 66426 | P14: 33150 | Q14: 36503 | R14: =SUM(P14:Q14) -> 69653 | S14: 32680 | T14: 36735 | U14: =SUM(S14:T14) -> 69415 | Y14: 3420 | Z14: 3924 | AA14: =SUM(Y14:Z14) -> 7344 | AB14: 3420 | AC14: 3924 | AD14: =SUM(AB14:AC14) -> 7344 | AE14: 13169 | AF14: 14006 | AG14: =SUM(AE14:AF14) -> 27175
A15: 12 | B15: EDO | C15: 95731 | D15: 42110 | E15: =SUM(C15:D15) -> 137841 | F15: 121748 | G15: 51015 | H15: =SUM(F15:G15) -> 172763 | I15: 99203 | J15: 43380 | K15: =SUM(I15:J15) -> 142583 | M15: 48199 | N15: 47532 | O15: =SUM(M15:N15) -> 95731 | P15: 60382 | Q15: 61366 | R15: =SUM(P15:Q15) -> 121748 | S15: 49238 | T15: 49965 | U15: =SUM(S15:T15) -> 99203 | Y15: 21845 | Z15: 20265 | AA15: =SUM(Y15:Z15) -> 42110 | AB15: 25567 | AC15: 25448 | AD15: =SUM(AB15:AC15) -> 51015 | AE15: 21975 | AF15: 21405 | AG15: =SUM(AE15:AF15) -> 43380
A16: 13 | B16: EKITI | C16: 46460 | D16: 8763 | E16: =SUM(C16:D16) -> 55223 | F16: 49226 | G16: 8763 | H16: =SUM(F16:G16) -> 57989 | I16: 47809 | J16: 10868 | K16: =SUM(I16:J16) -> 58677 | M16: 25765 | N16: 20695 | O16: =SUM(M16:N16) -> 46460 | P16: 24656 | Q16: 24570 | R16: =SUM(P16:Q16) -> 49226 | S16: 23671 | T16: 24138 | U16: =SUM(S16:T16) -> 47809 | Y16: 4361 | Z16: 4402 | AA16: =SUM(Y16:Z16) -> 8763 | AB16: 4361 | AC16: 4402 | AD16: =SUM(AB16:AC16) -> 8763 | AE16: 5402 | AF16: 5466 | AG16: =SUM(AE16:AF16) -> 10868
A17: 14 | B17: ENUGU | C17: 91936 | D17: 48929 | E17: =SUM(C17:D17) -> 140865 | F17: 85035 | G17: 45441 | H17: =SUM(F17:G17) -> 130476 | I17: 81963 | J17: 39844 | K17: =SUM(I17:J17) -> 121807 | M17: 44744 | N17: 47192 | O17: =SUM(M17:N17) -> 91936 | P17: 37993 | Q17: 47042 | R17: =SUM(P17:Q17) -> 85035 | S17: 36714 | T17: 45249 | U17: =SUM(S17:T17) -> 81963 | Y17: 22488 | Z17: 26441 | AA17: =SUM(Y17:Z17) -> 48929 | AB17: 21626 | AC17: 23815 | AD17: =SUM(AB17:AC17) -> 45441 | AE17: 18834 | AF17: 21010 | AG17: =SUM(AE17:AF17) -> 39844
A18: 15 | B18: FCT | C18: 105342 | D18: 4683 | E18: =SUM(C18:D18) -> 110025 | F18: 122403 | G18: 17004 | H18: =SUM(F18:G18) -> 139407 | I18: 88841 | J18: 2486 | K18: =SUM(I18:J18) -> 91327 | M18: 51825 | N18: 53517 | O18: =SUM(M18:N18) -> 105342 | P18: 59575 | Q18: 62828 | R18: =SUM(P18:Q18) -> 122403 | S18: 43890 | T18: 44951 | U18: =SUM(S18:T18) -> 88841 | Y18: 2345 | Z18: 2338 | AA18: =SUM(Y18:Z18) -> 4683 | AB18: 8642 | AC18: 8362 | AD18: =SUM(AB18:AC18) -> 17004 | AE18: 1315 | AF18: 1171 | AG18: =SUM(AE18:AF18) -> 2486
A19: 16 | B19: GOMBE | C19: 76033 | D19: 57035 | E19: =SUM(C19:D19) -> 133068 | F19: 74467 | G19: 13483 | H19: =SUM(F19:G19) -> 87950 | I19: 74759 | J19: 17469 | K19: =SUM(I19:J19) -> 92228 | M19: 44407 | N19: 31626 | O19: =SUM(M19:N19) -> 76033 | P19: 42625 | Q19: 31842 | R19: =SUM(P19:Q19) -> 74467 | S19: 42554 | T19: 32205 | U19: =SUM(S19:T19) -> 74759 | Y19: 32511 | Z19: 24524 | AA19: =SUM(Y19:Z19) -> 57035 | AB19: 6472 | AC19: 7011 | AD19: =SUM(AB19:AC19) -> 13483 | AE19: 8674 | AF19: 8795 | AG19: =SUM(AE19:AF19) -> 17469
A20: 17 | B20: IMO | C20: 406302 | D20: 52896 | E20: =SUM(C20:D20) -> 459198 | F20: 424116 | G20: 51451 | H20: =SUM(F20:G20) -> 475567 | I20: 414521 | J20: 2796 | K20: =SUM(I20:J20) -> 417317 | M20: 203720 | N20: 202582 | O20: =SUM(M20:N20) -> 406302 | P20: 212280 | Q20: 211836 | R20: =SUM(P20:Q20) -> 424116 | S20: 207199 | T20: 207322 | U20: =SUM(S20:T20) -> 414521 | Y20: 25833 | Z20: 27063 | AA20: =SUM(Y20:Z20) -> 52896 | AB20: 25124 | AC20: 26327 | AD20: =SUM(AB20:AC20) -> 51451 | AE20: 1338 | AF20: 1458 | AG20: =SUM(AE20:AF20) -> 2796
A21: 18 | B21: JIGAWA | C21: 109379 | D21: 2383 | E21: =SUM(C21:D21) -> 111762 | F21: 105551 | G21: 2284 | H21: =SUM(F21:G21) -> 107835 | I21: 142456 | J21: 2701 | K21: =SUM(I21:J21) -> 145157 | M21: 68868 | N21: 40511 | O21: =SUM(M21:N21) -> 109379 | P21: 62163 | Q21: 43388 | R21: =SUM(P21:Q21) -> 105551 | S21: 83751 | T21: 58705 | U21: =SUM(S21:T21) -> 142456 | Y21: 1295 | Z21: 1088 | AA21: =SUM(Y21:Z21) -> 2383 | AB21: 1280 | AC21: 1004 | AD21: =SUM(AB21:AC21) -> 2284 | AE21: 1557 | AF21: 1144 | AG21: =SUM(AE21:AF21) -> 2701
A22: 19 | B22: KADUNA | C22: 162588 | D22: 51942 | E22: =SUM(C22:D22) -> 214530 | F22: 47542 | G22: 44465 | H22: =SUM(F22:G22) -> 92007 | I22: 257550 | J22: 48092 | K22: =SUM(I22:J22) -> 305642 | M22: 90495 | N22: 72093 | O22: =SUM(M22:N22) -> 162588 | P22: 24710 | Q22: 22832 | R22: =SUM(P22:Q22) -> 47542 | S22: 143078 | T22: 114472 | U22: =SUM(S22:T22) -> 257550 | Y22: 26155 | Z22: 25787 | AA22: =SUM(Y22:Z22) -> 51942 | AB22: 22783 | AC22: 21682 | AD22: =SUM(AB22:AC22) -> 44465 | AE22: 24517 | AF22: 23575 | AG22: =SUM(AE22:AF22) -> 48092
A23: 20 | B23: KANO | C23: 292673 | D23: 51599 | E23: =SUM(C23:D23) -> 344272 | F23: 371558 | G23: 64936 | H23: =SUM(F23:G23) -> 436494 | I23: 378402 | J23: 54069 | K23: =SUM(I23:J23) -> 432471 | M23: 173722 | N23: 118951 | O23: =SUM(M23:N23) -> 292673 | P23: 214783 | Q23: 156775 | R23: =SUM(P23:Q23) -> 371558 | S23: 212179 | T23: 166223 | U23: =SUM(S23:T23) -> 378402 | Y23: 22765 | Z23: 28834 | AA23: =SUM(Y23:Z23) -> 51599 | AB23: 27586 | AC23: 37350 | AD23: =SUM(AB23:AC23) -> 64936 | AE23: 23731 | AF23: 30338 | AG23: =SUM(AE23:AF23) -> 54069
A24: 21 | B24: KATSINA | C24: 196762 | D24: 18653 | E24: =SUM(C24:D24) -> 215415 | F24: 225435 | G24: 22066 | H24: =SUM(F24:G24) -> 247501 | I24: 237299 | J24: 28883 | K24: =SUM(I24:J24) -> 266182 | M24: 111279 | N24: 85483 | O24: =SUM(M24:N24) -> 196762 | P24: 132652 | Q24: 92783 | R24: =SUM(P24:Q24) -> 225435 | S24: 139106 | T24: 98193 | U24: =SUM(S24:T24) -> 237299 | Y24: 10258 | Z24: 8395 | AA24: =SUM(Y24:Z24) -> 18653 | AB24: 12103 | AC24: 9963 | AD24: =SUM(AB24:AC24) -> 22066 | AE24: 15562 | AF24: 13321 | AG24: =SUM(AE24:AF24) -> 28883
A25: 22 | B25: KEBBI | C25: 143656 | D25: 0 | E25: =SUM(C25:D25) -> 143656 | F25: 145914 | G25: 0 | H25: =SUM(F25:G25) -> 145914 | I25: 111404 | J25: 5448 | K25: =SUM(I25:J25) -> 116852 | M25: 96481 | N25: 47175 | O25: =SUM(M25:N25) -> 143656 | P25: 99032 | Q25: 46882 | R25: =SUM(P25:Q25) -> 145914 | S25: 72439 | T25: 38965 | U25: =SUM(S25:T25) -> 111404 | Y25: NA | Z25: NA | AA25: =SUM(Y25:Z25) -> 0 | AB25: NA | AC25: NA | AD25: =SUM(AB25:AC25) -> 0 | AE25: 2927 | AF25: 2521 | AG25: =SUM(AE25:AF25) -> 5448
A26: 23 | B26: KOGI | C26: 67186 | D26: 18118 | E26: =SUM(C26:D26) -> 85304 | F26: 68532 | G26: 18118 | H26: =SUM(F26:G26) -> 86650 | I26: 46382 | J26: 19071 | K26: =SUM(I26:J26) -> 65453 | M26: 34474 | N26: 32712 | O26: =SUM(M26:N26) -> 67186 | P26: 35167 | Q26: 33365 | R26: =SUM(P26:Q26) -> 68532 | S26: 24116 | T26: 22266 | U26: =SUM(S26:T26) -> 46382 | Y26: 8934 | Z26: 9184 | AA26: =SUM(Y26:Z26) -> 18118 | AB26: 8934 | AC26: 9184 | AD26: =SUM(AB26:AC26) -> 18118 | AE26: 9404 | AF26: 9667 | AG26: =SUM(AE26:AF26) -> 19071
A27: 24 | B27: KWARA | C27: 16264 | D27: 16204 | E27: =SUM(C27:D27) -> 32468 | F27: 17369 | G27: 17369 | H27: =SUM(F27:G27) -> 34738 | I27: 111598 | J27: 17529 | K27: =SUM(I27:J27) -> 129127 | M27: 8508 | N27: 7756 | O27: =SUM(M27:N27) -> 16264 | P27: 8948 | Q27: 8421 | R27: =SUM(P27:Q27) -> 17369 | S27: 56903 | T27: 54695 | U27: =SUM(S27:T27) -> 111598 | Y27: 8508 | Z27: 7696 | AA27: =SUM(Y27:Z27) -> 16204 | AB27: 8948 | AC27: 8421 | AD27: =SUM(AB27:AC27) -> 17369 | AE27: 9036 | AF27: 8493 | AG27: =SUM(AE27:AF27) -> 17529
A28: 25 | B28: LAGOS | C28: 317612 | D28: 0 | E28: =SUM(C28:D28) -> 317612 | F28: 316419 | G28: 145181 | H28: =SUM(F28:G28) -> 461600 | I28: 326866 | J28: 145181 | K28: =SUM(I28:J28) -> 472047 | M28: 156237 | N28: 161375 | O28: =SUM(M28:N28) -> 317612 | P28: 152612 | Q28: 163807 | R28: =SUM(P28:Q28) -> 316419 | S28: 161659 | T28: 165207 | U28: =SUM(S28:T28) -> 326866 | Y28: NA | Z28: NA | AA28: =SUM(Y28:Z28) -> 0 | AB28: 70725 | AC28: 74456 | AD28: =SUM(AB28:AC28) -> 145181 | AE28: 70725 | AF28: 74456 | AG28: =SUM(AE28:AF28) -> 145181
A29: 26 | B29: NASARAWA | C29: 25072 | D29: 0 | E29: =SUM(C29:D29) -> 25072 | F29: 62583 | G29: 25072 | H29: =SUM(F29:G29) -> 87655 | I29: 81382 | J29: 18740 | K29: =SUM(I29:J29) -> 100122 | M29: 12771 | N29: 12301 | O29: =SUM(M29:N29) -> 25072 | P29: 36197 | Q29: 26386 | R29: =SUM(P29:Q29) -> 62583 | S29: 44078 | T29: 37304 | U29: =SUM(S29:T29) -> 81382 | Y29: NA | Z29: NA | AA29: =SUM(Y29:Z29) -> 0 | AB29: 12771 | AC29: 12301 | AD29: =SUM(AB29:AC29) -> 25072 | AE29: 9611 | AF29: 9129 | AG29: =SUM(AE29:AF29) -> 18740
A30: 27 | B30: NIGER | C30: 164693 | D30: 19937 | E30: =SUM(C30:D30) -> 184630 | F30: 168656 | G30: 10472 | H30: =SUM(F30:G30) -> 179128 | I30: 187027 | J30: 30349 | K30: =SUM(I30:J30) -> 217376 | M30: 99745 | N30: 64948 | O30: =SUM(M30:N30) -> 164693 | P30: 101290 | Q30: 67366 | R30: =SUM(P30:Q30) -> 168656 | S30: 108841 | T30: 78186 | U30: =SUM(S30:T30) -> 187027 | Y30: 9903 | Z30: 10034 | AA30: =SUM(Y30:Z30) -> 19937 | AB30: 6184 | AC30: 4288 | AD30: =SUM(AB30:AC30) -> 10472 | AE30: 15414 | AF30: 14935 | AG30: =SUM(AE30:AF30) -> 30349
A31: 28 | B31: OGUN | C31: 208582 | D31: 61951 | E31: =SUM(C31:D31) -> 270533 | F31: 217242 | G31: 75588 | H31: =SUM(F31:G31) -> 292830 | I31: 195956 | J31: 72751 | K31: =SUM(I31:J31) -> 268707 | M31: 106168 | N31: 102414 | O31: =SUM(M31:N31) -> 208582 | P31: 109507 | Q31: 107735 | R31: =SUM(P31:Q31) -> 217242 | S31: 98655 | T31: 97301 | U31: =SUM(S31:T31) -> 195956 | Y31: 30761 | Z31: 31190 | AA31: =SUM(Y31:Z31) -> 61951 | AB31: 37214 | AC31: 38374 | AD31: =SUM(AB31:AC31) -> 75588 | AE31: 36438 | AF31: 36313 | AG31: =SUM(AE31:AF31) -> 72751
A32: 29 | B32: ONDO | C32: 134054 | D32: 66426 | E32: =SUM(C32:D32) -> 200480 | F32: 132800 | G32: 83671 | H32: =SUM(F32:G32) -> 216471 | I32: 104952 | J32: 14954 | K32: =SUM(I32:J32) -> 119906 | M32: 67490 | N32: 66564 | O32: =SUM(M32:N32) -> 134054 | P32: 67469 | Q32: 65331 | R32: =SUM(P32:Q32) -> 132800 | S32: 51726 | T32: 53226 | U32: =SUM(S32:T32) -> 104952 | Y32: 33573 | Z32: 32853 | AA32: =SUM(Y32:Z32) -> 66426 | AB32: 43284 | AC32: 40387 | AD32: =SUM(AB32:AC32) -> 83671 | AE32: 7548 | AF32: 7406 | AG32: =SUM(AE32:AF32) -> 14954
A33: 30 | B33: OSUN | C33: 138151 | D33: 0 | E33: =SUM(C33:D33) -> 138151 | F33: 0 | G33: 25679 | H33: =SUM(F33:G33) -> 25679 | I33: 117026 | J33: 9340 | K33: =SUM(I33:J33) -> 126366 | M33: 69386 | N33: 68765 | O33: =SUM(M33:N33) -> 138151 | P33: NA | Q33: NA | R33: =SUM(P33:Q33) -> 0 | S33: 59264 | T33: 57762 | U33: =SUM(S33:T33) -> 117026 | Y33: NA | Z33: NA | AA33: =SUM(Y33:Z33) -> 0 | AB33: 12398 | AC33: 13281 | AD33: =SUM(AB33:AC33) -> 25679 | AE33: 4612 | AF33: 4728 | AG33: =SUM(AE33:AF33) -> 9340
A34: 31 | B34: OYO | C34: 240584 | D34: 48060 | E34: =SUM(C34:D34) -> 288644 | F34: 256517 | G34: 74778 | H34: =SUM(F34:G34) -> 331295 | I34: 227659 | J34: 67921 | K34: =SUM(I34:J34) -> 295580 | M34: 119567 | N34: 121017 | O34: =SUM(M34:N34) -> 240584 | P34: 129986 | Q34: 126531 | R34: =SUM(P34:Q34) -> 256517 | S34: 113324 | T34: 114335 | U34: =SUM(S34:T34) -> 227659 | Y34: 23187 | Z34: 24873 | AA34: =SUM(Y34:Z34) -> 48060 | AB34: 36213 | AC34: 38565 | AD34: =SUM(AB34:AC34) -> 74778 | AE34: 33426 | AF34: 34495 | AG34: =SUM(AE34:AF34) -> 67921
A35: 32 | B35: PLATEAU | C35: 59848 | D35: 44550 | E35: =SUM(C35:D35) -> 104398 | F35: 69662 | G35: 46600 | H35: =SUM(F35:G35) -> 116262 | I35: 55830 | J35: 44365 | K35: =SUM(I35:J35) -> 100195 | M35: 32514 | N35: 27334 | O35: =SUM(M35:N35) -> 59848 | P35: 37342 | Q35: 32320 | R35: =SUM(P35:Q35) -> 69662 | S35: 29694 | T35: 26136 | U35: =SUM(S35:T35) -> 55830 | Y35: 22988 | Z35: 21562 | AA35: =SUM(Y35:Z35) -> 44550 | AB35: 24149 | AC35: 22451 | AD35: =SUM(AB35:AC35) -> 46600 | AE35: 22653 | AF35: 21712 | AG35: =SUM(AE35:AF35) -> 44365
A36: 33 | B36: RIVERS | C36: 126255 | D36: 29748 | E36: =SUM(C36:D36) -> 156003 | F36: 120503 | G36: 29748 | H36: =SUM(F36:G36) -> 150251 | I36: 85577 | J36: 29748 | K36: =SUM(I36:J36) -> 115325 | M36: 59751 | N36: 66504 | O36: =SUM(M36:N36) -> 126255 | P36: 57563 | Q36: 62940 | R36: =SUM(P36:Q36) -> 120503 | S36: 41053 | T36: 44524 | U36: =SUM(S36:T36) -> 85577 | Y36: 14580 | Z36: 15168 | AA36: =SUM(Y36:Z36) -> 29748 | AB36: 14580 | AC36: 15168 | AD36: =SUM(AB36:AC36) -> 29748 | AE36: 14580 | AF36: 15168 | AG36: =SUM(AE36:AF36) -> 29748
A37: 34 | B37: SOKOTO | C37: 85304 | D37: 5183 | E37: =SUM(C37:D37) -> 90487 | F37: 83799 | G37: 7270 | H37: =SUM(F37:G37) -> 91069 | I37: 100019 | J37: 7228 | K37: =SUM(I37:J37) -> 107247 | M37: 55069 | N37: 30235 | O37: =SUM(M37:N37) -> 85304 | P37: 54752 | Q37: 29047 | R37: =SUM(P37:Q37) -> 83799 | S37: 64453 | T37: 35566 | U37: =SUM(S37:T37) -> 100019 | Y37: 2806 | Z37: 2377 | AA37: =SUM(Y37:Z37) -> 5183 | AB37: 3980 | AC37: 3290 | AD37: =SUM(AB37:AC37) -> 7270 | AE37: 3559 | AF37: 3669 | AG37: =SUM(AE37:AF37) -> 7228
A38: 35 | B38: TARABA | C38: 77484 | D38: 15716 | E38: =SUM(C38:D38) -> 93200 | F38: 46603 | G38: 25042 | H38: =SUM(F38:G38) -> 71645 | I38: 42582 | J38: 74007 | K38: =SUM(I38:J38) -> 116589 | M38: 47469 | N38: 30015 | O38: =SUM(M38:N38) -> 77484 | P38: 27224 | Q38: 19379 | R38: =SUM(P38:Q38) -> 46603 | S38: 25209 | T38: 17373 | U38: =SUM(S38:T38) -> 42582 | Y38: 8696 | Z38: 7020 | AA38: =SUM(Y38:Z38) -> 15716 | AB38: 13414 | AC38: 11628 | AD38: =SUM(AB38:AC38) -> 25042 | AE38: 42162 | AF38: 31845 | AG38: =SUM(AE38:AF38) -> 74007
A39: 36 | B39: YOBE | C39: 123924 | D39: 12756 | E39: =SUM(C39:D39) -> 136680 | F39: 68199 | G39: 7744 | H39: =SUM(F39:G39) -> 75943 | I39: 68959 | J39: 5693 | K39: =SUM(I39:J39) -> 74652 | M39: 73268 | N39: 50656 | O39: =SUM(M39:N39) -> 123924 | P39: 43305 | Q39: 24894 | R39: =SUM(P39:Q39) -> 68199 | S39: 40209 | T39: 28750 | U39: =SUM(S39:T39) -> 68959 | Y39: 5884 | Z39: 6872 | AA39: =SUM(Y39:Z39) -> 12756 | AB39: 3411 | AC39: 4333 | AD39: =SUM(AB39:AC39) -> 7744 | AE39: 2434 | AF39: 3259 | AG39: =SUM(AE39:AF39) -> 5693
A40: 37 | B40: ZAMFARA | C40: 85088 | D40: 3722 | E40: =SUM(C40:D40) -> 88810 | F40: 92090 | G40: 4846 | H40: =SUM(F40:G40) -> 96936 | I40: 96289 | J40: 6725 | K40: =SUM(I40:J40) -> 103014 | M40: 55649 | N40: 29439 | O40: =SUM(M40:N40) -> 85088 | P40: 60471 | Q40: 31619 | R40: =SUM(P40:Q40) -> 92090 | S40: 64667 | T40: 31622 | U40: =SUM(S40:T40) -> 96289 | Y40: 2026 | Z40: 1696 | AA40: =SUM(Y40:Z40) -> 3722 | AB40: 2365 | AC40: 2481 | AD40: =SUM(AB40:AC40) -> 4846 | AE40: 3374 | AF40: 3351 | AG40: =SUM(AE40:AF40) -> 6725
...

Sheet NO OF TEACHERS IN JUN SEC SCHL
A1: NUMBER OF TEACHERS IN JUNIOR SECONDARY SCHOOL
A2: S/N | B2: State | C2: 2014 | I2: 2015 | O2: 2016
C3: PUBLIC | F3: PRIVATE | I3: PUBLIC | L3: PRIVATE | O3: PUBLIC | R3: PRIVATE
C4: MALE | D4: FEMALE | E4: TOTAL | F4: MALE | G4: FEMALE | H4: TOTAL | I4: MALE | J4: FEMALE | K4: TOTAL | L4: MALE | M4: FEMALE | N4: TOTAL | O4: MALE | P4: FEMALE | Q4: TOTAL | R4: MALE | S4: FEMALE | T4: TOTAL
A5: 1 | B5: ABIA | C5: 1186 | D5: 2789 | E5: =SUM(C5:D5) -> 3975 | F5: 710 | G5: 810 | H5: =SUM(F5:G5) -> 1520 | I5: 1163 | J5: 2828 | K5: =SUM(I5:J5) -> 3991 | L5: 1026 | M5: 1114 | N5: =SUM(L5:M5) -> 2140 | O5: 403 | P5: 1241 | Q5: =SUM(O5:P5) -> 1644 | R5: 1533 | S5: 2012 | T5: =SUM(R5:S5) -> 3545
A6: 2 | B6: ADAMAWA | C6: 2260 | D6: 905 | E6: =SUM(C6:D6) -> 3165 | F6: 780 | G6: 571 | H6: =SUM(F6:G6) -> 1351 | I6: 2260 | J6: 905 | K6: =SUM(I6:J6) -> 3165 | L6: 780 | M6: 571 | N6: =SUM(L6:M6) -> 1351 | O6: 2814 | P6: 1468 | Q6: =SUM(O6:P6) -> 4282 | R6: 803 | S6: 586 | T6: =SUM(R6:S6) -> 1389
A7: 3 | B7: AKWA IBOM | C7: NA | D7: NA | E7: =SUM(C7:D7) -> 0 | F7: NA | G7: NA | H7: =SUM(F7:G7) -> 0 | I7: NA | J7: NA | K7: =SUM(I7:J7) -> 0 | L7: NA | M7: NA | N7: =SUM(L7:M7) -> 0 | O7: 1779 | P7: 1492 | Q7: =SUM(O7:P7) -> 3271 | R7: 1196 | S7: 820 | T7: =SUM(R7:S7) -> 2016
A8: 4 | B8: ANAMBRA | C8: 595 | D8: 2820 | E8: =SUM(C8:D8) -> 3415 | F8: 1481 | G8: 1637 | H8: =SUM(F8:G8) -> 3118 | I8: 687 | J8: 3115 | K8: =SUM(I8:J8) -> 3802 | L8: 1628 | M8: 1585 | N8: =SUM(L8:M8) -> 3213 | O8: 1102 | P8: 5513 | Q8: =SUM(O8:P8) -> 6615 | R8: 1548 | S8: 1501 | T8: =SUM(R8:S8) -> 3049
A9: 5 | B9: BAUCHI | C9: 4184 | D9: 978 | E9: =SUM(C9:D9) -> 5162 | F9: NA | G9: NA | H9: =SUM(F9:G9) -> 0 | I9: 6084 | J9: 1496 | K9: =SUM(I9:J9) -> 7580 | L9: NA | M9: NA | N9: =SUM(L9:M9) -> 0 | O9: 6693 | P9: 1974 | Q9: =SUM(O9:P9) -> 8667 | R9: NA | S9: NA | T9: =SUM(R9:S9) -> 0
A10: 6 | B10: BAYELSA | C10: 703 | D10: 708 | E10: =SUM(C10:D10) -> 1411 | F10: 285 | G10: 323 | H10: =SUM(F10:G10) -> 608 | I10: 766 | J10: 701 | K10: =SUM(I10:J10) -> 1467 | L10: 269 | M10: 315 | N10: =SUM(L10:M10) -> 584 | O10: 685 | P10: 591 | Q10: =SUM(O10:P10) -> 1276 | R10: 556 | S10: 515 | T10: =SUM(R10:S10) -> 1071
A11: 7 | B11: BENUE | C11: 7631 | D11: 5448 | E11: =SUM(C11:D11) -> 13079 | F11: 5484 | G11: 2177 | H11: =SUM(F11:G11) -> 7661 | I11: NA | J11: NA | K11: =SUM(I11:J11) -> 0 | L11: NA | M11: NA | N11: =SUM(L11:M11) -> 0 | O11: 4908 | P11: 1411 | Q11: =SUM(O11:P11) -> 6319 | R11: 6658 | S11: 2128 | T11: =SUM(R11:S11) -> 8786
A12: 8 | B12: BORNO | C12: NA | D12: NA | E12: =SUM(C12:D12) -> 0 | F12: NA | G12: NA | H12: =SUM(F12:G12) -> 0 | I12: NA | J12: NA | K12: =SUM(I12:J12) -> 0 | L12: NA | M12: NA | N12: =SUM(L12:M12) -> 0 | O12: 2000 | P12: 1005 | Q12: =SUM(O12:P12) -> 3005 | R12: 518 | S12: 243 | T12: =SUM(R12:S12) -> 761
A13: 9 | B13: CROSS RIVER | C13: 2011 | D13: 2229 | E13: =SUM(C13:D13) -> 4240 | F13: 1413 | G13: 1884 | H13: =SUM(F13:G13) -> 3297 | I13: 2011 | J13: 2229 | K13: =SUM(I13:J13) -> 4240 | L13: 1413 | M13: 1884 | N13: =SUM(L13:M13) -> 3297 | O13: 1252 | P13: 741 | Q13: =SUM(O13:P13) -> 1993 | R13: 1958 | S13: 1346 | T13: =SUM(R13:S13) -> 3304
A14: 10 | B14: DELTA | C14: 6921 | D14: 8632 | E14: =SUM(C14:D14) -> 15553 | F14: 3219 | G14: 3940 | H14: =SUM(F14:G14) -> 7159 | I14: 6921 | J14: 8632 | K14: =SUM(I14:J14) -> 15553 | L14: NA | M14: NA | N14: =SUM(L14:M14) -> 0 | O14: 1937 | P14: 2510 | Q14: =SUM(O14:P14) -> 4447 | R14: 3308 | S14: 3587 | T14: =SUM(R14:S14) -> 6895
A15: 11 | B15: EBONYI | C15: 1370 | D15: 1006 | E15: =SUM(C15:D15) -> 2376 | F15: 914 | G15: 890 | H15: =SUM(F15:G15) -> 1804 | I15: NA | J15: NA | K15: =SUM(I15:J15) -> 0 | L15: NA | M15: NA | N15: =SUM(L15:M15) -> 0 | O15: 1375 | P15: 1009 | Q15: =SUM(O15:P15) -> 2384 | R15: NA | S15: NA | T15: =SUM(R15:S15) -> 0
A16: 12 | B16: EDO | C16: 1759 | D16: 1902 | E16: =SUM(C16:D16) -> 3661 | F16: 11221 | G16: 13340 | H16: =SUM(F16:G16) -> 24561 | I16: 773 | J16: 2778 | K16: =SUM(I16:J16) -> 3551 | L16: NA | M16: NA | N16: =SUM(L16:M16) -> 0 | O16: 522 | P16: 731 | Q16: =SUM(O16:P16) -> 1253 | R16: 4593 | S16: 3904 | T16: =SUM(R16:S16) -> 8497
A17: 13 | B17: EKITI | C17: 3253 | D17: 4164 | E17: =SUM(C17:D17) -> 7417 | F17: NA | G17: NA | H17: =SUM(F17:G17) -> 0 | I17: 3310 | J17: 4286 | K17: =SUM(I17:J17) -> 7596 | L17: 1567 | M17: 1327 | N17: =SUM(L17:M17) -> 2894 | O17: 1249 | P17: 2294 | Q17: =SUM(O17:P17) -> 3543 | R17: NA | S17: NA | T17: =SUM(R17:S17) -> 0
A18: 14 | B18: ENUGU | C18: 3748 | D18: 8125 | E18: =SUM(C18:D18) -> 11873 | F18: 4547 | G18: 14724 | H18: =SUM(F18:G18) -> 19271 | I18: 1136 | J18: 4195 | K18: =SUM(I18:J18) -> 5331 | L18: 4703 | M18: 15946 | N18: =SUM(L18:M18) -> 20649 | O18: 1020 | P18: 3927 | Q18: =SUM(O18:P18) -> 4947 | R18: 4654 | S18: 17425 | T18: =SUM(R18:S18) -> 22079
A19: 15 | B19: FCT | C19: 2135 | D19: 2941 | E19: =SUM(C19:D19) -> 5076 | F19: 1997 | G19: 1571 | H19: =SUM(F19:G19) -> 3568 | I19: 2219 | J19: 3059 | K19: =SUM(I19:J19) -> 5278 | L19: 2077 | M19: 1633 | N19: =SUM(L19:M19) -> 3710 | O19: 1222 | P19: 1441 | Q19: =SUM(O19:P19) -> 2663 | R19: 341 | S19: 299 | T19: =SUM(R19:S19) -> 640
A20: 16 | B20: GOMBE | C20: 1809 | D20: 648 | E20: =SUM(C20:D20) -> 2457 | F20: 297 | G20: 136 | H20: =SUM(F20:G20) -> 433 | I20: NA | J20: NA | K20: =SUM(I20:J20) -> 0 | L20: NA | M20: NA | N20: =SUM(L20:M20) -> 0 | O20: 2077 | P20: 687 | Q20: =SUM(O20:P20) -> 2764 | R20: NA | S20: NA | T20: =SUM(R20:S20) -> 0
A21: 17 | B21: IMO | C21: 945 | D21: 2185 | E21: =SUM(C21:D21) -> 3130 | F21: 807 | G21: 2319 | H21: =SUM(F21:G21) -> 3126 | I21: 954 | J21: 2207 | K21: =SUM(I21:J21) -> 3161 | L21: 818 | M21: 2342 | N21: =SUM(L21:M21) -> 3160 | O21: 849 | P21: 1875 | Q21: =SUM(O21:P21) -> 2724 | R21: 209 | S21: 200 | T21: =SUM(R21:S21) -> 409
A22: 18 | B22: JIGAWA | C22: 3708 | D22: 304 | E22: =SUM(C22:D22) -> 4012 | F22: NA | G22: NA | H22: =SUM(F22:G22) -> 0 | I22: NA | J22: NA | K22: =SUM(I22:J22) -> 0 | L22: NA | M22: NA | N22: =SUM(L22:M22) -> 0 | O22: 3594 | P22: 366 | Q22: =SUM(O22:P22) -> 3960 | R22: NA | S22: NA | T22: =SUM(R22:S22) -> 0
A23: 19 | B23: KADUNA | C23: 3519 | D23: 2164 | E23: =SUM(C23:D23) -> 5683 | F23: 2625 | G23: 1689 | H23: =SUM(F23:G23) -> 4314 | I23: 3333 | J23: 1968 | K23: =SUM(I23:J23) -> 5301 | L23: NA | M23: NA | N23: =SUM(L23:M23) -> 0 | O23: 3659 | P23: 2192 | Q23: =SUM(O23:P23) -> 5851 | R23: 9231 | S23: 10421 | T23: =SUM(R23:S23) -> 19652
A24: 20 | B24: KANO | C24: 2480 | D24: 510 | E24: =SUM(C24:D24) -> 2990 | F24: 8329 | G24: 7292 | H24: =SUM(F24:G24) -> 15621 | I24: 2464 | J24: 556 | K24: =SUM(I24:J24) -> 3020 | L24: 9335 | M24: 7903 | N24: =SUM(L24:M24) -> 17238 | O24: 6995 | P24: 2112 | Q24: =SUM(O24:P24) -> 9107 | R24: NA | S24: NA | T24: =SUM(R24:S24) -> 0
A25: 21 | B25: KATSINA | C25: 2636 | D25: 672 | E25: =SUM(C25:D25) -> 3308 | F25: NA | G25: NA | H25: =SUM(F25:G25) -> 0 | I25: 2825 | J25: 765 | K25: =SUM(I25:J25) -> 3590 | L25: NA | M25: NA | N25: =SUM(L25:M25) -> 0 | O25: 2790 | P25: 726 | Q25: =SUM(O25:P25) -> 3516 | R25: NA | S25: NA | T25: =SUM(R25:S25) -> 0
A26: 22 | B26: KEBBI | C26: 1541 | D26: 653 | E26: =SUM(C26:D26) -> 2194 | F26: NA | G26: NA | H26: =SUM(F26:G26) -> 0 | I26: 2173 | J26: 652 | K26: =SUM(I26:J26) -> 2825 | L26: NA | M26: NA | N26: =SUM(L26:M26) -> 0 | O26: 2030 | P26: 642 | Q26: =SUM(O26:P26) -> 2672 | R26: NA | S26: NA | T26: =SUM(R26:S26) -> 0
A27: 23 | B27: KOGI | C27: 2363 | D27: 1958 | E27: =SUM(C27:D27) -> 4321 | F27: NA | G27: NA | H27: =SUM(F27:G27) -> 0 | I27: 2291 | J27: 1898 | K27: =SUM(I27:J27) -> 4189 | L27: NA | M27: NA | N27: =SUM(L27:M27) -> 0 | O27: 1966 | P27: 1286 | Q27: =SUM(O27:P27) -> 3252 | R27: 2170 | S27: 1508 | T27: =SUM(R27:S27) -> 3678
A28: 24 | B28: KWARA | C28: 8276 | D28: 3440 | E28: =SUM(C28:D28) -> 11716 | F28: 5123 | G28: 8022 | H28: =SUM(F28:G28) -> 13145 | I28: 3479 | J28: 4765 | K28: =SUM(I28:J28) -> 8244 | L28: NA | M28: NA | N28: =SUM(L28:M28) -> 0 | O28: 3296 | P28: 4607 | Q28: =SUM(O28:P28) -> 7903 | R28: 5991 | S28: 9033 | T28: =SUM(R28:S28) -> 15024
A29: 25 | B29: LAGOS | C29: NA | D29: NA | E29: =SUM(C29:D29) -> 0 | F29: NA | G29: NA | H29: =SUM(F29:G29) -> 0 | I29: 2787 | J29: 6641 | K29: =SUM(I29:J29) -> 9428 | L29: NA | M29: NA | N29: =SUM(L29:M29) -> 0 | O29: 2655 | P29: 6291 | Q29: =SUM(O29:P29) -> 8946 | R29: NA | S29: NA | T29: =SUM(R29:S29) -> 0
A30: 26 | B30: NASARAWA | C30: NA | D30: NA | E30: =SUM(C30:D30) -> 0 | F30: NA | G30: NA | H30: =SUM(F30:G30) -> 0 | I30: 1035 | J30: 564 | K30: =SUM(I30:J30) -> 1599 | L30: NA | M30: NA | N30: =SUM(L30:M30) -> 0 | O30: 2698 | P30: 1029 | Q30: =SUM(O30:P30) -> 3727 | R30: 2801 | S30: 1520 | T30: =SUM(R30:S30) -> 4321
A31: 27 | B31: NIGER | C31: 2764 | D31: 1555 | E31: =SUM(C31:D31) -> 4319 | F31: NA | G31: NA | H31: =SUM(F31:G31) -> 0 | I31: 2846 | J31: 1416 | K31: =SUM(I31:J31) -> 4262 | L31: 2613 | M31: 2950 | N31: =SUM(L31:M31) -> 5563 | O31: 2442 | P31: 1418 | Q31: =SUM(O31:P31) -> 3860 | R31: NA | S31: NA | T31: =SUM(R31:S31) -> 0
A32: 28 | B32: OGUN | C32: 2314 | D32: 3969 | E32: =SUM(C32:D32) -> 6283 | F32: 5148 | G32: 4628 | H32: =SUM(F32:G32) -> 9776 | I32: 2503 | J32: 4363 | K32: =SUM(I32:J32) -> 6866 | L32: 7934 | M32: 9581 | N32: =SUM(L32:M32) -> 17515 | O32: 1985 | P32: 2666 | Q32: =SUM(O32:P32) -> 4651 | R32: 8722 | S32: 7475 | T32: =SUM(R32:S32) -> 16197
A33: 29 | B33: ONDO | C33: 2138 | D33: 3050 | E33: =SUM(C33:D33) -> 5188 | F33: 1964 | G33: 1705 | H33: =SUM(F33:G33) -> 3669 | I33: 2138 | J33: 3050 | K33: =SUM(I33:J33) -> 5188 | L33: 3669 | M33: 1964 | N33: =SUM(L33:M33) -> 5633 | O33: 2814 | P33: 2428 | Q33: =SUM(O33:P33) -> 5242 | R33: 2312 | S33: 1996 | T33: =SUM(R33:S33) -> 4308
A34: 30 | B34: OSUN | C34: 1967 | D34: 2166 | E34: =SUM(C34:D34) -> 4133 | F34: NA | G34: NA | H34: =SUM(F34:G34) -> 0 | I34: NA | J34: NA | K34: =SUM(I34:J34) -> 0 | L34: NA | M34: NA | N34: =SUM(L34:M34) -> 0 | O34: 719 | P34: 654 | Q34: =SUM(O34:P34) -> 1373 | R34: 46 | S34: 169 | T34: =SUM(R34:S34) -> 215
A35: 31 | B35: OYO | C35: 4300 | D35: 5150 | E35: =SUM(C35:D35) -> 9450 | F35: 9600 | G35: 14011 | H35: =SUM(F35:G35) -> 23611 | I35: 4250 | J35: 4620 | K35: =SUM(I35:J35) -> 8870 | L35: 9280 | M35: 17200 | N35: =SUM(L35:M35) -> 26480 | O35: 2639 | P35: 4347 | Q35: =SUM(O35:P35) -> 6986 | R35: NA | S35: NA | T35: =SUM(R35:S35) -> 0
A36: 32 | B36: PLATEAU | C36: 2646 | D36: 922 | E36: =SUM(C36:D36) -> 3568 | F36: 4703 | G36: 2065 | H36: =SUM(F36:G36) -> 6768 | I36: 1715 | J36: 919 | K36: =SUM(I36:J36) -> 2634 | L36: 4699 | M36: 2074 | N36: =SUM(L36:M36) -> 6773 | O36: 1986 | P36: 692 | Q36: =SUM(O36:P36) -> 2678 | R36: 5516 | S36: 2851 | T36: =SUM(R36:S36) -> 8367
A37: 33 | B37: RIVERS | C37: 2671 | D37: 2632 | E37: =SUM(C37:D37) -> 5303 | F37: 3762 | G37: 3428 | H37: =SUM(F37:G37) -> 7190 | I37: 2671 | J37: 2632 | K37: =SUM(I37:J37) -> 5303 | L37: 3762 | M37: 3428 | N37: =SUM(L37:M37) -> 7190 | O37: 2671 | P37: 2632 | Q37: =SUM(O37:P37) -> 5303 | R37: 3762 | S37: 3428 | T37: =SUM(R37:S37) -> 7190
A38: 34 | B38: SOKOTO | C38: NA | D38: NA | E38: =SUM(C38:D38) -> 0 | F38: NA | G38: NA | H38: =SUM(F38:G38) -> 0 | I38: 1979 | J38: 667 | K38: =SUM(I38:J38) -> 2646 | L38: NA | M38: NA | N38: =SUM(L38:M38) -> 0 | O38: 2611 | P38: 823 | Q38: =SUM(O38:P38) -> 3434 | R38: NA | S38: NA | T38: =SUM(R38:S38) -> 0
A39: 35 | B39: TARABA | C39: NA | D39: NA | E39: =SUM(C39:D39) -> 0 | F39: NA | G39: NA | H39: =SUM(F39:G39) -> 0 | I39: 1427 | J39: 450 | K39: =SUM(I39:J39) -> 1877 | L39: NA | M39: NA | N39: =SUM(L39:M39) -> 0 | O39: 1100 | P39: 244 | Q39: =SUM(O39:P39) -> 1344 | R39: NA | S39: NA | T39: =SUM(R39:S39) -> 0
A40: 36 | B40: YOBE | C40: 1062 | D40: 410 | E40: =SUM(C40:D40) -> 1472 | F40: 318 | G40: 240 | H40: =SUM(F40:G40) -> 558 | I40: 832 | J40: 417 | K40: =SUM(I40:J40) -> 1249 | L40: 239 | M40: 104 | N40: =SUM(L40:M40) -> 343 | O40: 1103 | P40: 285 | Q40: =SUM(O40:P40) -> 1388 | R40: 755 | S40: 293 | T40: =SUM(R40:S40) -> 1048
...

Sheet ENROLMENT IN SENIOR SEC SCHOOL
A1: SENIOR SECONDARY SCHOOLS ENROLMENT (PUBLIC &PRIVATE) | N1: ENROLMENT IN PUBLIC SENIOR SECONDARY SCHOOLS | Y1: ENROLMENT IN PRIVATE SENIOR SECONDARY SCHOOLS
A2: S/N | B2: STATE | C2: 2014 | F2: 2015 | I2: 2016 | N2: 2014 | Q2: 2015 | T2: 2016 | Y2: 2014 | AB2: 2015 | AE2: 2016
C3: MALE | D3: FEMALE | E3: TOTAL | F3: MALE | G3: FEMALE | H3: TOTAL | I3: MALE | J3: FEMALE | K3: TOTAL | N3: MALE | O3: FEMALE | P3: TOTAL | Q3: MALE | R3: FEMALE | S3: TOTAL | T3: MALE | U3: FEMALE | V3: TOTAL | Y3: MALE | Z3: FEMALE | AA3: TOTAL | AB3: MALE | AC3: FEMALE | AD3: TOTAL | AE3: MALE | AF3: FEMALE | AG3: TOTAL
A4: 1 | B4: ABIA | C4: 45495 | D4: 64832 | E4: =SUM(C4:D4) -> 110327 | F4: 20768 | G4: 21263 | H4: =SUM(F4:G4) -> 42031 | I4: 12580 | J4: 15917 | K4: =SUM(I4:J4) -> 28497 | N4: 12514 | O4: 16218 | P4: =SUM(N4:O4) -> 28732 | Q4: 9199 | R4: 9628 | S4: =SUM(Q4:R4) -> 18827 | T4: 5512 | U4: 8187 | V4: =SUM(T4:U4) -> 13699 | Y4: 8186 | Z4: 8229 | AA4: =SUM(Y4:Z4) -> 16415 | AB4: 11569 | AC4: 11635 | AD4: =SUM(AB4:AC4) -> 23204 | AE4: 7068 | AF4: 7730 | AG4: =SUM(AE4:AF4) -> 14798
A5: 2 | B5: ADAMAWA | C5: 77018 | D5: 63687 | E5: =SUM(C5:D5) -> 140705 | F5: 44636 | G5: 34300 | H5: =SUM(F5:G5) -> 78936 | I5: 45546 | J5: 34999 | K5: =SUM(I5:J5) -> 80545 | N5: 41361 | O5: 31439 | P5: =SUM(N5:O5) -> 72800 | Q5: 42205 | R5: 32081 | S5: =SUM(Q5:R5) -> 74286 | T5: 43066 | U5: 32734 | V5: =SUM(T5:U5) -> 75800 | Y5: NA | Z5: NA | AA5: =SUM(Y5:Z5) -> 0 | AB5: 2431 | AC5: 2219 | AD5: =SUM(AB5:AC5) -> 4650 | AE5: 2480 | AF5: 2265 | AG5: =SUM(AE5:AF5) -> 4745
A6: 3 | B6: AKWA IBOM | C6: 249906 | D6: 263087 | E6: =SUM(C6:D6) -> 512993 | F6: 154729 | G6: 155368 | H6: =SUM(F6:G6) -> 310097 | I6: 130116 | J6: 79775 | K6: =SUM(I6:J6) -> 209891 | N6: 139652 | O6: 139906 | P6: =SUM(N6:O6) -> 279558 | Q6: 146639 | R6: 146905 | S6: =SUM(Q6:R6) -> 293544 | T6: 125082 | U6: 73966 | V6: =SUM(T6:U6) -> 199048 | Y6: 7705 | Z6: 8055 | AA6: =SUM(Y6:Z6) -> 15760 | AB6: 8090 | AC6: 8463 | AD6: =SUM(AB6:AC6) -> 16553 | AE6: 5034 | AF6: 5809 | AG6: =SUM(AE6:AF6) -> 10843
A7: 4 | B7: ANAMBRA | C7: 43962 | D7: 55624 | E7: =SUM(C7:D7) -> 99586 | F7: 27000 | G7: 29939 | H7: =SUM(F7:G7) -> 56939 | I7: 27167 | J7: 31606 | K7: =SUM(I7:J7) -> 58773 | N7: 22198 | O7: 26427 | P7: =SUM(N7:O7) -> 48625 | Q7: 23856 | R7: 26963 | S7: =SUM(Q7:R7) -> 50819 | T7: 23927 | U7: 28531 | V7: =SUM(T7:U7) -> 52458 | Y7: 3014 | Z7: 2826 | AA7: =SUM(Y7:Z7) -> 5840 | AB7: 3144 | AC7: 2976 | AD7: =SUM(AB7:AC7) -> 6120 | AE7: 3240 | AF7: 3075 | AG7: =SUM(AE7:AF7) -> 6315
A8: 5 | B8: BAUCHI | C8: 124018 | D8: 77221 | E8: =SUM(C8:D8) -> 201239 | F8: 65721 | G8: 40402 | H8: =SUM(F8:G8) -> 106123 | I8: 75130 | J8: 47416 | K8: =SUM(I8:J8) -> 122546 | N8: 59360 | O8: 22263 | P8: =SUM(N8:O8) -> 81623 | Q8: 57748 | R8: 32164 | S8: =SUM(Q8:R8) -> 89912 | T8: 61826 | U8: 33211 | V8: =SUM(T8:U8) -> 95037 | Y8: 8583 | Z8: 8952 | AA8: =SUM(Y8:Z8) -> 17535 | AB8: 7973 | AC8: 8238 | AD8: =SUM(AB8:AC8) -> 16211 | AE8: 13304 | AF8: 14205 | AG8: =SUM(AE8:AF8) -> 27509
A9: 6 | B9: BAYELSA | C9: 43021 | D9: 40094 | E9: =SUM(C9:D9) -> 83115 | F9: 24259 | G9: 21597 | H9: =SUM(F9:G9) -> 45856 | I9: 16986 | J9: 15462 | K9: =SUM(I9:J9) -> 32448 | N9: 22849 | O9: 19622 | P9: =SUM(N9:O9) -> 42471 | Q9: 23946 | R9: 21260 | S9: =SUM(Q9:R9) -> 45206 | T9: 16131 | U9: 14578 | V9: =SUM(T9:U9) -> 30709 | Y9: 1476 | Z9: 1518 | AA9: =SUM(Y9:Z9) -> 2994 | AB9: 313 | AC9: 337 | AD9: =SUM(AB9:AC9) -> 650 | AE9: 855 | AF9: 884 | AG9: =SUM(AE9:AF9) -> 1739
A10: 7 | B10: BENUE | C10: 501755 | D10: 665746 | E10: =SUM(C10:D10) -> 1167501 | F10: 256277 | G10: 202739 | H10: =SUM(F10:G10) -> 459016 | I10: 53788 | J10: 44421 | K10: =SUM(I10:J10) -> 98209 | N10: 46961 | O10: 36715 | P10: =SUM(N10:O10) -> 83676 | Q10: 108437 | R10: 90131 | S10: =SUM(Q10:R10) -> 198568 | T10: 25534 | U10: 19647 | V10: =SUM(T10:U10) -> 45181 | Y10: 147840 | Z10: 112608 | AA10: =SUM(Y10:Z10) -> 260448 | AB10: 147840 | AC10: 112608 | AD10: =SUM(AB10:AC10) -> 260448 | AE10: 28254 | AF10: 24774 | AG10: =SUM(AE10:AF10) -> 53028
A11: 8 | B11: BORNO | C11: NA | D11: NA | E11: =SUM(C11:D11) -> 0 | F11: NA | G11: NA | H11: =SUM(F11:G11) -> 0 | I11: 39726 | J11: 28810 | K11: =SUM(I11:J11) -> 68536 | N11: NA | O11: NA | P11: =SUM(N11:O11) -> 0 | Q11: NA | R11: NA | S11: =SUM(Q11:R11) -> 0 | T11: 37002 | U11: 26306 | V11: =SUM(T11:U11) -> 63308 | Y11: NA | Z11: NA | AA11: =SUM(Y11:Z11) -> 0 | AB11: NA | AC11: NA | AD11: =SUM(AB11:AC11) -> 0 | AE11: 2724 | AF11: 2504 | AG11: =SUM(AE11:AF11) -> 5228
A12: 9 | B12: CROSS RIVER | C12: 174839 | D12: 256831 | E12: =SUM(C12:D12) -> 431670 | F12: 67092 | G12: 69579 | H12: =SUM(F12:G12) -> 136671 | I12: 25953 | J12: 25244 | K12: =SUM(I12:J12) -> 51197 | N12: 19877 | O12: 19932 | P12: =SUM(N12:O12) -> 39809 | Q12: 19877 | R12: 19932 | S12: =SUM(Q12:R12) -> 39809 | T12: 18539 | U12: 17556 | V12: =SUM(T12:U12) -> 36095 | Y12: 47215 | Z12: 49647 | AA12: =SUM(Y12:Z12) -> 96862 | AB12: 47215 | AC12: 49647 | AD12: =SUM(AB12:AC12) -> 96862 | AE12: 7414 | AF12: 7688 | AG12: =SUM(AE12:AF12) -> 15102
A13: 10 | B13: DELTA | C13: 163528 | D13: 209579 | E13: =SUM(C13:D13) -> 373107 | F13: 54200 | G13: 52281 | H13: =SUM(F13:G13) -> 106481 | I13: 62726 | J13: 61847 | K13: =SUM(I13:J13) -> 124573 | N13: 47350 | O13: 45417 | P13: =SUM(N13:O13) -> 92767 | Q13: 54200 | R13: 52281 | S13: =SUM(Q13:R13) -> 106481 | T13: 48691 | U13: 47425 | V13: =SUM(T13:U13) -> 96116 | Y13: 29489 | Z13: 28869 | AA13: =SUM(Y13:Z13) -> 58358 | AB13: NA | AC13: NA | AD13: =SUM(AB13:AC13) -> 0 | AE13: 14035 | AF13: 14422 | AG13: =SUM(AE13:AF13) -> 28457
A14: 11 | B14: EBONYI | C14: 40903 | D14: 47421 | E14: =SUM(C14:D14) -> 88324 | F14: 31190 | G14: 34886 | H14: =SUM(F14:G14) -> 66076 | I14: 35808 | J14: 40304 | K14: =SUM(I14:J14) -> 76112 | N14: 21592 | O14: 23733 | P14: =SUM(N14:O14) -> 45325 | Q14: 27204 | R14: 30270 | S14: =SUM(Q14:R14) -> 57474 | T14: 23575 | U14: 27222 | V14: =SUM(T14:U14) -> 50797 | Y14: 1809 | Z14: 1888 | AA14: =SUM(Y14:Z14) -> 3697 | AB14: 3986 | AC14: 4616 | AD14: =SUM(AB14:AC14) -> 8602 | AE14: 12233 | AF14: 13082 | AG14: =SUM(AE14:AF14) -> 25315
A15: 12 | B15: EDO | C15: 133569 | D15: 172936 | E15: =SUM(C15:D15) -> 306505 | F15: 48550 | G15: 48385 | H15: =SUM(F15:G15) -> 96935 | I15: 59787 | J15: 62744 | K15: =SUM(I15:J15) -> 122531 | N15: 41383 | O15: 42789 | P15: =SUM(N15:O15) -> 84172 | Q15: 48550 | R15: 48385 | S15: =SUM(Q15:R15) -> 96935 | T15: 36711 | U15: 40327 | V15: =SUM(T15:U15) -> 77038 | Y15: 21903 | Z15: 22023 | AA15: =SUM(Y15:Z15) -> 43926 | AB15: NA | AC15: NA | AD15: =SUM(AB15:AC15) -> 0 | AE15: 23076 | AF15: 22417 | AG15: =SUM(AE15:AF15) -> 45493
A16: 13 | B16: EKITI | C16: 42912 | D16: 32085 | E16: =SUM(C16:D16) -> 74997 | F16: 28283 | G16: 27891 | H16: =SUM(F16:G16) -> 56174 | I16: 25179 | J16: 25006 | K16: =SUM(I16:J16) -> 50185 | N16: 26185 | O16: 19373 | P16: =SUM(N16:O16) -> 45558 | Q16: 23577 | R16: 23043 | S16: =SUM(Q16:R16) -> 46620 | T16: 21507 | U16: 21077 | V16: =SUM(T16:U16) -> 42584 | Y16: NA | Z16: NA | AA16: =SUM(Y16:Z16) -> 0 | AB16: 4706 | AC16: 4848 | AD16: =SUM(AB16:AC16) -> 9554 | AE16: 3672 | AF16: 3929 | AG16: =SUM(AE16:AF16) -> 7601
A17: 14 | B17: ENUGU | C17: 139806 | D17: 196145 | E17: =SUM(C17:D17) -> 335951 | F17: 53120 | G17: 66113 | H17: =SUM(F17:G17) -> 119233 | I17: 48796 | J17: 60996 | K17: =SUM(I17:J17) -> 109792 | N17: 38534 | O17: 46905 | P17: =SUM(N17:O17) -> 85439 | Q17: 31494 | R17: 42298 | S17: =SUM(Q17:R17) -> 73792 | T17: 29967 | U17: 39455 | V17: =SUM(T17:U17) -> 69422 | Y17: 21816 | Z17: 28022 | AA17: =SUM(Y17:Z17) -> 49838 | AB17: 21626 | AC17: 23815 | AD17: =SUM(AB17:AC17) -> 45441 | AE17: 18829 | AF17: 21541 | AG17: =SUM(AE17:AF17) -> 40370
A18: 15 | B18: FCT | C18: 44250 | D18: 49028 | E18: =SUM(C18:D18) -> 93278 | F18: 31858 | G18: 36105 | H18: =SUM(F18:G18) -> 67963 | I18: 27966 | J18: 29672 | K18: =SUM(I18:J18) -> 57638 | N18: 26136 | O18: 27754 | P18: =SUM(N18:O18) -> 53890 | Q18: 28055 | R18: 32343 | S18: =SUM(Q18:R18) -> 60398 | T18: 27207 | U18: 28939 | V18: =SUM(T18:U18) -> 56146 | Y18: 1301 | Z18: 1364 | AA18: =SUM(Y18:Z18) -> 2665 | AB18: 3803 | AC18: 3762 | AD18: =SUM(AB18:AC18) -> 7565 | AE18: 759 | AF18: 733 | AG18: =SUM(AE18:AF18) -> 1492
A19: 16 | B19: GOMBE | C19: 94874 | D19: 87156 | E19: =SUM(C19:D19) -> 182030 | F19: 38742 | G19: 24994 | H19: =SUM(F19:G19) -> 63736 | I19: 38081 | J19: 27155 | K19: =SUM(I19:J19) -> 65236 | N19: 44462 | O19: 31912 | P19: =SUM(N19:O19) -> 76374 | Q19: 33293 | R19: 19288 | S19: =SUM(Q19:R19) -> 52581 | T19: 30121 | U19: 19568 | V19: =SUM(T19:U19) -> 49689 | Y19: 7314 | Z19: 6758 | AA19: =SUM(Y19:Z19) -> 14072 | AB19: 5449 | AC19: 5706 | AD19: =SUM(AB19:AC19) -> 11155 | AE19: 7960 | AF19: 7587 | AG19: =SUM(AE19:AF19) -> 15547
A20: 17 | B20: IMO | C20: 378997 | D20: 442884 | E20: =SUM(C20:D20) -> 821881 | F20: 232477 | G20: 245488 | H20: =SUM(F20:G20) -> 477965 | I20: 179880 | J20: 205016 | K20: =SUM(I20:J20) -> 384896 | N20: 181087 | O20: 189179 | P20: =SUM(N20:O20) -> 370266 | Q20: 206509 | R20: 217813 | S20: =SUM(Q20:R20) -> 424322 | T20: 178825 | U20: 203858 | V20: =SUM(T20:U20) -> 382683 | Y20: 26696 | Z20: 28451 | AA20: =SUM(Y20:Z20) -> 55147 | AB20: 25968 | AC20: 27675 | AD20: =SUM(AB20:AC20) -> 53643 | AE20: 1055 | AF20: 1158 | AG20: =SUM(AE20:AF20) -> 2213
A21: 18 | B21: JIGAWA | C21: 91344 | D21: 49350 | E21: =SUM(C21:D21) -> 140694 | F21: 52722 | G21: 25864 | H21: =SUM(F21:G21) -> 78586 | I21: 55006 | J21: 31371 | K21: =SUM(I21:J21) -> 86377 | N21: 56374 | O21: 29069 | P21: =SUM(N21:O21) -> 85443 | Q21: 52075 | R21: 25477 | S21: =SUM(Q21:R21) -> 77552 | T21: 54797 | U21: 31227 | V21: =SUM(T21:U21) -> 86024 | Y21: 444 | Z21: 336 | AA21: =SUM(Y21:Z21) -> 780 | AB21: 647 | AC21: 387 | AD21: =SUM(AB21:AC21) -> 1034 | AE21: 209 | AF21: 144 | AG21: =SUM(AE21:AF21) -> 353
A22: 19 | B22: KADUNA | C22: 175832 | D22: 174589 | E22: =SUM(C22:D22) -> 350421 | F22: 74464 | G22: 61788 | H22: =SUM(F22:G22) -> 136252 | I22: 89908 | J22: 76358 | K22: =SUM(I22:J22) -> 166266 | N22: 68945 | O22: 48341 | P22: =SUM(N22:O22) -> 117286 | Q22: 57295 | R22: 44882 | S22: =SUM(Q22:R22) -> 102177 | T22: 69986 | U22: 57529 | V22: =SUM(T22:U22) -> 127515 | Y22: 20675 | Z22: 20413 | AA22: =SUM(Y22:Z22) -> 41088 | AB22: 17169 | AC22: 16906 | AD22: =SUM(AB22:AC22) -> 34075 | AE22: 19922 | AF22: 18829 | AG22: =SUM(AE22:AF22) -> 38751
