Workbook

Sheet PUBLIC ECCDE
A1: ENROLMENT OF PUBLIC ECCDE | N1: ENROLMENT OF PRIVATE ECCDE
A2: S/N | B2: STATE | C2: 2014 | F2: 2015 | I2: 2016 | N2: S/N | O2: STATE | P2: 2014 | S2: 2015 | V2: 2016
C3: MALE | D3: FEMALE | E3: TOTAL | F3: MALE | G3: FEMALE | H3: TOTAL | I3: MALE | J3: FEMALE | K3: TOTAL | P3: MALE | Q3: FEMALE | R3: TOTAL | S3: MALE | T3: FEMALE | U3: TOTAL | V3: MALE | W3: FEMALE | X3: TOTAL
A4: 1 | B4: ABIA | C4: 28172 | D4: 29206 | E4: =SUM(C4:D4) -> 57378 | F4: 25835 | G4: 25305 | H4: =SUM(F4:G4) -> 51140 | I4: 18660 | J4: 16496 | K4: =SUM(I4:J4) -> 35156 | N4: 1 | O4: ABIA | P4: 10461 | Q4: 10649 | R4: =SUM(P4:Q4) -> 21110 | S4: 7760 | T4: 7641 | U4: =SUM(S4:T4) -> 15401 | V4: 10323 | W4: 10684 | X4: =SUM(V4:W4) -> 21007
A5: 2 | B5: ADAMAWA | C5: 24687 | D5: 24356 | E5: =SUM(C5:D5) -> 49043 | F5: 0 | G5: 0 | H5: =SUM(F5:G5) -> 0 | I5: 17788 | J5: 16900 | K5: =SUM(I5:J5) -> 34688 | N5: 2 | O5: ADAMAWA | P5: 0 | Q5: 0 | R5: =SUM(P5:Q5) -> 0 | S5: 0 | T5: 0 | U5: =SUM(S5:T5) -> 0 | V5: 11306 | W5: 10734 | X5: =SUM(V5:W5) -> 22040
A6: 3 | B6: AKWA IBOM | C6: 0 | D6: 0 | E6: =SUM(C6:D6) -> 0 | F6: 0 | G6: 0 | H6: =SUM(F6:G6) -> 0 | I6: 58418 | J6: 61736 | K6: =SUM(I6:J6) -> 120154 | N6: 3 | O6: AKWA IBOM | P6: 0 | Q6: 0 | R6: =SUM(P6:Q6) -> 0 | S6: 0 | T6: 0 | U6: =SUM(S6:T6) -> 0 | V6: 16503 | W6: 17368 | X6: =SUM(V6:W6) -> 33871
A7: 4 | B7: ANAMBRA | C7: 96337 | D7: 96526 | E7: =SUM(C7:D7) -> 192863 | F7: 88279 | G7: 88315 | H7: =SUM(F7:G7) -> 176594 | I7: 107107 | J7: 108343 | K7: =SUM(I7:J7) -> 215450 | N7: 4 | O7: ANAMBRA | P7: 0 | Q7: 0 | R7: =SUM(P7:Q7) -> 0 | S7: 0 | T7: 0 | U7: =SUM(S7:T7) -> 0 | V7: 0 | W7: 0 | X7: =SUM(V7:W7) -> 0
A8: 5 | B8: BAUCHI | C8: 50924 | D8: 45038 | E8: =SUM(C8:D8) -> 95962 | F8: 25462 | G8: 22519 | H8: =SUM(F8:G8) -> 47981 | I8: 37999 | J8: 34658 | K8: =SUM(I8:J8) -> 72657 | N8: 5 | O8: BAUCHI | P8: 36307 | Q8: 24656 | R8: =SUM(P8:Q8) -> 60963 | S8: 14424 | T8: 14377 | U8: =SUM(S8:T8) -> 28801 | V8: 20841 | W8: 20484 | X8: =SUM(V8:W8) -> 41325
A9: 6 | B9: BAYELSA | C9: 3973 | D9: 3886 | E9: =SUM(C9:D9) -> 7859 | F9: 3358 | G9: 3376 | H9: =SUM(F9:G9) -> 6734 | I9: 3058 | J9: 3317 | K9: =SUM(I9:J9) -> 6375 | N9: 6 | O9: BAYELSA | P9: 6135 | Q9: 6217 | R9: =SUM(P9:Q9) -> 12352 | S9: 10009 | T9: 10439 | U9: =SUM(S9:T9) -> 20448 | V9: 5186 | W9: 5044 | X9: =SUM(V9:W9) -> 10230
A10: 7 | B10: BENUE | C10: 32299 | D10: 24205 | E10: =SUM(C10:D10) -> 56504 | F10: 32593 | G10: 24430 | H10: =SUM(F10:G10) -> 57023 | I10: 7327 | J10: 6832 | K10: =SUM(I10:J10) -> 14159 | N10: 7 | O10: BENUE | P10: 84576 | Q10: 63378 | R10: =SUM(P10:Q10) -> 147954 | S10: 99046 | T10: 74220 | U10: =SUM(S10:T10) -> 173266 | V10: 30823 | W10: 29219 | X10: =SUM(V10:W10) -> 60042
A11: 8 | B11: BORNO | C11: 0 | D11: 0 | E11: =SUM(C11:D11) -> 0 | F11: 0 | G11: 0 | H11: =SUM(F11:G11) -> 0 | I11: 11066 | J11: 10912 | K11: =SUM(I11:J11) -> 21978 | N11: 8 | O11: BORNO | P11: 0 | Q11: 0 | R11: =SUM(P11:Q11) -> 0 | S11: 0 | T11: 0 | U11: =SUM(S11:T11) -> 0 | V11: 3346 | W11: 3429 | X11: =SUM(V11:W11) -> 6775
A12: 9 | B12: CROSS RIVER | C12: 0 | D12: 0 | E12: =SUM(C12:D12) -> 0 | F12: 10665 | G12: 10641 | H12: =SUM(F12:G12) -> 21306 | I12: 16803 | J12: 16593 | K12: =SUM(I12:J12) -> 33396 | N12: 9 | O12: CROSS RIVER | P12: 57900 | Q12: 55200 | R12: =SUM(P12:Q12) -> 113100 | S12: 57900 | T12: 55200 | U12: =SUM(S12:T12) -> 113100 | V12: 18207 | W12: 18106 | X12: =SUM(V12:W12) -> 36313
A13: 10 | B13: DELTA | C13: 34638 | D13: 31212 | E13: =SUM(C13:D13) -> 65850 | F13: 28007 | G13: 30380 | H13: =SUM(F13:G13) -> 58387 | I13: 20252 | J13: 19885 | K13: =SUM(I13:J13) -> 40137 | N13: 10 | O13: DELTA | P13: 25106 | Q13: 25215 | R13: =SUM(P13:Q13) -> 50321 | S13: 0 | T13: 0 | U13: =SUM(S13:T13) -> 0 | V13: 28918 | W13: 28931 | X13: =SUM(V13:W13) -> 57849
A14: 11 | B14: EBONYI | C14: 0 | D14: 0 | E14: =SUM(C14:D14) -> 0 | F14: 28112 | G14: 29200 | H14: =SUM(F14:G14) -> 57312 | I14: 20551 | J14: 21138 | K14: =SUM(I14:J14) -> 41689 | N14: 11 | O14: EBONYI | P14: 0 | Q14: 0 | R14: =SUM(P14:Q14) -> 0 | S14: 2866 | T14: 3277 | U14: =SUM(S14:T14) -> 6143 | V14: 11515 | W14: 11506 | X14: =SUM(V14:W14) -> 23021
A15: 12 | B15: EDO | C15: 46090 | D15: 47077 | E15: =SUM(C15:D15) -> 93167 | F15: 0 | G15: 0 | H15: =SUM(F15:G15) -> 0 | I15: 21737 | J15: 20942 | K15: =SUM(I15:J15) -> 42679 | N15: 12 | O15: EDO | P15: 10666 | Q15: 10649 | R15: =SUM(P15:Q15) -> 21315 | S15: 0 | T15: 0 | U15: =SUM(S15:T15) -> 0 | V15: 17299 | W15: 16959 | X15: =SUM(V15:W15) -> 34258
... A40: 37 | B40: ZAMFARA | C40: 0 | D40: 0 | E40: =SUM(C40:D40) -> 0 | F40: 23821 | G40: 16959 | H40: =SUM(F40:G40) -> 40780 | I40: 32280 | J40: 21406 | K40: =SUM(I40:J40) -> 53686 | N40: 37 | O40: ZAMFARA | P40: 0 | Q40: 0 | R40: =SUM(P40:Q40) -> 0 | S40: 5250 | T40: 4503 | U40: =SUM(S40:T40) -> 9753 | V40: 4571 | W40: 3902 | X40: =SUM(V40:W40) -> 8473
A41: 38 | B41: TOTAL | C41: =SUM(C4:C40) -> 1400854 | D41: =SUM(D4:D40) -> 1337997 | E41: =SUM(E4:E40) -> 2738851 | F41: =SUM(F4:F40) -> 2323231 | G41: =SUM(G4:G40) -> 2349677 | H41: =SUM(H4:H40) -> 4672908 | I41: =SUM(I4:I40) -> 1361297 | J41: =SUM(J4:J40) -> 1333490 | K41: =SUM(K4:K40) -> 2694787 | N41: 38 | O41: TOTAL | P41: =SUM(P4:P40) -> 811762 | Q41: =SUM(Q4:Q40) -> 736135 | R41: =SUM(R4:R40) -> 1547897 | S41: =SUM(S4:S40) -> 1060002 | T41: =SUM(T4:T40) -> 1016418 | U41: =SUM(U4:U40) -> 2076420 | V41: =SUM(V4:V40) -> 734726 | W41: =SUM(W4:W40) -> 722735 | X41: =SUM(X4:X40) -> 1457461
B43: NOTE: ECCDE- Early Child Care Development Education

Sheet ENROLMENT IN PRIMARY SCHL
A1: ENROLMENT IN PUBLIC PRIMARY SCHOOLS | N1: ENROLMENT IN PRIVATE PRIMARY SCHOOLS
A2: S/N | B2: STATE | C2: 2014 | F2: 2015 | I2: 2016 | N2: S/N | O2: STATE | P2: 2014 | S2: 2015 | V2: 2016
C3: MALE | D3: FEMALE | E3: TOTAL | F3: MALE | G3: FEMALE | H3: TOTAL | I3: MALE | J3: FEMALE | K3: TOTAL | P3: MALE | Q3: FEMALE | R3: TOTAL | S3: MALE | T3: FEMALE | U3: TOTAL | V3: MALE | W3: FEMALE | X3: TOTAL
A4: 1 | B4: ABIA | C4: 104164 | D4: 158493 | E4: =SUM(C4:D4) -> 262657 | F4: 81192 | G4: 79040 | H4: =SUM(F4:G4) -> 160232 | I4: 60596 | J4: 57948 | K4: =SUM(I4:J4) -> 118544 | N4: 1 | O4: ABIA | P4: 15123 | Q4: 15908 | R4: =SUM(P4:Q4) -> 31031 | S4: 14114 | T4: 13399 | U4: =SUM(S4:T4) -> 27513 | V4: 20231 | W4: 20645 | X4: =SUM(V4:W4) -> 40876
A5: 2 | B5: ADAMAWA | C5: 303513 | D5: 278710 | E5: =SUM(C5:D5) -> 582223 | F5: 17063 | G5: 16465 | H5: =SUM(F5:G5) -> 33528 | I5: 254013 | J5: 231253 | K5: =SUM(I5:J5) -> 485266 | N5: 2 | O5: ADAMAWA | P5: 0 | Q5: 0 | R5: =SUM(P5:Q5) -> 0 | S5: 17063 | T5: 16465 | U5: =SUM(S5:T5) -> 33528 | V5: 17907 | W5: 16731 | X5: =SUM(V5:W5) -> 34638
A6: 3 | B6: AKWA IBOM | C6: 449699 | D6: 479474 | E6: =SUM(C6:D6) -> 929173 | F6: 472187 | G6: 503444 | H6: =SUM(F6:G6) -> 975631 | I6: 402533 | J6: 421679 | K6: =SUM(I6:J6) -> 824212 | N6: 3 | O6: AKWA IBOM | P6: 15738 | Q6: 15416 | R6: =SUM(P6:Q6) -> 31154 | S6: 16530 | T6: 16178 | U6: =SUM(S6:T6) -> 32708 | V6: 21741 | W6: 22196 | X6: =SUM(V6:W6) -> 43937
A7: 4 | B7: ANAMBRA | C7: 369088 | D7: 386164 | E7: =SUM(C7:D7) -> 755252 | F7: 323152 | G7: 333137 | H7: =SUM(F7:G7) -> 656289 | I7: 348071 | J7: 365051 | K7: =SUM(I7:J7) -> 713122 | N7: 4 | O7: ANAMBRA | P7: 79598 | Q7: 80881 | R7: =SUM(P7:Q7) -> 160479 | S7: 79753 | T7: 81031 | U7: =SUM(S7:T7) -> 160784 | V7: 79853 | W7: 81129 | X7: =SUM(V7:W7) -> 160982
A8: 5 | B8: BAUCHI | C8: 390007 | D8: 898143 | E8: =SUM(C8:D8) -> 1288150 | F8: 418263 | G8: 343095 | H8: =SUM(F8:G8) -> 761358 | I8: 427593 | J8: 353950 | K8: =SUM(I8:J8) -> 781543 | N8: 5 | O8: BAUCHI | P8: 39877 | Q8: 42345 | R8: =SUM(P8:Q8) -> 82222 | S8: 49551 | T8: 52241 | U8: =SUM(S8:T8) -> 101792 | V8: 67734 | W8: 67990 | X8: =SUM(V8:W8) -> 135724
A9: 6 | B9: BAYELSA | C9: 62078 | D9: 61862 | E9: =SUM(C9:D9) -> 123940 | F9: 53708 | G9: 51770 | H9: =SUM(F9:G9) -> 105478 | I9: 51521 | J9: 48093 | K9: =SUM(I9:J9) -> 99614 | N9: 6 | O9: BAYELSA | P9: 5979 | Q9: 6114 | R9: =SUM(P9:Q9) -> 12093 | S9: 9512 | T9: 9679 | U9: =SUM(S9:T9) -> 19191 | V9: 5923 | W9: 6237 | X9: =SUM(V9:W9) -> 12160
A10: 7 | B10: BENUE | C10: 196532 | D10: 174055 | E10: =SUM(C10:D10) -> 370587 | F10: 168350 | G10: 151607 | H10: =SUM(F10:G10) -> 319957 | I10: 210026 | J10: 183683 | K10: =SUM(I10:J10) -> 393709 | N10: 7 | O10: BENUE | P10: 175486 | Q10: 158102 | R10: =SUM(P10:Q10) -> 333588 | S10: 362236 | T10: 326212 | U10: =SUM(S10:T10) -> 688448 | V10: 73923 | W10: 69911 | X10: =SUM(V10:W10) -> 143834
A11: 8 | B11: BORNO | C11: 0 | D11: 0 | E11: =SUM(C11:D11) -> 0 | F11: 0 | G11: 0 | H11: =SUM(F11:G11) -> 0 | I11: 282529 | J11: 241751 | K11: =SUM(I11:J11) -> 524280 | N11: 8 | O11: BORNO | P11: 0 | Q11: 0 | R11: =SUM(P11:Q11) -> 0 | S11: 0 | T11: 0 | U11: =SUM(S11:T11) -> 0 | V11: 8082 | W11: 7300 | X11: =SUM(V11:W11) -> 15382
A12: 9 | B12: CROSS RIVER | C12: 96499 | D12: 95725 | E12: =SUM(C12:D12) -> 192224 | F12: 96499 | G12: 95725 | H12: =SUM(F12:G12) -> 192224 | I12: 82912 | J12: 78923 | K12: =SUM(I12:J12) -> 161835 | N12: 9 | O12: CROSS RIVER | P12: 122837 | Q12: 120334 | R12: =SUM(P12:Q12) -> 243171 | S12: 122837 | T12: 120334 | U12: =SUM(S12:T12) -> 243171 | V12: 17806 | W12: 17935 | X12: =SUM(V12:W12) -> 35741
A13: 10 | B13: DELTA | C13: 187825 | D13: 183049 | E13: =SUM(C13:D13) -> 370874 | F13: 167589 | G13: 165036 | H13: =SUM(F13:G13) -> 332625 | I13: 150025 | J13: 146444 | K13: =SUM(I13:J13) -> 296469 | N13: 10 | O13: DELTA | P13: 65636 | Q13: 65239 | R13: =SUM(P13:Q13) -> 130875 | S13: 72816 | T13: 73639 | U13: =SUM(S13:T13) -> 146455 | V13: 44182 | W13: 44866 | X13: =SUM(V13:W13) -> 89048
A14: 11 | B14: EBONYI | C14: 174923 | D14: 178623 | E14: =SUM(C14:D14) -> 353546 | F14: 184896 | G14: 189995 | H14: =SUM(F14:G14) -> 374891 | I14: 155841 | J14: 156308 | K14: =SUM(I14:J14) -> 312149 | N14: 11 | O14: EBONYI | P14: 5389 | Q14: 5414 | R14: =SUM(P14:Q14) -> 10803 | S14: 6826 | T14: 6943 | U14: =SUM(S14:T14) -> 13769 | V14: 17143 | W14: 18114 | X14: =SUM(V14:W14) -> 35257
A15: 12 | B15: EDO | C15: 167356 | D15: 165697 | E15: =SUM(C15:D15) -> 333053 | F15: 168030 | G15: 162875 | H15: =SUM(F15:G15) -> 330905 | I15: 125080 | J15: 120965 | K15: =SUM(I15:J15) -> 246045 | N15: 12 | O15: EDO | P15: 19082 | Q15: 19085 | R15: =SUM(P15:Q15) -> 38167 | S15: 19082 | T15: 19085 | U15: =SUM(S15:T15) -> 38167 | V15: 30777 | W15: 31342 | X15: =SUM(V15:W15) -> 62119
... A40: 37 | B40: ZAMFARA | C40: 281804 | D40: 148688 | E40: =SUM(C40:D40) -> 430492 | F40: 309283 | G40: 167832 | H40: =SUM(F40:G40) -> 477115 | I40: 310148 | J40: 168237 | K40: =SUM(I40:J40) -> 478385 | N40: 37 | O40: ZAMFARA | P40: 5815 | Q40: 4621 | R40: =SUM(P40:Q40) -> 10436 | S40: 10305 | T40: 8771 | U40: =SUM(S40:T40) -> 19076 | V40: 9179 | W40: 7731 | X40: =SUM(V40:W40) -> 16910
A41: 38 | B41: TOTAL | C41: =SUM(C4:C40) -> 11496946 | D41: =SUM(D4:D40) -> 10827559 | E41: =SUM(E4:E40) -> 22324505 | F41: =SUM(F4:F40) -> 11043844 | G41: =SUM(G4:G40) -> 9744346 | H41: =SUM(H4:H40) -> 20788190 | I41: =SUM(I4:I40) -> 11804167 | J41: =SUM(J4:J40) -> 10548159 | K41: =SUM(K4:K40) -> 22352326 | N41: 38 | O41: TOTAL | P41: =SUM(P4:P40) -> 1758843 | Q41: =SUM(Q4:Q40) -> 1717848 | R41: =SUM(R4:R40) -> 3476691 | S41: =SUM(S4:S40) -> 2349466 | T41: =SUM(T4:T40) -> 2304879 | U41: =SUM(U4:U40) -> 4654345 | V41: =SUM(V4:V40) -> 1631773 | W41: =SUM(W4:W40) -> 1607082 | X41: =SUM(X4:X40) -> 3238855

Sheet PRIMARY SCHOOL TEACHERS
A1: PUBLIC PRIMARY SCHOOL TEACHERS
A2: S/N | B2: STATE | C2: 2014 | F2: 2015 | I2: 2016
C3: MALE | D3: FEMALE | E3: TOTAL | F3: MALE | G3: FEMALE | H3: TOTAL | I3: MALE | J3: FEMALE | K3: TOTAL
A4: 1 | B4: ABIA | C4: 901 | D4: 6467 | E4: =SUM(C4:D4) -> 7368 | F4: 23165 | G4: 28731 | H4: =SUM(F4:G4) -> 51896 | I4: 45429 | J4: 50995 | K4: =SUM(I4:J4) -> 96424
A5: 2 | B5: ADAMAWA | C5: 13642 | D5: 13642 | E5: =SUM(C5:D5) -> 27284 | H5: =SUM(F5:G5) -> 0 | I5: 8239 | J5: 4471 | K5: =SUM(I5:J5) -> 12710
A6: 3 | B6: AKWA IBOM | C6: 4011 | D6: 10926 | E6: =SUM(C6:D6) -> 14937 | F6: 4210 | G6: 11474 | H6: =SUM(F6:G6) -> 15684 | I6: 2079 | J6: 6413 | K6: =SUM(I6:J6) -> 8492
A7: 4 | B7: ANAMBRA | C7: 434 | D7: 7182 | E7: =SUM(C7:D7) -> 7616 | F7: 1036 | G7: 8162 | H7: =SUM(F7:G7) -> 9198 | I7: 514 | J7: 7873 | K7: =SUM(I7:J7) -> 8387
A8: 5 | B8: BAUCHI | C8: 9974 | D8: 3720 | E8: =SUM(C8:D8) -> 13694 | F8: 10652 | G8: 4719 | H8: =SUM(F8:G8) -> 15371 | I8: 10888 | J8: 5135 | K8: =SUM(I8:J8) -> 16023
A9: 6 | B9: BAYELSA | C9: 2846 | D9: 2839 | E9: =SUM(C9:D9) -> 5685 | F9: 3053 | G9: 3296 | H9: =SUM(F9:G9) -> 6349 | I9: 2416 | J9: 2260 | K9: =SUM(I9:J9) -> 4676
A10: 7 | B10: BENUE | C10: 8567 | D10: 4404 | E10: =SUM(C10:D10) -> 12971 | F10: 8567 | G10: 4404 | H10: =SUM(F10:G10) -> 12971 | I10: 7168 | J10: 4819 | K10: =SUM(I10:J10) -> 11987
A11: 8 | B11: BORNO | E11: =SUM(C11:D11) -> 0 | H11: =SUM(F11:G11) -> 0 | I11: 6357 | J11: 3333 | K11: =SUM(I11:J11) -> 9690
A12: 9 | B12: CROSS RIVER | C12: 5273 | D12: 7002 | E12: =SUM(C12:D12) -> 12275 | F12: 5273 | G12: 7002 | H12: =SUM(F12:G12) -> 12275 | I12: 3661 | J12: 4383 | K12: =SUM(I12:J12) -> 8044
A13: 10 | B13: DELTA | C13: 4436 | D13: 11380 | E13: =SUM(C13:D13) -> 15816 | F13: 4951 | G13: 14464 | H13: =SUM(F13:G13) -> 19415 | I13: 2658 | J13: 6649 | K13: =SUM(I13:J13) -> 9307
A14: 11 | B14: EBONYI | C14: 3852 | D14: 5577 | E14: =SUM(C14:D14) -> 9429 | F14: 3570 | G14: 5218 | H14: =SUM(F14:G14) -> 8788 | I14: 3507 | J14: 5383 | K14: =SUM(I14:J14) -> 8890
A15: 12 | B15: EDO | C15: 2961 | D15: 3336 | E15: =SUM(C15:D15) -> 6297 | F15: 2985 | G15: 8167 | H15: =SUM(F15:G15) -> 11152 | I15: 1430 | J15: 4445 | K15: =SUM(I15:J15) -> 5875
A16: 13 | B16: EKITI | C16: 9989 | D16: 2224 | E16: =SUM(C16:D16) -> 12213 | F16: 9634 | G16: 2072 | H16: =SUM(F16:G16) -> 11706 | I16: 1795 | J16: 5611 | K16: =SUM(I16:J16) -> 7406
A17: 14 | B17: ENUGU | C17: 2794 | D17: 9189 | E17: =SUM(C17:D17) -> 11983 | F17: 2381 | G17: 8752 | H17: =SUM(F17:G17) -> 11133 | I17: 2075 | J17: 8340 | K17: =SUM(I17:J17) -> 10415
A18: 15 | B18: FCT | C18: 4751 | D18: 4687 | E18: =SUM(C18:D18) -> 9438 | F18: 6863 | G18: 6770 | H18: =SUM(F18:G18) -> 13633 | I18: 2695 | J18: 2413 | K18: =SUM(I18:J18) -> 5108
A19: 16 | B19: GOMBE | C19: 9638 | D19: 4942 | E19: =SUM(C19:D19) -> 14580 | F19: 4768 | G19: 13088 | H19: =SUM(F19:G19) -> 17856 | I19: 7925 | J19: 4706 | K19: =SUM(I19:J19) -> 12631
A20: 17 | B20: IMO | C20: 546 | D20: 7087 | E20: =SUM(C20:D20) -> 7633 | F20: 2657 | G20: 9741 | H20: =SUM(F20:G20) -> 12398 | I20: 1348 | J20: 9308 | K20: =SUM(I20:J20) -> 10656
A21: 18 | B21: JIGAWA | C21: 11956 | D21: 1611 | E21: =SUM(C21:D21) -> 13567 | F21: 10754 | G21: 1459 | H21: =SUM(F21:G21) -> 12213 | I21: 10660 | J21: 1748 | K21: =SUM(I21:J21) -> 12408
A22: 19 | B22: KADUNA | C22: 18681 | D22: 16923 | E22: =SUM(C22:D22) -> 35604 | F22: 16646 | G22: 16292 | H22: =SUM(F22:G22) -> 32938 | I22: 17551 | J22: 16453 | K22: =SUM(I22:J22) -> 34004
A23: 20 | B23: KANO | C23: 40913 | D23: 10334 | E23: =SUM(C23:D23) -> 51247 | F23: 35473 | G23: 10299 | H23: =SUM(F23:G23) -> 45772 | I23: 34928 | J23: 10874 | K23: =SUM(I23:J23) -> 45802
... A32: 29 | B32: ONDO | C32: 4445 | D32: 8687 | E32: =SUM(C32:D32) -> 13132 | F32: 4445 | G32: 8687 | H32: =SUM(F32:G32) -> 13132 | I32: 2389 | J32: 5152 | K32: =SUM(I32:J32) -> 7541
A33: 30 | B33: OSUN | C33: 3884 | D33: 8367 | E33: =SUM(C33:D33) -> 12251 | H33: =SUM(F33:G33) -> 0 | I33: 2359 | J33: 5652 | K33: =SUM(I33:J33) -> 8011
A34: 31 | B34: OYO | C34: 9225 | D34: 18771 | E34: =SUM(C34:D34) -> 27996 | F34: 5527 | G34: 13997 | H34: =SUM(F34:G34) -> 19524 | I34: 5290 | J34: 14244 | K34: =SUM(I34:J34) -> 19534
A35: 32 | B35: PLATEAU | C35: 9842 | D35: 7730 | E35: =SUM(C35:D35) -> 17572 | F35: 16827 | G35: 9541 | H35: =SUM(F35:G35) -> 26368 | I35: 8247 | J35: 5841 | K35: =SUM(I35:J35) -> 14088
A36: 33 | B36: RIVERS | E36: =SUM(C36:D36) -> 0 | F36: 2916 | G36: 5162 | H36: =SUM(F36:G36) -> 8078 | I36: 1992 | J36: 3665 | K36: =SUM(I36:J36) -> 5657
A37: 34 | B37: SOKOTO | C37: 11314 | D37: 1695 | E37: =SUM(C37:D37) -> 13009 | F37: 11996 | G37: 2166 | H37: =SUM(F37:G37) -> 14162 | I37: 11749 | J37: 2317 | K37: =SUM(I37:J37) -> 14066
A38: 35 | B38: TARABA | C38: 11398 | D38: 5322 | E38: =SUM(C38:D38) -> 16720 | F38: 10910 | G38: 5186 | H38: =SUM(F38:G38) -> 16096 | I38: 9390 | J38: 4229 | K38: =SUM(I38:J38) -> 13619
A39: 36 | B39: YOBE | C39: 6115 | D39: 2798 | E39: =SUM(C39:D39) -> 8913 | F39: 11000 | G39: 5000 | H39: =SUM(F39:G39) -> 16000 | I39: 5237 | J39: 4000 | K39: =SUM(I39:J39) -> 9237
A40: 37 | B40: ZAMFARA | E40: =SUM(C40:D40) -> 0 | F40: 7979 | G40: 1653 | H40: =SUM(F40:G40) -> 9632 | I40: 7756 | J40: 1559 | K40: =SUM(I40:J40) -> 9315
A41: 38 | B41: TOTAL | C41: =SUM(C4:C40) -> 284220 | D41: =SUM(D4:D40) -> 243983 | E41: =SUM(E4:E40) -> 528203 | F41: =SUM(F4:F40) -> 293019 | G41: =SUM(G4:G40) -> 274361 | H41: =SUM(H4:H40) -> 567380 | I41: =SUM(I4:I40) -> 283051 | J41: =SUM(J4:J40) -> 259482 | K41: =SUM(K4:K40) -> 542533

Sheet ENROLMENT IN JUNIOR SEC SCHL
A1: TOTAL ENROLMENT IN JUNIOR SECONDARY SCHOOL | M1: ENROLMENT IN PUBLIC JUNIOR SECONDARY SCHOOLS | Y1: ENROLMENT IN PRIVATE JUNIOR SECONDARY SCHOOLS
A2: S/N | B2: STATE | C2: 2014 | F2: 2015 | I2: 2016 | M2: 2014 | P2: 2015 | S2: 2016 | Y2: 2014 | AB2: 2015 | AE2: 2016
C3: PUBLIC | D3: PRIVATE | E3: TOTAL | F3: PUBLIC | G3: PRIVATE | H3: TOTAL | I3: PUBLIC | J3: PRIVATE | K3: TOTAL | M3: MALE | N3: FEMALE | O3: TOTAL | P3: MALE | Q3: FEMALE | R3: TOTAL | S3: MALE | T3: FEMALE | U3: TOTAL | Y3: MALE | Z3: FEMALE | AA3: TOTAL | AB3: MALE | AC3: FEMALE | AD3: TOTAL | AE3: MALE | AF3: FEMALE | AG3: TOTAL
A4: 1 | B4: ABIA | C4: 44718 | D4: 15586 | E4: =SUM(C4:D4) -> 60304 | F4: 44816 | G4: 22286 | H4: =SUM(F4:G4) -> 67102 | I4: 16535 | J4: 18807 | K4: =SUM(I4:J4) -> 35342 | M4: 19932 | N4: 24786 | O4: =SUM(M4:N4) -> 44718 | P4: 20207 | Q4: 24609 | R4: =SUM(P4:Q4) -> 44816 | S4: 6761 | T4: 9774 | U4: =SUM(S4:T4) -> 16535 | Y4: 7975 | Z4: 7611 | AA4: =SUM(Y4:Z4) -> 15586 | AB4: 11548 | AC4: 10738 | AD4: =SUM(AB4:AC4) -> 22286 | AE4: 8948 | AF4: 9859 | AG4: =SUM(AE4:AF4) -> 18807
A5: 2 | B5: ADAMAWA | C5: 107630 | D5: 7596 | E5: =SUM(C5:D5) -> 115226 | F5: 94101 | G5: 7690 | H5: =SUM(F5:G5) -> 101791 | I5: 96019 | J5: 7881 | K5: =SUM(I5:J5) -> 103900 | M5: 61195 | N5: 46435 | O5: =SUM(M5:N5) -> 107630 | P5: 51178 | Q5: 42923 | R5: =SUM(P5:Q5) -> 94101 | S5: 52222 | T5: 43797 | U5: =SUM(S5:T5) -> 96019 | Y5: 3930 | Z5: 3666 | AA5: =SUM(Y5:Z5) -> 7596 | AB5: 3949 | AC5: 3741 | AD5: =SUM(AB5:AC5) -> 7690 | AE5: 4064 | AF5: 3817 | AG5: =SUM(AE5:AF5) -> 7881
A6: 3 | B6: AKWA IBOM | C6: 335018 | D6: 15217 | E6: =SUM(C6:D6) -> 350235 | F6: 351770 | G6: 15981 | H6: =SUM(F6:G6) -> 367751 | I6: 168094 | J6: 12838 | K6: =SUM(I6:J6) -> 180932 | M6: 161653 | N6: 173365 | O6: =SUM(M6:N6) -> 335018 | P6: 169737 | Q6: 182033 | R6: =SUM(P6:Q6) -> 351770 | S6: 82440 | T6: 85654 | U6: =SUM(S6:T6) -> 168094 | Y6: 7386 | Z6: 7831 | AA6: =SUM(Y6:Z6) -> 15217 | AB6: 7751 | AC6: 8230 | AD6: =SUM(AB6:AC6) -> 15981 | AE6: 6060 | AF6: 6778 | AG6: =SUM(AE6:AF6) -> 12838
A7: 4 | B7: ANAMBRA | C7: 78259 | D7: 8579 | E7: =SUM(C7:D7) -> 86838 | F7: 121087 | G7: 8819 | H7: =SUM(F7:G7) -> 129906 | I7: 85510 | J7: 9102 | K7: =SUM(I7:J7) -> 94612 | M7: 36270 | N7: 41989 | O7: =SUM(M7:N7) -> 78259 | P7: 56888 | Q7: 64199 | R7: =SUM(P7:Q7) -> 121087 | S7: 41590 | T7: 43920 | U7: =SUM(S7:T7) -> 85510 | Y7: 4191 | Z7: 4388 | AA7: =SUM(Y7:Z7) -> 8579 | AB7: 4381 | AC7: 4438 | AD7: =SUM(AB7:AC7) -> 8819 | AE7: 4474 | AF7: 4628 | AG7: =SUM(AE7:AF7) -> 9102
A8: 5 | B8: BAUCHI | C8: 133664 | D8: 17635 | E8: =SUM(C8:D8) -> 151299 | F8: 149299 | G8: 19932 | H8: =SUM(F8:G8) -> 169231 | I8: 160306 | J8: 34043 | K8: =SUM(I8:J8) -> 194349 | M8: 81419 | N8: 52245 | O8: =SUM(M8:N8) -> 133664 | P8: 89502 | Q8: 59797 | R8: =SUM(P8:Q8) -> 149299 | S8: 95774 | T8: 64532 | U8: =SUM(S8:T8) -> 160306 | Y8: 7685 | Z8: 9950 | AA8: =SUM(Y8:Z8) -> 17635 | AB8: 9587 | AC8: 10345 | AD8: =SUM(AB8:AC8) -> 19932 | AE8: 16336 | AF8: 17707 | AG8: =SUM(AE8:AF8) -> 34043
A9: 6 | B9: BAYELSA | C9: 36234 | D9: 5562 | E9: =SUM(C9:D9) -> 41796 | F9: 40767 | G9: 1421 | H9: =SUM(F9:G9) -> 42188 | I9: 31158 | J9: 4193 | K9: =SUM(I9:J9) -> 35351 | M9: 18451 | N9: 17783 | O9: =SUM(M9:N9) -> 36234 | P9: 20823 | Q9: 19944 | R9: =SUM(P9:Q9) -> 40767 | S9: 15866 | T9: 15292 | U9: =SUM(S9:T9) -> 31158 | Y9: 2711 | Z9: 2851 | AA9: =SUM(Y9:Z9) -> 5562 | AB9: 691 | AC9: 730 | AD9: =SUM(AB9:AC9) -> 1421 | AE9: 2013 | AF9: 2180 | AG9: =SUM(AE9:AF9) -> 4193
A10: 7 | B10: BENUE | C10: 188486 | D10: 493109 | E10: =SUM(C10:D10) -> 681595 | F10: 225875 | G10: 192021 | H10: =SUM(F10:G10) -> 417896 | I10: 92563 | J10: 62703 | K10: =SUM(I10:J10) -> 155266 | M10: 105962 | N10: 82524 | O10: =SUM(M10:N10) -> 188486 | P10: 126771 | Q10: 99104 | R10: =SUM(P10:Q10) -> 225875 | S10: 50306 | T10: 42257 | U10: =SUM(S10:T10) -> 92563 | Y10: 277237 | Z10: 215872 | AA10: =SUM(Y10:Z10) -> 493109 | AB10: 107957 | AC10: 84064 | AD10: =SUM(AB10:AC10) -> 192021 | AE10: 33312 | AF10: 29391 | AG10: =SUM(AE10:AF10) -> 62703
A11: 8 | B11: BORNO | C11: 0 | D11: 0 | E11: =SUM(C11:D11) -> 0 | F11: 0 | G11: 0 | H11: =SUM(F11:G11) -> 0 | I11: 115546 | J11: 5710 | K11: =SUM(I11:J11) -> 121256 | M11: NA | N11: NA | O11: =SUM(M11:N11) -> 0 | P11: NA | Q11: NA | R11: =SUM(P11:Q11) -> 0 | S11: 63359 | T11: 52187 | U11: =SUM(S11:T11) -> 115546 | Y11: NA | Z11: NA | AA11: =SUM(Y11:Z11) -> 0 | AB11: NA | AC11: NA | AD11: =SUM(AB11:AC11) -> 0 | AE11: 2879 | AF11: 2831 | AG11: =SUM(AE11:AF11) -> 5710
A12: 9 | B12: CROSS RIVER | C12: 60578 | D12: 115151 | E12: =SUM(C12:D12) -> 175729 | F12: 60578 | G12: 115151 | H12: =SUM(F12:G12) -> 175729 | I12: 46777 | J12: 17535 | K12: =SUM(I12:J12) -> 64312 | M12: 28182 | N12: 32396 | O12: =SUM(M12:N12) -> 60578 | P12: 28182 | Q12: 32396 | R12: =SUM(P12:Q12) -> 60578 | S12: 24333 | T12: 22444 | U12: =SUM(S12:T12) -> 46777 | Y12: 58938 | Z12: 56213 | AA12: =SUM(Y12:Z12) -> 115151 | AB12: 58938 | AC12: 56213 | AD12: =SUM(AB12:AC12) -> 115151 | AE12: 8742 | AF12: 8793 | AG12: =SUM(AE12:AF12) -> 17535
A13: 10 | B13: DELTA | C13: 127077 | D13: 60898 | E13: =SUM(C13:D13) -> 187975 | F13: 153237 | G13: 66408 | H13: =SUM(F13:G13) -> 219645 | I13: 123083 | J13: 32045 | K13: =SUM(I13:J13) -> 155128 | M13: 63240 | N13: 63837 | O13: =SUM(M13:N13) -> 127077 | P13: 76655 | Q13: 76582 | R13: =SUM(P13:Q13) -> 153237 | S13: 64055 | T13: 59028 | U13: =SUM(S13:T13) -> 123083 | Y13: 29236 | Z13: 31662 | AA13: =SUM(Y13:Z13) -> 60898 | AB13: 31996 | AC13: 34412 | AD13: =SUM(AB13:AC13) -> 66408 | AE13: 15685 | AF13: 16360 | AG13: =SUM(AE13:AF13) -> 32045
A14: 11 | B14: EBONYI | C14: 66426 | D14: 7344 | E14: =SUM(C14:D14) -> 73770 | F14: 69653 | G14: 7344 | H14: =SUM(F14:G14) -> 76997 | I14: 69415 | J14: 27175 | K14: =SUM(I14:J14) -> 96590 | M14: 33184 | N14: 33242 | O14: =SUM(M14:N14) -> 66426 | P14: 33150 | Q14: 36503 | R14: =SUM(P14:Q14) -> 69653 | S14: 32680 | T14: 36735 | U14: =SUM(S14:T14) -> 69415 | Y14: 3420 | Z14: 3924 | AA14: =SUM(Y14:Z14) -> 7344 | AB14: 3420 | AC14: 3924 | AD14: =SUM(AB14:AC14) -> 7344 | AE14: 13169 | AF14: 14006 | AG14: =SUM(AE14:AF14) -> 27175
A15: 12 | B15: EDO | C15: 95731 | D15: 42110 | E15: =SUM(C15:D15) -> 137841 | F15: 121748 | G15: 51015 | H15: =SUM(F15:G15) -> 172763 | I15: 99203 | J15: 43380 | K15: =SUM(I15:J15) -> 142583 | M15: 48199 | N15: 47532 | O15: =SUM(M15:N15) -> 95731 | P15: 60382 | Q15: 61366 | R15: =SUM(P15:Q15) -> 121748 | S15: 49238 | T15: 49965 | U15: =SUM(S15:T15) -> 99203 | Y15: 21845 | Z15: 20265 | AA15: =SUM(Y15:Z15) -> 42110 | AB15: 25567 | AC15: 25448 | AD15: =SUM(AB15:AC15) -> 51015 | AE15: 21975 | AF15: 21405 | AG15: =SUM(AE15:AF15) -> 43380
A16: 13 | B16: EKITI | C16: 46460 | D16: 8763 | E16: =SUM(C16:D16) -> 55223 | F16: 49226 | G16: 8763 | H16: =SUM(F16:G16) -> 57989 | I16: 47809 | J16: 10868 | K16: =SUM(I16:J16) -> 58677 | M16: 25765 | N16: 20695 | O16: =SUM(M16:N16) -> 46460 | P16: 24656 | Q16: 24570 | R16: =SUM(P16:Q16) -> 49226 | S16: 23671 | T16: 24138 | U16: =SUM(S16:T16) -> 47809 | Y16: 4361 | Z16: 4402 | AA16: =SUM(Y16:Z16) -> 8763 | AB16: 4361 | AC16: 4402 | AD16: =SUM(AB16:AC16) -> 8763 | AE16: 5402 | AF16: 5466 | AG16: =SUM(AE16:AF16) -> 10868
A17: 14 | B17: ENUGU | C17: 91936 | D17: 48929 | E17: =SUM(C17:D17) -> 140865 | F17: 85035 | G17: 45441 | H17: =SUM(F17:G17) -> 130476 | I17: 81963 | J17: 39844 | K17: =SUM(I17:J17) -> 121807 | M17: 44744 | N17: 47192 | O17: =SUM(M17:N17) -> 91936 | P17: 37993 | Q17: 47042 | R17: =SUM(P17:Q17) -> 85035 | S17: 36714 | T17: 45249 | U17: =SUM(S17:T17) -> 81963 | Y17: 22488 | Z17: 26441 | AA17: =SUM(Y17:Z17) -> 48929 | AB17: 21626 | AC17: 23815 | AD17: =SUM(AB17:AC17) -> 45441 | AE17: 18834 | AF17: 21010 | AG17: =SUM(AE17:AF17) -> 39844
A18: 15 | B18: FCT | C18: 105342 | D18: 4683 | E18: =SUM(C18:D18) -> 110025 | F18: 122403 | G18: 17004 | H18: =SUM(F18:G18) -> 139407 | I18: 88841 | J18: 2486 | K18: =SUM(I18:J18) -> 91327 | M18: 51825 | N18: 53517 | O18: =SUM(M18:N18) -> 105342 | P18: 59575 | Q18: 62828 | R18: =SUM(P18:Q18) -> 122403 | S18: 43890 | T18: 44951 | U18: =SUM(S18:T18) -> 88841 | Y18: 2345 | Z18: 2338 | AA18: =SUM(Y18:Z18) -> 4683 | AB18: 8642 | AC18: 8362 | AD18: =SUM(AB18:AC18) -> 17004 | AE18: 1315 | AF18: 1171 | AG18: =SUM(AE18:AF18) -> 2486
A19: 16 | B19: GOMBE | C19: 76033 | D19: 57035 | E19: =SUM(C19:D19) -> 133068 | F19: 74467 | G19: 13483 | H19: =SUM(F19:G19) -> 87950 | I19: 74759 | J19: 17469 | K19: =SUM(I19:J19) -> 92228 | M19: 44407 | N19: 31626 | O19: =SUM(M19:N19) -> 76033 | P19: 42625 | Q19: 31842 | R19: =SUM(P19:Q19) -> 74467 | S19: 42554 | T19: 32205 | U19: =SUM(S19:T19) -> 74759 | Y19: 32511 | Z19: 24524 | AA19: =SUM(Y19:Z19) -> 57035 | AB19: 6472 | AC19: 7011 | AD19: =SUM(AB19:AC19) -> 13483 | AE19: 8674 | AF19: 8795 | AG19: =SUM(AE19:AF19) -> 17469
A20: 17 | B20: IMO | C20: 406302 | D20: 52896 | E20: =SUM(C20:D20) -> 459198 | F20: 424116 | G20: 51451 | H20: =SUM(F20:G20) -> 475567 | I20: 414521 | J20: 2796 | K20: =SUM(I20:J20) -> 417317 | M20: 203720 | N20: 202582 | O20: =SUM(M20:N20) -> 406302 | P20: 212280 | Q20: 211836 | R20: =SUM(P20:Q20) -> 424116 | S20: 207199 | T20: 207322 | U20: =SUM(S20:T20) -> 414521 | Y20: 25833 | Z20: 27063 | AA20: =SUM(Y20:Z20) -> 52896 | AB20: 25124 | AC20: 26327 | AD20: =SUM(AB20:AC20) -> 51451 | AE20: 1338 | AF20: 1458 | AG20: =SUM(AE20:AF20) -> 2796
A21: 18 | B21: JIGAWA | C21: 109379 | D21: 2383 | E21: =SUM(C21:D21) -> 111762 | F21: 105551 | G21: 2284 | H21: =SUM(F21:G21) -> 107835 | I21: 142456 | J21: 2701 | K21: =SUM(I21:J21) -> 145157 | M21: 68868 | N21: 40511 | O21: =SUM(M21:N21) -> 109379 | P21: 62163 | Q21: 43388 | R21: =SUM(P21:Q21) -> 105551 | S21: 83751 | T21: 58705 | U21: =SUM(S21:T21) -> 142456 | Y21: 1295 | Z21: 1088 | AA21: =SUM(Y21:Z21) -> 2383 | AB21: 1280 | AC21: 1004 | AD21: =SUM(AB21:AC21) -> 2284 | AE21: 1557 | AF21: 1144 | AG21: =SUM(AE21:AF21) -> 2701
A22: 19 | B22: KADUNA | C22: 162588 | D22: 51942 | E22: =SUM(C22:D22) -> 214530 | F22: 47542 | G22: 44465 | H22: =SUM(F22:G22) -> 92007 | I22: 257550 | J22: 48092 | K22: =SUM(I22:J22) -> 305642 | M22: 90495 | N22: 72093 | O22: =SUM(M22:N22) -> 162588 | P22: 24710 | Q22: 22832 | R22: =SUM(P22:Q22) -> 47542 | S22: 143078 | T22: 114472 | U22: =SUM(S22:T22) -> 257550 | Y22: 26155 | Z22: 25787 | AA22: =SUM(Y22:Z22) -> 51942 | AB22: 22783 | AC22: 21682 | AD22: =SUM(AB22:AC22) -> 44465 | AE22: 24517 | AF22: 23575 | AG22: =SUM(AE22:AF22) -> 48092
A23: 20 | B23: KANO | C23: 292673 | D23: 51599 | E23: =SUM(C23:D23) -> 344272 | F23: 371558 | G23: 64936 | H23: =SUM(F23:G23) -> 436494 | I23: 378402 | J23: 54069 | K23: =SUM(I23:J23) -> 432471 | M23: 173722 | N23: 118951 | O23: =SUM(M23:N23) -> 292673 | P23: 214783 | Q23: 156775 | R23: =SUM(P23:Q23) -> 371558 | S23: 212179 | T23: 166223 | U23: =SUM(S23:T23) -> 378402 | Y23: 22765 | Z23: 28834 | AA23: =SUM(Y23:Z23) -> 51599 | AB23: 27586 | AC23: 37350 | AD23: =SUM(AB23:AC23) -> 64936 | AE23: 23731 | AF23: 30338 | AG23: =SUM(AE23:AF23) -> 54069
A24: 21 | B24: KATSINA | C24: 196762 | D24: 18653 | E24: =SUM(C24:D24) -> 215415 | F24: 225435 | G24: 22066 | H24: =SUM(F24:G24) -> 247501 | I24: 237299 | J24: 28883 | K24: =SUM(I24:J24) -> 266182 | M24: 111279 | N24: 85483 | O24: =SUM(M24:N24) -> 196762 | P24: 132652 | Q24: 92783 | R24: =SUM(P24:Q24) -> 225435 | S24: 139106 | T24: 98193 | U24: =SUM(S24:T24) -> 237299 | Y24: 10258 | Z24: 8395 | AA24: =SUM(Y24:Z24) -> 18653 | AB24: 12103 | AC24: 9963 | AD24: =SUM(AB24:AC24) -> 22066 | AE24: 15562 | AF24: 13321 | AG24: =SUM(AE24:AF24) -> 28883
A25: 22 | B25: KEBBI | C25: 143656 | D25: 0 | E25: =SUM(C25:D25) -> 143656 | F25: 145914 | G25: 0 | H25: =SUM(F25:G25) -> 145914 | I25: 111404 | J25: 5448 | K25: =SUM(I25:J25) -> 116852 | M25: 96481 | N25: 47175 | O25: =SUM(M25:N25) -> 143656 | P25: 99032 | Q25: 46882 | R25: =SUM(P25:Q25) -> 145914 | S25: 72439 | T25: 38965 | U25: =SUM(S25:T25) -> 111404 | Y25: NA | Z25: NA | AA25: =SUM(Y25:Z25) -> 0 | AB25: NA | AC25: NA | AD25: =SUM(AB25:AC25) -> 0 | AE25: 2927 | AF25: 2521 | AG25: =SUM(AE25:AF25) -> 5448
A26: 23 | B26: KOGI | C26: 67186 | D26: 18118 | E26: =SUM(C26:D26) -> 85304 | F26: 68532 | G26: 18118 | H26: =SUM(F26:G26) -> 86650 | I26: 46382 | J26: 19071 | K26: =SUM(I26:J26) -> 65453 | M26: 34474 | N26: 32712 | O26: =SUM(M26:N26) -> 67186 | P26: 35167 | Q26: 33365 | R26: =SUM(P26:Q26) -> 68532 | S26: 24116 | T26: 22266 | U26: =SUM(S26:T26) -> 46382 | Y26: 8934 | Z26: 9184 | AA26: =SUM(Y26:Z26) -> 18118 | AB26: 8934 | AC26: 9184 | AD26: =SUM(AB26:AC26) -> 18118 | AE26: 9404 | AF26: 9667 | AG26: =SUM(AE26:AF26) -> 19071
A27: 24 | B27: KWARA | C27: 16264 | D27: 16204 | E27: =SUM(C27:D27) -> 32468 | F27: 17369 | G27: 17369 | H27: =SUM(F27:G27) -> 34738 | I27: 111598 | J27: 17529 | K27: =SUM(I27:J27) -> 129127 | M27: 8508 | N27: 7756 | O27: =SUM(M27:N27) -> 16264 | P27: 8948 | Q27: 8421 | R27: =SUM(P27:Q27) -> 17369 | S27: 56903 | T27: 54695 | U27: =SUM(S27:T27) -> 111598 | Y27: 8508 | Z27: 7696 | AA27: =SUM(Y27:Z27) -> 16204 | AB27: 8948 | AC27: 8421 | AD27: =SUM(AB27:AC27) -> 17369 | AE27: 9036 | AF27: 8493 | AG27: =SUM(AE27:AF27) -> 17529
A28: 25 | B28: LAGOS | C28: 317612 | D28: 0 | E28: =SUM(C28:D28) -> 317612 | F28: 316419 | G28: 145181 | H28: =SUM(F28:G28) -> 461600 | I28: 326866 | J28: 145181 | K28: =SUM(I28:J28) -> 472047 | M28: 156237 | N28: 161375 | O28: =SUM(M28:N28) -> 317612 | P28: 152612 | Q28: 163807 | R28: =SUM(P28:Q28) -> 316419 | S28: 161659 | T28: 165207 | U28: =SUM(S28:T28) -> 326866 | Y28: NA | Z28: NA | AA28: =SUM(Y28:Z28) -> 0 | AB28: 70725 | AC28: 74456 | AD28: =SUM(AB28:AC28) -> 145181 | AE28: 70725 | AF28: 74456 | AG28: =SUM(AE28:AF28) -> 145181
A29: 26 | B29: NASARAWA | C29: 25072 | D29: 0 | E29: =SUM(C29:D29) -> 25072 | F29: 62583 | G29: 25072 | H29: =SUM(F29:G29) -> 87655 | I29: 81382 | J29: 18740 | K29: =SUM(I29:J29) -> 100122 | M29: 12771 | N29: 12301 | O29: =SUM(M29:N29) -> 25072 | P29: 36197 | Q29: 26386 | R29: =SUM(P29:Q29) -> 62583 | S29: 44078 | T29: 37304 | U29: =SUM(S29:T29) -> 81382 | Y29: NA | Z29: NA | AA29: =SUM(Y29:Z29) -> 0 | AB29: 12771 | AC29: 12301 | AD29: =SUM(AB29:AC29) -> 25072 | AE29: 9611 | AF29: 9129 | AG29: =SUM(AE29:AF29) -> 18740
A30: 27 | B30: NIGER | C30: 164693 | D30: 19937 | E30: =SUM(C30:D30) -> 184630 | F30: 168656 | G30: 10472 | H30: =SUM(F30:G30) -> 179128 | I30: 187027 | J30: 30349 | K30: =SUM(I30:J30) -> 217376 | M30: 99745 | N30: 64948 | O30: =SUM(M30:N30) -> 164693 | P30: 101290 | Q30: 67366 | R30: =SUM(P30:Q30) -> 168656 | S30: 108841 | T30: 78186 | U30: =SUM(S30:T30) -> 187027 | Y30: 9903 | Z30: 10034 | AA30: =SUM(Y30:Z30) -> 19937 | AB30: 6184 | AC30: 4288 | AD30: =SUM(AB30:AC30) -> 10472 | AE30: 15414 | AF30: 14935 | AG30: =SUM(AE30:AF30) -> 30349
A31: 28 | B31: OGUN | C31: 208582 | D31: 61951 | E31: =SUM(C31:D31) -> 270533 | F31: 217242 | G31: 75588 | H31: =SUM(F31:G31) -> 292830 | I31: 195956 | J31: 72751 | K31: =SUM(I31:J31) -> 268707 | M31: 106168 | N31: 102414 | O31: =SUM(M31:N31) -> 208582 | P31: 109507 | Q31: 107735 | R31: =SUM(P31:Q31) -> 217242 | S31: 98655 | T31: 97301 | U31: =SUM(S31:T31) -> 195956 | Y31: 30761 | Z31: 31190 | AA31: =SUM(Y31:Z31) -> 61951 | AB31: 37214 | AC31: 38374 | AD31: =SUM(AB31:AC31) -> 75588 | AE31: 36438 | AF31: 36313 | AG31: =SUM(AE31:AF31) -> 72751
A32: 29 | B32: ONDO | C32: 134054 | D32: 66426 | E32: =SUM(C32:D32) -> 200480 | F32: 132800 | G32: 83671 | H32: =SUM(F32:G32) -> 216471 | I32: 104952 | J32: 14954 | K32: =SUM(I32:J32) -> 119906 | M32: 67490 | N32: 66564 | O32: =SUM(M32:N32) -> 134054 | P32: 67469 | Q32: 65331 | R32: =SUM(P32:Q32) -> 132800 | S32: 51726 | T32: 53226 | U32: =SUM(S32:T32) -> 104952 | Y32: 33573 | Z32: 32853 | AA32: =SUM(Y32:Z32) -> 66426 | AB32: 43284 | AC32: 40387 | AD32: =SUM(AB32:AC32) -> 83671 | AE32: 7548 | AF32: 7406 | AG32: =SUM(AE32:AF32) -> 14954
A33: 30 | B33: OSUN | C33: 138151 | D33: 0 | E33: =SUM(C33:D33) -> 138151 | F33: 0 | G33: 25679 | H33: =SUM(F33:G33) -> 25679 | I33: 117026 | J33: 9340 | K33: =SUM(I33:J33) -> 126366 | M33: 69386 | N33: 68765 | O33: =SUM(M33:N33) -> 138151 | P33: NA | Q33: NA | R33: =SUM(P33:Q33) -> 0 | S33: 59264 | T33: 57762 | U33: =SUM(S33:T33) -> 117026 | Y33: NA | Z33: NA | AA33: =SUM(Y33:Z33) -> 0 | AB33: 12398 | AC33: 13281 | AD33: =SUM(AB33:AC33) -> 25679 | AE33: 4612 | AF33: 4728 | AG33: =SUM(AE33:AF33) -> 9340
A34: 31 | B34: OYO | C34: 240584 | D34: 48060 | E34: =SUM(C34:D34) -> 288644 | F34: 256517 | G34: 74778 | H34: =SUM(F34:G34) -> 331295 | I34: 227659 | J34: 67921 | K34: =SUM(I34:J34) -> 295580 | M34: 119567 | N34: 121017 | O34: =SUM(M34:N34) -> 240584 | P34: 129986 | Q34: 126531 | R34: =SUM(P34:Q34) -> 256517 | S34: 113324 | T34: 114335 | U34: =SUM(S34:T34) -> 227659 | Y34: 23187 | Z34: 24873 | AA34: =SUM(Y34:Z34) -> 48060 | AB34: 36213 | AC34: 38565 | AD34: =SUM(AB34:AC34) -> 74778 | AE34: 33426 | AF34: 34495 | AG34: =SUM(AE34:AF34) -> 67921
A35: 32 | B35: PLATEAU | C35: 59848 | D35: 44550 | E35: =SUM(C35:D35) -> 104398 | F35: 69662 | G35: 46600 | H35: =SUM(F35:G35) -> 116262 | I35: 55830 | J35: 44365 | K35: =SUM(I35:J35) -> 100195 | M35: 32514 | N35: 27334 | O35: =SUM(M35:N35) -> 59848 | P35: 37342 | Q35: 32320 | R35: =SUM(P35:Q35) -> 69662 | S35: 29694 | T35: 26136 | U35: =SUM(S35:T35) -> 55830 | Y35: 22988 | Z35: 21562 | AA35: =SUM(Y35:Z35) -> 44550 | AB35: 24149 | AC35: 22451 | AD35: =SUM(AB35:AC35) -> 46600 | AE35: 22653 | AF35: 21712 | AG35: =SUM(AE35:AF35) -> 44365
A36: 33 | B36: RIVERS | C36: 126255 | D36: 29748 | E36: =SUM(C36:D36) -> 156003 | F36: 120503 | G36: 29748 | H36: =SUM(F36:G36) -> 150251 | I36: 85577 | J36: 29748 | K36: =SUM(I36:J36) -> 115325 | M36: 59751 | N36: 66504 | O36: =SUM(M36:N36) -> 126255 | P36: 57563 | Q36: 62940 | R36: =SUM(P36:Q36) -> 120503 | S36: 41053 | T36: 44524 | U36: =SUM(S36:T36) -> 85577 | Y36: 14580 | Z36: 15168 | AA36: =SUM(Y36:Z36) -> 29748 | AB36: 14580 | AC36: 15168 | AD36: =SUM(AB36:AC36) -> 29748 | AE36: 14580 | AF36: 15168 | AG36: =SUM(AE36:AF36) -> 29748
A37: 34 | B37: SOKOTO | C37: 85304 | D37: 5183 | E37: =SUM(C37:D37) -> 90487 | F37: 83799 | G37: 7270 | H37: =SUM(F37:G37) -> 91069 | I37: 100019 | J37: 7228 | K37: =SUM(I37:J37) -> 107247 | M37: 55069 | N37: 30235 | O37: =SUM(M37:N37) -> 85304 | P37: 54752 | Q37: 29047 | R37: =SUM(P37:Q37) -> 83799 | S37: 64453 | T37: 35566 | U37: =SUM(S37:T37) -> 100019 | Y37: 2806 | Z37: 2377 | AA37: =SUM(Y37:Z37) -> 5183 | AB37: 3980 | AC37: 3290 | AD37: =SUM(AB37:AC37) -> 7270 | AE37: 3559 | AF37: 3669 | AG37: =SUM(AE37:AF37) -> 7228
A38: 35 | B38: TARABA | C38: 77484 | D38: 15716 | E38: =SUM(C38:D38) -> 93200 | F38: 46603 | G38: 25042 | H38: =SUM(F38:G38) -> 71645 | I38: 42582 | J38: 74007 | K38: =SUM(I38:J38) -> 116589 | M38: 47469 | N38: 30015 | O38: =SUM(M38:N38) -> 77484 | P38: 27224 | Q38: 19379 | R38: =SUM(P38:Q38) -> 46603 | S38: 25209 | T38: 17373 | U38: =SUM(S38:T38) -> 42582 | Y38: 8696 | Z38: 7020 | AA38: =SUM(Y38:Z38) -> 15716 | AB38: 13414 | AC38: 11628 | AD38: =SUM(AB38:AC38) -> 25042 | AE38: 42162 | AF38: 31845 | AG38: =SUM(AE38:AF38) -> 74007
A39: 36 | B39: YOBE | C39: 123924 | D39: 12756 | E39: =SUM(C39:D39) -> 136680 | F39: 68199 | G39: 7744 | H39: =SUM(F39:G39) -> 75943 | I39: 68959 | J39: 5693 | K39: =SUM(I39:J39) -> 74652 | M39: 73268 | N39: 50656 | O39: =SUM(M39:N39) -> 123924 | P39: 43305 | Q39: 24894 | R39: =SUM(P39:Q39) -> 68199 | S39: 40209 | T39: 28750 | U39: =SUM(S39:T39) -> 68959 | Y39: 5884 | Z39: 6872 | AA39: =SUM(Y39:Z39) -> 12756 | AB39: 3411 | AC39: 4333 | AD39: =SUM(AB39:AC39) -> 7744 | AE39: 2434 | AF39: 3259 | AG39: =SUM(AE39:AF39) -> 5693
A40: 37 | B40: ZAMFARA | C40: 85088 | D40: 3722 | E40: =SUM(C40:D40) -> 88810 | F40: 92090 | G40: 4846 | H40: =SUM(F40:G40) -> 96936 | I40: 96289 | J40: 6725 | K40: =SUM(I40:J40) -> 103014 | M40: 55649 | N40: 29439 | O40: =SUM(M40:N40) -> 85088 | P40: 60471 | Q40: 31619 | R40: =SUM(P40:Q40) -> 92090 | S40: 64667 | T40: 31622 | U40: =SUM(S40:T40) -> 96289 | Y40: 2026 | Z40: 1696 | AA40: =SUM(Y40:Z40) -> 3722 | AB40: 2365 | AC40: 2481 | AD40: =SUM(AB40:AC40) -> 4846 | AE40: 3374 | AF40: 3351 | AG40: =SUM(AE40:AF40) -> 6725
A41: 38 | B41: TOTAL | C41: 4775053 | D41: 1428041 | E41: =SUM(C41:D41) -> 6203094 | F41: 4805152 | G41: 1375139 | H41: =SUM(F41:G41) -> 6180291 | I41: =SUM(I4:I40) -> 4787317 | J41: =SUM(J4:J40) -> 1051670 | K41: =SUM(I41:J41) -> 5838987 | M41: =SUM(M4:M40) -> 2567059 | N41: =SUM(N4:N40) -> 2207994 | O41: =SUM(O4:O40) -> 4775053 | P41: =SUM(P4:P40) -> 2565777 | Q41: =SUM(Q4:Q40) -> 2239375 | R41: =SUM(R4:R40) -> 4805152 | S41: =SUM(S4:S40) -> 2567056 | T41: =SUM(T4:T40) -> 2220261 | U41: =SUM(U4:U40) -> 4787317 | Y41: =SUM(Y4:Y40) -> 744411 | Z41: =SUM(Z4:Z40) -> 683630 | AA41: =SUM(AA4:AA40) -> 1428041 | AB41: =SUM(AB4:AB40) -> 694332 | AC41: =SUM(AC4:AC40) -> 680807 | AD41: =SUM(AD4:AD40) -> 1375139 | AE41: =SUM(AE4:AE40) -> 526490 | AF41: =SUM(AF4:AF40) -> 525180 | AG41: =SUM(AG4:AG40) -> 1051670

Sheet NO OF TEACHERS IN JUN SEC SCHL
A1: NUMBER OF TEACHERS IN JUNIOR SECONDARY SCHOOL
A2: S/N | B2: State | C2: 2014 | I2: 2015 | O2: 2016
C3: PUBLIC | F3: PRIVATE | I3: PUBLIC | L3: PRIVATE | O3: PUBLIC | R3: PRIVATE
C4: MALE | D4: FEMALE | E4: TOTAL | F4: MALE | G4: FEMALE | H4: TOTAL | I4: MALE | J4: FEMALE | K4: TOTAL | L4: MALE | M4: FEMALE | N4: TOTAL | O4: MALE | P4: FEMALE | Q4: TOTAL | R4: MALE | S4: FEMALE | T4: TOTAL
A5: 1 | B5: ABIA | C5: 1186 | D5: 2789 | E5: =SUM(C5:D5) -> 3975 | F5: 710 | G5: 810 | H5: =SUM(F5:G5) -> 1520 | I5: 1163 | J5: 2828 | K5: =SUM(I5:J5) -> 3991 | L5: 1026 | M5: 1114 | N5: =SUM(L5:M5) -> 2140 | O5: 403 | P5: 1241 | Q5: =SUM(O5:P5) -> 1644 | R5: 1533 | S5: 2012 | T5: =SUM(R5:S5) -> 3545
A6: 2 | B6: ADAMAWA | C6: 2260 | D6: 905 | E6: =SUM(C6:D6) -> 3165 | F6: 780 | G6: 571 | H6: =SUM(F6:G6) -> 1351 | I6: 2260 | J6: 905 | K6: =SUM(I6:J6) -> 3165 | L6: 780 | M6: 571 | N6: =SUM(L6:M6) -> 1351 | O6: 2814 | P6: 1468 | Q6: =SUM(O6:P6) -> 4282 | R6: 803 | S6: 586 | T6: =SUM(R6:S6) -> 1389
A7: 3 | B7: AKWA IBOM | C7: NA | D7: NA | E7: =SUM(C7:D7) -> 0 | F7: NA | G7: NA | H7: =SUM(F7:G7) -> 0 | I7: NA | J7: NA | K7: =SUM(I7:J7) -> 0 | L7: NA | M7: NA | N7: =SUM(L7:M7) -> 0 | O7: 1779 | P7: 1492 | Q7: =SUM(O7:P7) -> 3271 | R7: 1196 | S7: 820 | T7: =SUM(R7:S7) -> 2016
A8: 4 | B8: ANAMBRA | C8: 595 | D8: 2820 | E8: =SUM(C8:D8) -> 3415 | F8: 1481 | G8: 1637 | H8: =SUM(F8:G8) -> 3118 | I8: 687 | J8: 3115 | K8: =SUM(I8:J8) -> 3802 | L8: 1628 | M8: 1585 | N8: =SUM(L8:M8) -> 3213 | O8: 1102 | P8: 5513 | Q8: =SUM(O8:P8) -> 6615 | R8: 1548 | S8: 1501 | T8: =SUM(R8:S8) -> 3049
A9: 5 | B9: BAUCHI | C9: 4184 | D9: 978 | E9: =SUM(C9:D9) -> 5162 | F9: NA | G9: NA | H9: =SUM(F9:G9) -> 0 | I9: 6084 | J9: 1496 | K9: =SUM(I9:J9) -> 7580 | L9: NA | M9: NA | N9: =SUM(L9:M9) -> 0 | O9: 6693 | P9: 1974 | Q9: =SUM(O9:P9) -> 8667 | R9: NA | S9: NA | T9: =SUM(R9:S9) -> 0
A10: 6 | B10: BAYELSA | C10: 703 | D10: 708 | E10: =SUM(C10:D10) -> 1411 | F10: 285 | G10: 323 | H10: =SUM(F10:G10) -> 608 | I10: 766 | J10: 701 | K10: =SUM(I10:J10) -> 1467 | L10: 269 | M10: 315 | N10: =SUM(L10:M10) -> 584 | O10: 685 | P10: 591 | Q10: =SUM(O10:P10) -> 1276 | R10: 556 | S10: 515 | T10: =SUM(R10:S10) -> 1071
A11: 7 | B11: BENUE | C11: 7631 | D11: 5448 | E11: =SUM(C11:D11) -> 13079 | F11: 5484 | G11: 2177 | H11: =SUM(F11:G11) -> 7661 | I11: NA | J11: NA | K11: =SUM(I11:J11) -> 0 | L11: NA | M11: NA | N11: =SUM(L11:M11) -> 0 | O11: 4908 | P11: 1411 | Q11: =SUM(O11:P11) -> 6319 | R11: 6658 | S11: 2128 | T11: =SUM(R11:S11) -> 8786
A12: 8 | B12: BORNO | C12: NA | D12: NA | E12: =SUM(C12:D12) -> 0 | F12: NA | G12: NA | H12: =SUM(F12:G12) -> 0 | I12: NA | J12: NA | K12: =SUM(I12:J12) -> 0 | L12: NA | M12: NA | N12: =SUM(L12:M12) -> 0 | O12: 2000 | P12: 1005 | Q12: =SUM(O12:P12) -> 3005 | R12: 518 | S12: 243 | T12: =SUM(R12:S12) -> 761
A13: 9 | B13: CROSS RIVER | C13: 2011 | D13: 2229 | E13: =SUM(C13:D13) -> 4240 | F13: 1413 | G13: 1884 | H13: =SUM(F13:G13) -> 3297 | I13: 2011 | J13: 2229 | K13: =SUM(I13:J13) -> 4240 | L13: 1413 | M13: 1884 | N13: =SUM(L13:M13) -> 3297 | O13: 1252 | P13: 741 | Q13: =SUM(O13:P13) -> 1993 | R13: 1958 | S13: 1346 | T13: =SUM(R13:S13) -> 3304
A14: 10 | B14: DELTA | C14: 6921 | D14: 8632 | E14: =SUM(C14:D14) -> 15553 | F14: 3219 | G14: 3940 | H14: =SUM(F14:G14) -> 7159 | I14: 6921 | J14: 8632 | K14: =SUM(I14:J14) -> 15553 | L14: NA | M14: NA | N14: =SUM(L14:M14) -> 0 | O14: 1937 | P14: 2510 | Q14: =SUM(O14:P14) -> 4447 | R14: 3308 | S14: 3587 | T14: =SUM(R14:S14) -> 6895
A15: 11 | B15: EBONYI | C15: 1370 | D15: 1006 | E15: =SUM(C15:D15) -> 2376 | F15: 914 | G15: 890 | H15: =SUM(F15:G15) -> 1804 | I15: NA | J15: NA | K15: =SUM(I15:J15) -> 0 | L15: NA | M15: NA | N15: =SUM(L15:M15) -> 0 | O15: 1375 | P15: 1009 | Q15: =SUM(O15:P15) -> 2384 | R15: NA | S15: NA | T15: =SUM(R15:S15) -> 0
A16: 12 | B16: EDO | C16: 1759 | D16: 1902 | E16: =SUM(C16:D16) -> 3661 | F16: 11221 | G16: 13340 | H16: =SUM(F16:G16) -> 24561 | I16: 773 | J16: 2778 | K16: =SUM(I16:J16) -> 3551 | L16: NA | M16: NA | N16: =SUM(L16:M16) -> 0 | O16: 522 | P16: 731 | Q16: =SUM(O16:P16) -> 1253 | R16: 4593 | S16: 3904 | T16: =SUM(R16:S16) -> 8497
A17: 13 | B17: EKITI | C17: 3253 | D17: 4164 | E17: =SUM(C17:D17) -> 7417 | F17: NA | G17: NA | H17: =SUM(F17:G17) -> 0 | I17: 3310 | J17: 4286 | K17: =SUM(I17:J17) -> 7596 | L17: 1567 | M17: 1327 | N17: =SUM(L17:M17) -> 2894 | O17: 1249 | P17: 2294 | Q17: =SUM(O17:P17) -> 3543 | R17: NA | S17: NA | T17: =SUM(R17:S17) -> 0
A18: 14 | B18: ENUGU | C18: 3748 | D18: 8125 | E18: =SUM(C18:D18) -> 11873 | F18: 4547 | G18: 14724 | H18: =SUM(F18:G18) -> 19271 | I18: 1136 | J18: 4195 | K18: =SUM(I18:J18) -> 5331 | L18: 4703 | M18: 15946 | N18: =SUM(L18:M18) -> 20649 | O18: 1020 | P18: 3927 | Q18: =SUM(O18:P18) -> 4947 | R18: 4654 | S18: 17425 | T18: =SUM(R18:S18) -> 22079
A19: 15 | B19: FCT | C19: 2135 | D19: 2941 | E19: =SUM(C19:D19) -> 5076 | F19: 1997 | G19: 1571 | H19: =SUM(F19:G19) -> 3568 | I19: 2219 | J19: 3059 | K19: =SUM(I19:J19) -> 5278 | L19: 2077 | M19: 1633 | N19: =SUM(L19:M19) -> 3710 | O19: 1222 | P19: 1441 | Q19: =SUM(O19:P19) -> 2663 | R19: 341 | S19: 299 | T19: =SUM(R19:S19) -> 640
A20: 16 | B20: GOMBE | C20: 1809 | D20: 648 | E20: =SUM(C20:D20) -> 2457 | F20: 297 | G20: 136 | H20: =SUM(F20:G20) -> 433 | I20: NA | J20: NA | K20: =SUM(I20:J20) -> 0 | L20: NA | M20: NA | N20: =SUM(L20:M20) -> 0 | O20: 2077 | P20: 687 | Q20: =SUM(O20:P20) -> 2764 | R20: NA | S20: NA | T20: =SUM(R20:S20) -> 0
A21: 17 | B21: IMO | C21: 945 | D21: 2185 | E21: =SUM(C21:D21) -> 3130 | F21: 807 | G21: 2319 | H21: =SUM(F21:G21) -> 3126 | I21: 954 | J21: 2207 | K21: =SUM(I21:J21) -> 3161 | L21: 818 | M21: 2342 | N21: =SUM(L21:M21) -> 3160 | O21: 849 | P21: 1875 | Q21: =SUM(O21:P21) -> 2724 | R21: 209 | S21: 200 | T21: =SUM(R21:S21) -> 409
A22: 18 | B22: JIGAWA | C22: 3708 | D22: 304 | E22: =SUM(C22:D22) -> 4012 | F22: NA | G22: NA | H22: =SUM(F22:G22) -> 0 | I22: NA | J22: NA | K22: =SUM(I22:J22) -> 0 | L22: NA | M22: NA | N22: =SUM(L22:M22) -> 0 | O22: 3594 | P22: 366 | Q22: =SUM(O22:P22) -> 3960 | R22: NA | S22: NA | T22: =SUM(R22:S22) -> 0
A23: 19 | B23: KADUNA | C23: 3519 | D23: 2164 | E23: =SUM(C23:D23) -> 5683 | F23: 2625 | G23: 1689 | H23: =SUM(F23:G23) -> 4314 | I23: 3333 | J23: 1968 | K23: =SUM(I23:J23) -> 5301 | L23: NA | M23: NA | N23: =SUM(L23:M23) -> 0 | O23: 3659 | P23: 2192 | Q23: =SUM(O23:P23) -> 5851 | R23: 9231 | S23: 10421 | T23: =SUM(R23:S23) -> 19652
A24: 20 | B24: KANO | C24: 2480 | D24: 510 | E24: =SUM(C24:D24) -> 2990 | F24: 8329 | G24: 7292 | H24: =SUM(F24:G24) -> 15621 | I24: 2464 | J24: 556 | K24: =SUM(I24:J24) -> 3020 | L24: 9335 | M24: 7903 | N24: =SUM(L24:M24) -> 17238 | O24: 6995 | P24: 2112 | Q24: =SUM(O24:P24) -> 9107 | R24: NA | S24: NA | T24: =SUM(R24:S24) -> 0
A25: 21 | B25: KATSINA | C25: 2636 | D25: 672 | E25: =SUM(C25:D25) -> 3308 | F25: NA | G25: NA | H25: =SUM(F25:G25) -> 0 | I25: 2825 | J25: 765 | K25: =SUM(I25:J25) -> 3590 | L25: NA | M25: NA | N25: =SUM(L25:M25) -> 0 | O25: 2790 | P25: 726 | Q25: =SUM(O25:P25) -> 3516 | R25: NA | S25: NA | T25: =SUM(R25:S25) -> 0
A26: 22 | B26: KEBBI | C26: 1541 | D26: 653 | E26: =SUM(C26:D26) -> 2194 | F26: NA | G26: NA | H26: =SUM(F26:G26) -> 0 | I26: 2173 | J26: 652 | K26: =SUM(I26:J26) -> 2825 | L26: NA | M26: NA | N26: =SUM(L26:M26) -> 0 | O26: 2030 | P26: 642 | Q26: =SUM(O26:P26) -> 2672 | R26: NA | S26: NA | T26: =SUM(R26:S26) -> 0
A27: 23 | B27: KOGI | C27: 2363 | D27: 1958 | E27: =SUM(C27:D27) -> 4321 | F27: NA | G27: NA | H27: =SUM(F27:G27) -> 0 | I27: 2291 | J27: 1898 | K27: =SUM(I27:J27) -> 4189 | L27: NA | M27: NA | N27: =SUM(L27:M27) -> 0 | O27: 1966 | P27: 1286 | Q27: =SUM(O27:P27) -> 3252 | R27: 2170 | S27: 1508 | T27: =SUM(R27:S27) -> 3678
A28: 24 | B28: KWARA | C28: 8276 | D28: 3440 | E28: =SUM(C28:D28) -> 11716 | F28: 5123 | G28: 8022 | H28: =SUM(F28:G28) -> 13145 | I28: 3479 | J28: 4765 | K28: =SUM(I28:J28) -> 8244 | L28: NA | M28: NA | N28: =SUM(L28:M28) -> 0 | O28: 3296 | P28: 4607 | Q28: =SUM(O28:P28) -> 7903 | R28: 5991 | S28: 9033 | T28: =SUM(R28:S28) -> 15024
A29: 25 | B29: LAGOS | C29: NA | D29: NA | E29: =SUM(C29:D29) -> 0 | F29: NA | G29: NA | H29: =SUM(F29:G29) -> 0 | I29: 2787 | J29: 6641 | K29: =SUM(I29:J29) -> 9428 | L29: NA | M29: NA | N29: =SUM(L29:M29) -> 0 | O29: 2655 | P29: 6291 | Q29: =SUM(O29:P29) -> 8946 | R29: NA | S29: NA | T29: =SUM(R29:S29) -> 0
A30: 26 | B30: NASARAWA | C30: NA | D30: NA | E30: =SUM(C30:D30) -> 0 | F30: NA | G30: NA | H30: =SUM(F30:G30) -> 0 | I30: 1035 | J30: 564 | K30: =SUM(I30:J30) -> 1599 | L30: NA | M30: NA | N30: =SUM(L30:M30) -> 0 | O30: 2698 | P30: 1029 | Q30: =SUM(O30:P30) -> 3727 | R30: 2801 | S30: 1520 | T30: =SUM(R30:S30) -> 4321
A31: 27 | B31: NIGER | C31: 2764 | D31: 1555 | E31: =SUM(C31:D31) -> 4319 | F31: NA | G31: NA | H31: =SUM(F31:G31) -> 0 | I31: 2846 | J31: 1416 | K31: =SUM(I31:J31) -> 4262 | L31: 2613 | M31: 2950 | N31: =SUM(L31:M31) -> 5563 | O31: 2442 | P31: 1418 | Q31: =SUM(O31:P31) -> 3860 | R31: NA | S31: NA | T31: =SUM(R31:S31) -> 0
A32: 28 | B32: OGUN | C32: 2314 | D32: 3969 | E32: =SUM(C32:D32) -> 6283 | F32: 5148 | G32: 4628 | H32: =SUM(F32:G32) -> 9776 | I32: 2503 | J32: 4363 | K32: =SUM(I32:J32) -> 6866 | L32: 7934 | M32: 9581 | N32: =SUM(L32:M32) -> 17515 | O32: 1985 | P32: 2666 | Q32: =SUM(O32:P32) -> 4651 | R32: 8722 | S32: 7475 | T32: =SUM(R32:S32) -> 16197
A33: 29 | B33: ONDO | C33: 2138 | D33: 3050 | E33: =SUM(C33:D33) -> 5188 | F33: 1964 | G33: 1705 | H33: =SUM(F33:G33) -> 3669 | I33: 2138 | J33: 3050 | K33: =SUM(I33:J33) -> 5188 | L33: 3669 | M33: 1964 | N33: =SUM(L33:M33) -> 5633 | O33: 2814 | P33: 2428 | Q33: =SUM(O33:P33) -> 5242 | R33: 2312 | S33: 1996 | T33: =SUM(R33:S33) -> 4308
A34: 30 | B34: OSUN | C34: 1967 | D34: 2166 | E34: =SUM(C34:D34) -> 4133 | F34: NA | G34: NA | H34: =SUM(F34:G34) -> 0 | I34: NA | J34: NA | K34: =SUM(I34:J34) -> 0 | L34: NA | M34: NA | N34: =SUM(L34:M34) -> 0 | O34: 719 | P34: 654 | Q34: =SUM(O34:P34) -> 1373 | R34: 46 | S34: 169 | T34: =SUM(R34:S34) -> 215
A35: 31 | B35: OYO | C35: 4300 | D35: 5150 | E35: =SUM(C35:D35) -> 9450 | F35: 9600 | G35: 14011 | H35: =SUM(F35:G35) -> 23611 | I35: 4250 | J35: 4620 | K35: =SUM(I35:J35) -> 8870 | L35: 9280 | M35: 17200 | N35: =SUM(L35:M35) -> 26480 | O35: 2639 | P35: 4347 | Q35: =SUM(O35:P35) -> 6986 | R35: NA | S35: NA | T35: =SUM(R35:S35) -> 0
A36: 32 | B36: PLATEAU | C36: 2646 | D36: 922 | E36: =SUM(C36:D36) -> 3568 | F36: 4703 | G36: 2065 | H36: =SUM(F36:G36) -> 6768 | I36: 1715 | J36: 919 | K36: =SUM(I36:J36) -> 2634 | L36: 4699 | M36: 2074 | N36: =SUM(L36:M36) -> 6773 | O36: 1986 | P36: 692 | Q36: =SUM(O36:P36) -> 2678 | R36: 5516 | S36: 2851 | T36: =SUM(R36:S36) -> 8367
A37: 33 | B37: RIVERS | C37: 2671 | D37: 2632 | E37: =SUM(C37:D37) -> 5303 | F37: 3762 | G37: 3428 | H37: =SUM(F37:G37) -> 7190 | I37: 2671 | J37: 2632 | K37: =SUM(I37:J37) -> 5303 | L37: 3762 | M37: 3428 | N37: =SUM(L37:M37) -> 7190 | O37: 2671 | P37: 2632 | Q37: =SUM(O37:P37) -> 5303 | R37: 3762 | S37: 3428 | T37: =SUM(R37:S37) -> 7190
A38: 34 | B38: SOKOTO | C38: NA | D38: NA | E38: =SUM(C38:D38) -> 0 | F38: NA | G38: NA | H38: =SUM(F38:G38) -> 0 | I38: 1979 | J38: 667 | K38: =SUM(I38:J38) -> 2646 | L38: NA | M38: NA | N38: =SUM(L38:M38) -> 0 | O38: 2611 | P38: 823 | Q38: =SUM(O38:P38) -> 3434 | R38: NA | S38: NA | T38: =SUM(R38:S38) -> 0
A39: 35 | B39: TARABA | C39: NA | D39: NA | E39: =SUM(C39:D39) -> 0 | F39: NA | G39: NA | H39: =SUM(F39:G39) -> 0 | I39: 1427 | J39: 450 | K39: =SUM(I39:J39) -> 1877 | L39: NA | M39: NA | N39: =SUM(L39:M39) -> 0 | O39: 1100 | P39: 244 | Q39: =SUM(O39:P39) -> 1344 | R39: NA | S39: NA | T39: =SUM(R39:S39) -> 0
A40: 36 | B40: YOBE | C40: 1062 | D40: 410 | E40: =SUM(C40:D40) -> 1472 | F40: 318 | G40: 240 | H40: =SUM(F40:G40) -> 558 | I40: 832 | J40: 417 | K40: =SUM(I40:J40) -> 1249 | L40: 239 | M40: 104 | N40: =SUM(L40:M40) -> 343 | O40: 1103 | P40: 285 | Q40: =SUM(O40:P40) -> 1388 | R40: 755 | S40: 293 | T40: =SUM(R40:S40) -> 1048
A41: 37 | B41: ZAMFARA | C41: 3921 | D41: 2779 | E41: =SUM(C41:D41) -> 6700 | F41: NA | G41: NA | H41: =SUM(F41:G41) -> 0 | I41: 2487 | J41: 1115 | K41: =SUM(I41:J41) -> 3602 | L41: NA | M41: NA | N41: =SUM(L41:M41) -> 0 | O41: 1802 | P41: 847 | Q41: =SUM(O41:P41) -> 2649 | R41: NA | S41: NA | T41: =SUM(R41:S41) -> 0
A42: 38 | B42: TOTAL | C42: =SUM(C5:C41) -> 88816 | D42: =SUM(D5:D41) -> 77814 | E42: =SUM(E5:E41) -> 166630 | F42: =SUM(F5:F41) -> 74727 | G42: =SUM(G5:G41) -> 87402 | H42: =SUM(H5:H41) -> 162129 | I42: =SUM(I5:I41) -> 71519 | J42: =SUM(J5:J41) -> 73889 | ... T42: =SUM(T5:T41) -> 142441

Sheet ENROLMENT IN SENIOR SEC SCHOOL
A1: SENIOR SECONDARY SCHOOLS ENROLMENT (PUBLIC &PRIVATE) | N1: ENROLMENT IN PUBLIC SENIOR SECONDARY SCHOOLS | Y1: ENROLMENT IN PRIVATE SENIOR SECONDARY SCHOOLS
A2: S/N | B2: STATE | C2: 2014 | F2: 2015 | I2: 2016 | N2: 2014 | Q2: 2015 | T2: 2016 | Y2: 2014 | AB2: 2015 | AE2: 2016
C3: MALE | D3: FEMALE | E3: TOTAL | F3: MALE | G3: FEMALE | H3: TOTAL | I3: MALE | J3: FEMALE | K3: TOTAL | N3: MALE | O3: FEMALE | P3: TOTAL | Q3: MALE | R3: FEMALE | S3: TOTAL | T3: MALE | U3: FEMALE | V3: TOTAL | Y3: MALE | Z3: FEMALE | AA3: TOTAL | AB3: MALE | AC3: FEMALE | AD3: TOTAL | AE3: MALE | AF3: FEMALE | AG3: TOTAL
A4: 1 | B4: ABIA | C4: 45495 | D4: 64832 | E4: =SUM(C4:D4) -> 110327 | F4: 20768 | G4: 21263 | H4: =SUM(F4:G4) -> 42031 | I4: 12580 | J4: 15917 | K4: =SUM(I4:J4) -> 28497 | N4: 12514 | O4: 16218 | P4: =SUM(N4:O4) -> 28732 | Q4: 9199 | R4: 9628 | S4: =SUM(Q4:R4) -> 18827 | T4: 5512 | U4: 8187 | V4: =SUM(T4:U4) -> 13699 | Y4: 8186 | Z4: 8229 | AA4: =SUM(Y4:Z4) -> 16415 | AB4: 11569 | AC4: 11635 | AD4: =SUM(AB4:AC4) -> 23204 | AE4: 7068 | AF4: 7730 | AG4: =SUM(AE4:AF4) -> 14798
A5: 2 | B5: ADAMAWA | C5: 77018 | D5: 63687 | E5: =SUM(C5:D5) -> 140705 | F5: 44636 | G5: 34300 | H5: =SUM(F5:G5) -> 78936 | I5: 45546 | J5: 34999 | K5: =SUM(I5:J5) -> 80545 | N5: 41361 | O5: 31439 | P5: =SUM(N5:O5) -> 72800 | Q5: 42205 | R5: 32081 | S5: =SUM(Q5:R5) -> 74286 | T5: 43066 | U5: 32734 | V5: =SUM(T5:U5) -> 75800 | Y5: NA | Z5: NA | AA5: =SUM(Y5:Z5) -> 0 | AB5: 2431 | AC5: 2219 | AD5: =SUM(AB5:AC5) -> 4650 | AE5: 2480 | AF5: 2265 | AG5: =SUM(AE5:AF5) -> 4745
A6: 3 | B6: AKWA IBOM | C6: 249906 | D6: 263087 | E6: =SUM(C6:D6) -> 512993 | F6: 154729 | G6: 155368 | H6: =SUM(F6:G6) -> 310097 | I6: 130116 | J6: 79775 | K6: =SUM(I6:J6) -> 209891 | N6: 139652 | O6: 139906 | P6: =SUM(N6:O6) -> 279558 | Q6: 146639 | R6: 146905 | S6: =SUM(Q6:R6) -> 293544 | T6: 125082 | U6: 73966 | V6: =SUM(T6:U6) -> 199048 | Y6: 7705 | Z6: 8055 | AA6: =SUM(Y6:Z6) -> 15760 | AB6: 8090 | AC6: 8463 | AD6: =SUM(AB6:AC6) -> 16553 | AE6: 5034 | AF6: 5809 | AG6: =SUM(AE6:AF6) -> 10843
A7: 4 | B7: ANAMBRA | C7: 43962 | D7: 55624 | E7: =SUM(C7:D7) -> 99586 | F7: 27000 | G7: 29939 | H7: =SUM(F7:G7) -> 56939 | I7: 27167 | J7: 31606 | K7: =SUM(I7:J7) -> 58773 | N7: 22198 | O7: 26427 | P7: =SUM(N7:O7) -> 48625 | Q7: 23856 | R7: 26963 | S7: =SUM(Q7:R7) -> 50819 | T7: 23927 | U7: 28531 | V7: =SUM(T7:U7) -> 52458 | Y7: 3014 | Z7: 2826 | AA7: =SUM(Y7:Z7) -> 5840 | AB7: 3144 | AC7: 2976 | AD7: =SUM(AB7:AC7) -> 6120 | AE7: 3240 | AF7: 3075 | AG7: =SUM(AE7:AF7) -> 6315
A8: 5 | B8: BAUCHI | C8: 124018 | D8: 77221 | E8: =SUM(C8:D8) -> 201239 | F8: 65721 | G8: 40402 | H8: =SUM(F8:G8) -> 106123 | I8: 75130 | J8: 47416 | K8: =SUM(I8:J8) -> 122546 | N8: 59360 | O8: 22263 | P8: =SUM(N8:O8) -> 81623 | Q8: 57748 | R8: 32164 | S8: =SUM(Q8:R8) -> 89912 | T8: 61826 | U8: 33211 | V8: =SUM(T8:U8) -> 95037 | Y8: 8583 | Z8: 8952 | AA8: =SUM(Y8:Z8) -> 17535 | AB8: 7973 | AC8: 8238 | AD8: =SUM(AB8:AC8) -> 16211 | AE8: 13304 | AF8: 14205 | AG8: =SUM(AE8:AF8) -> 27509
A9: 6 | B9: BAYELSA | C9: 43021 | D9: 40094 | E9: =SUM(C9:D9) -> 83115 | F9: 24259 | G9: 21597 | H9: =SUM(F9:G9) -> 45856 | I9: 16986 | J9: 15462 | K9: =SUM(I9:J9) -> 32448 | N9: 22849 | O9: 19622 | P9: =SUM(N9:O9) -> 42471 | Q9: 23946 | R9: 21260 | S9: =SUM(Q9:R9) -> 45206 | T9: 16131 | U9: 14578 | V9: =SUM(T9:U9) -> 30709 | Y9: 1476 | Z9: 1518 | AA9: =SUM(Y9:Z9) -> 2994 | AB9: 313 | AC9: 337 | AD9: =SUM(AB9:AC9) -> 650 | AE9: 855 | AF9: 884 | AG9: =SUM(AE9:AF9) -> 1739
A10: 7 | B10: BENUE | C10: 501755 | D10: 665746 | E10: =SUM(C10:D10) -> 1167501 | F10: 256277 | G10: 202739 | H10: =SUM(F10:G10) -> 459016 | I10: 53788 | J10: 44421 | K10: =SUM(I10:J10) -> 98209 | N10: 46961 | O10: 36715 | P10: =SUM(N10:O10) -> 83676 | Q10: 108437 | R10: 90131 | S10: =SUM(Q10:R10) -> 198568 | T10: 25534 | U10: 19647 | V10: =SUM(T10:U10) -> 45181 | Y10: 147840 | Z10: 112608 | AA10: =SUM(Y10:Z10) -> 260448 | AB10: 147840 | AC10: 112608 | AD10: =SUM(AB10:AC10) -> 260448 | AE10: 28254 | AF10: 24774 | AG10: =SUM(AE10:AF10) -> 53028
A11: 8 | B11: BORNO | C11: NA | D11: NA | E11: =SUM(C11:D11) -> 0 | F11: NA | G11: NA | H11: =SUM(F11:G11) -> 0 | I11: 39726 | J11: 28810 | K11: =SUM(I11:J11) -> 68536 | N11: NA | O11: NA | P11: =SUM(N11:O11) -> 0 | Q11: NA | R11: NA | S11: =SUM(Q11:R11) -> 0 | T11: 37002 | U11: 26306 | V11: =SUM(T11:U11) -> 63308 | Y11: NA | Z11: NA | AA11: =SUM(Y11:Z11) -> 0 | AB11: NA | AC11: NA | AD11: =SUM(AB11:AC11) -> 0 | AE11: 2724 | AF11: 2504 | AG11: =SUM(AE11:AF11) -> 5228
A12: 9 | B12: CROSS RIVER | C12: 174839 | D12: 256831 | E12: =SUM(C12:D12) -> 431670 | F12: 67092 | G12: 69579 | H12: =SUM(F12:G12) -> 136671 | I12: 25953 | J12: 25244 | K12: =SUM(I12:J12) -> 51197 | N12: 19877 | O12: 19932 | P12: =SUM(N12:O12) -> 39809 | Q12: 19877 | R12: 19932 | S12: =SUM(Q12:R12) -> 39809 | T12: 18539 | U12: 17556 | V12: =SUM(T12:U12) -> 36095 | Y12: 47215 | Z12: 49647 | AA12: =SUM(Y12:Z12) -> 96862 | AB12: 47215 | AC12: 49647 | AD12: =SUM(AB12:AC12) -> 96862 | AE12: 7414 | AF12: 7688 | AG12: =SUM(AE12:AF12) -> 15102
A13: 10 | B13: DELTA | C13: 163528 | D13: 209579 | E13: =SUM(C13:D13) -> 373107 | F13: 54200 | G13: 52281 | H13: =SUM(F13:G13) -> 106481 | I13: 62726 | J13: 61847 | K13: =SUM(I13:J13) -> 124573 | N13: 47350 | O13: 45417 | P13: =SUM(N13:O13) -> 92767 | Q13: 54200 | R13: 52281 | S13: =SUM(Q13:R13) -> 106481 | T13: 48691 | U13: 47425 | V13: =SUM(T13:U13) -> 96116 | Y13: 29489 | Z13: 28869 | AA13: =SUM(Y13:Z13) -> 58358 | AB13: NA | AC13: NA | AD13: =SUM(AB13:AC13) -> 0 | AE13: 14035 | AF13: 14422 | AG13: =SUM(AE13:AF13) -> 28457
A14: 11 | B14: EBONYI | C14: 40903 | D14: 47421 | E14: =SUM(C14:D14) -> 88324 | F14: 31190 | G14: 34886 | H14: =SUM(F14:G14) -> 66076 | I14: 35808 | J14: 40304 | K14: =SUM(I14:J14) -> 76112 | N14: 21592 | O14: 23733 | P14: =SUM(N14:O14) -> 45325 | Q14: 27204 | R14: 30270 | S14: =SUM(Q14:R14) -> 57474 | T14: 23575 | U14: 27222 | V14: =SUM(T14:U14) -> 50797 | Y14: 1809 | Z14: 1888 | AA14: =SUM(Y14:Z14) -> 3697 | AB14: 3986 | AC14: 4616 | AD14: =SUM(AB14:AC14) -> 8602 | AE14: 12233 | AF14: 13082 | AG14: =SUM(AE14:AF14) -> 25315
A15: 12 | B15: EDO | C15: 133569 | D15: 172936 | E15: =SUM(C15:D15) -> 306505 | F15: 48550 | G15: 48385 | H15: =SUM(F15:G15) -> 96935 | I15: 59787 | J15: 62744 | K15: =SUM(I15:J15) -> 122531 | N15: 41383 | O15: 42789 | P15: =SUM(N15:O15) -> 84172 | Q15: 48550 | R15: 48385 | S15: =SUM(Q15:R15) -> 96935 | T15: 36711 | U15: 40327 | V15: =SUM(T15:U15) -> 77038 | Y15: 21903 | Z15: 22023 | AA15: =SUM(Y15:Z15) -> 43926 | AB15: NA | AC15: NA | AD15: =SUM(AB15:AC15) -> 0 | AE15: 23076 | AF15: 22417 | AG15: =SUM(AE15:AF15) -> 45493
A16: 13 | B16: EKITI | C16: 42912 | D16: 32085 | E16: =SUM(C16:D16) -> 74997 | F16: 28283 | G16: 27891 | H16: =SUM(F16:G16) -> 56174 | I16: 25179 | J16: 25006 | K16: =SUM(I16:J16) -> 50185 | N16: 26185 | O16: 19373 | P16: =SUM(N16:O16) -> 45558 | Q16: 23577 | R16: 23043 | S16: =SUM(Q16:R16) -> 46620 | T16: 21507 | U16: 21077 | V16: =SUM(T16:U16) -> 42584 | Y16: NA | Z16: NA | AA16: =SUM(Y16:Z16) -> 0 | AB16: 4706 | AC16: 4848 | AD16: =SUM(AB16:AC16) -> 9554 | AE16: 3672 | AF16: 3929 | AG16: =SUM(AE16:AF16) -> 7601
A17: 14 | B17: ENUGU | C17: 139806 | D17: 196145 | E17: =SUM(C17:D17) -> 335951 | F17: 53120 | G17: 66113 | H17: =SUM(F17:G17) -> 119233 | I17: 48796 | J17: 60996 | K17: =SUM(I17:J17) -> 109792 | N17: 38534 | O17: 46905 | P17: =SUM(N17:O17) -> 85439 | Q17: 31494 | R17: 42298 | S17: =SUM(Q17:R17) -> 73792 | T17: 29967 | U17: 39455 | V17: =SUM(T17:U17) -> 69422 | Y17: 21816 | Z17: 28022 | AA17: =SUM(Y17:Z17) -> 49838 | AB17: 21626 | AC17: 23815 | AD17: =SUM(AB17:AC17) -> 45441 | AE17: 18829 | AF17: 21541 | AG17: =SUM(AE17:AF17) -> 40370
A18: 15 | B18: FCT | C18: 44250 | D18: 49028 | E18: =SUM(C18:D18) -> 93278 | F18: 31858 | G18: 36105 | H18: =SUM(F18:G18) -> 67963 | I18: 27966 | J18: 29672 | K18: =SUM(I18:J18) -> 57638 | N18: 26136 | O18: 27754 | P18: =SUM(N18:O18) -> 53890 | Q18: 28055 | R18: 32343 | S18: =SUM(Q18:R18) -> 60398 | T18: 27207 | U18: 28939 | V18: =SUM(T18:U18) -> 56146 | Y18: 1301 | Z18: 1364 | AA18: =SUM(Y18:Z18) -> 2665 | AB18: 3803 | AC18: 3762 | AD18: =SUM(AB18:AC18) -> 7565 | AE18: 759 | AF18: 733 | AG18: =SUM(AE18:AF18) -> 1492
A19: 16 | B19: GOMBE | C19: 94874 | D19: 87156 | E19: =SUM(C19:D19) -> 182030 | F19: 38742 | G19: 24994 | H19: =SUM(F19:G19) -> 63736 | I19: 38081 | J19: 27155 | K19: =SUM(I19:J19) -> 65236 | N19: 44462 | O19: 31912 | P19: =SUM(N19:O19) -> 76374 | Q19: 33293 | R19: 19288 | S19: =SUM(Q19:R19) -> 52581 | T19: 30121 | U19: 19568 | V19: =SUM(T19:U19) -> 49689 | Y19: 7314 | Z19: 6758 | AA19: =SUM(Y19:Z19) -> 14072 | AB19: 5449 | AC19: 5706 | AD19: =SUM(AB19:AC19) -> 11155 | AE19: 7960 | AF19: 7587 | AG19: =SUM(AE19:AF19) -> 15547
A20: 17 | B20: IMO | C20: 378997 | D20: 442884 | E20: =SUM(C20:D20) -> 821881 | F20: 232477 | G20: 245488 | H20: =SUM(F20:G20) -> 477965 | I20: 179880 | J20: 205016 | K20: =SUM(I20:J20) -> 384896 | N20: 181087 | O20: 189179 | P20: =SUM(N20:O20) -> 370266 | Q20: 206509 | R20: 217813 | S20: =SUM(Q20:R20) -> 424322 | T20: 178825 | U20: 203858 | V20: =SUM(T20:U20) -> 382683 | Y20: 26696 | Z20: 28451 | AA20: =SUM(Y20:Z20) -> 55147 | AB20: 25968 | AC20: 27675 | AD20: =SUM(AB20:AC20) -> 53643 | AE20: 1055 | AF20: 1158 | AG20: =SUM(AE20:AF20) -> 2213
A21: 18 | B21: JIGAWA | C21: 91344 | D21: 49350 | E21: =SUM(C21:D21) -> 140694 | F21: 52722 | G21: 25864 | H21: =SUM(F21:G21) -> 78586 | I21: 55006 | J21: 31371 | K21: =SUM(I21:J21) -> 86377 | N21: 56374 | O21: 29069 | P21: =SUM(N21:O21) -> 85443 | Q21: 52075 | R21: 25477 | S21: =SUM(Q21:R21) -> 77552 | T21: 54797 | U21: 31227 | V21: =SUM(T21:U21) -> 86024 | Y21: 444 | Z21: 336 | AA21: =SUM(Y21:Z21) -> 780 | AB21: 647 | AC21: 387 | AD21: =SUM(AB21:AC21) -> 1034 | AE21: 209 | AF21: 144 | AG21: =SUM(AE21:AF21) -> 353
A22: 19 | B22: KADUNA | C22: 175832 | D22: 174589 | E22: =SUM(C22:D22) -> 350421 | F22: 74464 | G22: 61788 | H22: =SUM(F22:G22) -> 136252 | I22: 89908 | J22: 76358 | K22: =SUM(I22:J22) -> 166266 | N22: 68945 | O22: 48341 | P22: =SUM(N22:O22) -> 117286 | Q22: 57295 | R22: 44882 | S22: =SUM(Q22:R22) -> 102177 | T22: 69986 | U22: 57529 | V22: =SUM(T22:U22) -> 127515 | Y22: 20675 | Z22: 20413 | AA22: =SUM(Y22:Z22) -> 41088 | AB22: 17169 | AC22: 16906 | AD22: =SUM(AB22:AC22) -> 34075 | AE22: 19922 | AF22: 18829 | AG22: =SUM(AE22:AF22) -> 38751
A23: 20 | B23: KANO | C23: 272950 | D23: 195201 | E23: =SUM(C23:D23) -> 468151 | F23: 177467 | G23: 120731 | H23: =SUM(F23:G23) -> 298198 | I23: 161304 | J23: 111502 | K23: =SUM(I23:J23) -> 272806 | N23: 132668 | O23: 68566 | P23: =SUM(N23:O23) -> 201234 | Q23: 160098 | R23: 99563 | S23: =SUM(Q23:R23) -> 259661 | T23: 146055 | U23: 93024 | V23: =SUM(T23:U23) -> 239079 | Y23: 17241 | Z23: 19038 | AA23: =SUM(Y23:Z23) -> 36279 | AB23: 17369 | AC23: 21168 | AD23: =SUM(AB23:AC23) -> 38537 | AE23: 15249 | AF23: 18478 | AG23: =SUM(AE23:AF23) -> 33727
A24: 21 | B24: KATSINA | C24: 152590 | D24: 92103 | E24: =SUM(C24:D24) -> 244693 | F24: 103954 | G24: 52279 | H24: =SUM(F24:G24) -> 156233 | I24: 106949 | J24: 62457 | K24: =SUM(I24:J24) -> 169406 | N24: 82163 | O24: 39250 | P24: =SUM(N24:O24) -> 121413 | Q24: 95767 | R24: 46549 | S24: =SUM(Q24:R24) -> 142316 | T24: 95761 | U24: 53534 | V24: =SUM(T24:U24) -> 149295 | Y24: 7066 | Z24: 5065 | AA24: =SUM(Y24:Z24) -> 12131 | AB24: 8187 | AC24: 5730 | AD24: =SUM(AB24:AC24) -> 13917 | AE24: 11188 | AF24: 8923 | AG24: =SUM(AE24:AF24) -> 20111
A25: 22 | B25: KEBBI | C25: NA | D25: NA | E25: =SUM(C25:D25) -> 0 | F25: NA | G25: NA | H25: =SUM(F25:G25) -> 0 | I25: 55369 | J25: 23125 | K25: =SUM(I25:J25) -> 78494 | N25: NA | O25: NA | P25: =SUM(N25:O25) -> 0 | Q25: NA | R25: NA | S25: =SUM(Q25:R25) -> 0 | T25: 54068 | U25: 22005 | V25: =SUM(T25:U25) -> 76073 | Y25: NA | Z25: NA | AA25: =SUM(Y25:Z25) -> 0 | AB25: NA | AC25: NA | AD25: =SUM(AB25:AC25) -> 0 | AE25: 1301 | AF25: 1120 | AG25: =SUM(AE25:AF25) -> 2421
A26: 23 | B26: KOGI | C26: 77330 | D26: 81299 | E26: =SUM(C26:D26) -> 158629 | F26: 40681 | G26: 35601 | H26: =SUM(F26:G26) -> 76282 | I26: 29454 | J26: 26917 | K26: =SUM(I26:J26) -> 56371 | N26: 32195 | O26: 26910 | P26: =SUM(N26:O26) -> 59105 | Q26: 32840 | R26: 27448 | S26: =SUM(Q26:R26) -> 60288 | T26: 21204 | U26: 18338 | V26: =SUM(T26:U26) -> 39542 | Y26: 7427 | Z26: 7725 | AA26: =SUM(Y26:Z26) -> 15152 | AB26: 7841 | AC26: 8153 | AD26: =SUM(AB26:AC26) -> 15994 | AE26: 8250 | AF26: 8579 | AG26: =SUM(AE26:AF26) -> 16829
A27: 24 | B27: KWARA | C27: 72637 | D27: 63400 | E27: =SUM(C27:D27) -> 136037 | F27: 52519 | G27: 47019 | H27: =SUM(F27:G27) -> 99538 | I27: 54752 | J27: 48695 | K27: =SUM(I27:J27) -> 103447 | N27: 44337 | O27: 38860 | P27: =SUM(N27:O27) -> 83197 | Q27: 45523 | R27: 40711 | S27: =SUM(Q27:R27) -> 86234 | T27: 47449 | U27: 41791 | V27: =SUM(T27:U27) -> 89240 | Y27: NA | Z27: NA | AA27: =SUM(Y27:Z27) -> 0 | AB27: 6996 | AC27: 6308 | AD27: =SUM(AB27:AC27) -> 13304 | AE27: 7303 | AF27: 6904 | AG27: =SUM(AE27:AF27) -> 14207
A28: 25 | B28: LAGOS | C28: 179180 | D28: 199782 | E28: =SUM(C28:D28) -> 378962 | F28: 183671 | G28: 191285 | H28: =SUM(F28:G28) -> 374956 | I28: 175485 | J28: 185379 | K28: =SUM(I28:J28) -> 360864 | N28: 115601 | O28: 132168 | P28: =SUM(N28:O28) -> 247769 | Q28: 122629 | R28: 125710 | S28: =SUM(Q28:R28) -> 248339 | T28: 114443 | U28: 119804 | V28: =SUM(T28:U28) -> 234247 | Y28: NA | Z28: NA | AA28: =SUM(Y28:Z28) -> 0 | AB28: 61042 | AC28: 65575 | AD28: =SUM(AB28:AC28) -> 126617 | AE28: 61042 | AF28: 65575 | AG28: =SUM(AE28:AF28) -> 126617
A29: 26 | B29: NASARAWA | C29: NA | D29: NA | E29: =SUM(C29:D29) -> 0 | F29: 50454 | G29: 37640 | H29: =SUM(F29:G29) -> 88094 | I29: 49305 | J29: 37813 | K29: =SUM(I29:J29) -> 87118 | N29: NA | O29: NA | P29: =SUM(N29:O29) -> 0 | Q29: 41085 | R29: 28756 | S29: =SUM(Q29:R29) -> 69841 | T29: 41587 | U29: 30656 | V29: =SUM(T29:U29) -> 72243 | Y29: NA | Z29: NA | AA29: =SUM(Y29:Z29) -> 0 | AB29: 9369 | AC29: 8884 | AD29: =SUM(AB29:AC29) -> 18253 | AE29: 7718 | AF29: 7157 | AG29: =SUM(AE29:AF29) -> 14875
A30: 27 | B30: NIGER | C30: 168368 | D30: 125158 | E30: =SUM(C30:D30) -> 293526 | F30: 91850 | G30: 63101 | H30: =SUM(F30:G30) -> 154951 | I30: 93565 | J30: 69493 | K30: =SUM(I30:J30) -> 163058 | N30: 90687 | O30: 59894 | P30: =SUM(N30:O30) -> 150581 | Q30: 85776 | R30: 57123 | S30: =SUM(Q30:R30) -> 142899 | T30: 86139 | U30: 61926 | V30: =SUM(T30:U30) -> 148065 | Y30: 5766 | Z30: 5578 | AA30: =SUM(Y30:Z30) -> 11344 | AB30: 6074 | AC30: 5978 | AD30: =SUM(AB30:AC30) -> 12052 | AE30: 7426 | AF30: 7567 | AG30: =SUM(AE30:AF30) -> 14993
A31: 28 | B31: OGUN | C31: 221117 | D31: 267716 | E31: =SUM(C31:D31) -> 488833 | F31: 125064 | G31: 125979 | H31: =SUM(F31:G31) -> 251043 | I31: 113185 | J31: 119309 | K31: =SUM(I31:J31) -> 232494 | N31: 82197 | O31: 80339 | P31: =SUM(N31:O31) -> 162536 | Q31: 85895 | R31: 84790 | S31: =SUM(Q31:R31) -> 170685 | T31: 73765 | U31: 78357 | V31: =SUM(T31:U31) -> 152122 | Y31: 28995 | Z31: 29835 | AA31: =SUM(Y31:Z31) -> 58830 | AB31: 39169 | AC31: 41189 | AD31: =SUM(AB31:AC31) -> 80358 | AE31: 39420 | AF31: 40952 | AG31: =SUM(AE31:AF31) -> 80372
A32: 29 | B32: ONDO | C32: 142787 | D32: 163474 | E32: =SUM(C32:D32) -> 306261 | F32: 75259 | G32: 71899 | H32: =SUM(F32:G32) -> 147158 | I32: 53854 | J32: 53841 | K32: =SUM(I32:J32) -> 107695 | N32: 59311 | O32: 56791 | P32: =SUM(N32:O32) -> 116102 | Q32: 59391 | R32: 56787 | S32: =SUM(Q32:R32) -> 116178 | T32: 47601 | U32: 47510 | V32: =SUM(T32:U32) -> 95111 | Y32: 15790 | Z32: 15112 | AA32: =SUM(Y32:Z32) -> 30902 | AB32: 15868 | AC32: 15112 | AD32: =SUM(AB32:AC32) -> 30980 | AE32: 6253 | AF32: 6331 | AG32: =SUM(AE32:AF32) -> 12584
A33: 30 | B33: OSUN | C33: NA | D33: NA | E33: =SUM(C33:D33) -> 0 | F33: 70065 | G33: 68605 | H33: =SUM(F33:G33) -> 138670 | I33: 44190 | J33: 40974 | K33: =SUM(I33:J33) -> 85164 | N33: NA | O33: NA | P33: =SUM(N33:O33) -> 0 | Q33: 59403 | R33: 56775 | S33: =SUM(Q33:R33) -> 116178 | T33: 40619 | U33: 37199 | V33: =SUM(T33:U33) -> 77818 | Y33: NA | Z33: NA | AA33: =SUM(Y33:Z33) -> 0 | AB33: 10662 | AC33: 11830 | AD33: =SUM(AB33:AC33) -> 22492 | AE33: 3571 | AF33: 3775 | AG33: =SUM(AE33:AF33) -> 7346
A34: 31 | B34: OYO | C34: 236290 | D34: 277734 | E34: =SUM(C34:D34) -> 514024 | F34: 140755 | G34: 147412 | H34: =SUM(F34:G34) -> 288167 | I34: 119528 | J34: 123603 | K34: =SUM(I34:J34) -> 243131 | N34: 103175 | O34: 105855 | P34: =SUM(N34:O34) -> 209030 | Q34: NA | R34: NA | S34: =SUM(Q34:R34) -> 0 | T34: 92514 | U34: 94696 | V34: =SUM(T34:U34) -> 187210 | Y34: NA | Z34: NA | AA34: =SUM(Y34:Z34) -> 0 | AB34: 30724 | AC34: 32274 | AD34: =SUM(AB34:AC34) -> 62998 | AE34: 27014 | AF34: 28907 | AG34: =SUM(AE34:AF34) -> 55921
A35: 32 | B35: PLATEAU | C35: 107453 | D35: 127506 | E35: =SUM(C35:D35) -> 234959 | F35: 55501 | G35: 47524 | H35: =SUM(F35:G35) -> 103025 | I35: 44582 | J35: 38930 | K35: =SUM(I35:J35) -> 83512 | N35: 30047 | O35: 23097 | P35: =SUM(N35:O35) -> 53144 | Q35: 34288 | R35: 28553 | S35: =SUM(Q35:R35) -> 62841 | T35: 25865 | U35: 20536 | V35: =SUM(T35:U35) -> 46401 | Y35: 20198 | Z35: 18352 | AA35: =SUM(Y35:Z35) -> 38550 | AB35: 21213 | AC35: 18971 | AD35: =SUM(AB35:AC35) -> 40184 | AE35: 18717 | AF35: 18394 | AG35: =SUM(AE35:AF35) -> 37111
A36: 33 | B36: RIVERS | C36: NA | D36: NA | E36: =SUM(C36:D36) -> 0 | F36: NA | G36: NA | H36: =SUM(F36:G36) -> 0 | I36: 51085 | J36: 62424 | K36: =SUM(I36:J36) -> 113509 | N36: NA | O36: NA | P36: =SUM(N36:O36) -> 0 | Q36: NA | R36: NA | S36: =SUM(Q36:R36) -> 0 | T36: 38852 | U36: 50158 | V36: =SUM(T36:U36) -> 89010 | Y36: NA | Z36: NA | AA36: =SUM(Y36:Z36) -> 0 | AB36: NA | AC36: NA | AD36: =SUM(AB36:AC36) -> 0 | AE36: 12233 | AF36: 12266 | AG36: =SUM(AE36:AF36) -> 24499
A37: 34 | B37: SOKOTO | C37: 81366 | D37: 42464 | E37: =SUM(C37:D37) -> 123830 | F37: 39411 | G37: 20610 | H37: =SUM(F37:G37) -> 60021 | I37: 50240 | J37: 27848 | K37: =SUM(I37:J37) -> 78088 | N37: 46592 | O37: 21520 | P37: =SUM(N37:O37) -> 68112 | Q37: 36507 | R37: 18350 | S37: =SUM(Q37:R37) -> 54857 | T37: 47609 | U37: 25066 | V37: =SUM(T37:U37) -> 72675 | Y37: 1638 | Z37: 1235 | AA37: =SUM(Y37:Z37) -> 2873 | AB37: 2904 | AC37: 2260 | AD37: =SUM(AB37:AC37) -> 5164 | AE37: 2631 | AF37: 2782 | AG37: =SUM(AE37:AF37) -> 5413
A38: 35 | B38: TARABA | C38: NA | D38: NA | E38: =SUM(C38:D38) -> 0 | F38: 26588 | G38: 20717 | H38: =SUM(F38:G38) -> 47305 | I38: 29375 | J38: 21955 | K38: =SUM(I38:J38) -> 51330 | N38: NA | O38: NA | P38: =SUM(N38:O38) -> 0 | Q38: 19507 | R38: 14383 | S38: =SUM(Q38:R38) -> 33890 | T38: 19259 | U38: 13522 | V38: =SUM(T38:U38) -> 32781 | Y38: NA | Z38: NA | AA38: =SUM(Y38:Z38) -> 0 | AB38: 7081 | AC38: 6334 | AD38: =SUM(AB38:AC38) -> 13415 | AE38: 10116 | AF38: 8433 | AG38: =SUM(AE38:AF38) -> 18549
A39: 36 | B39: YOBE | C39: 84370 | D39: 42627 | E39: =SUM(C39:D39) -> 126997 | F39: 49469 | G39: 26373 | H39: =SUM(F39:G39) -> 75842 | I39: 28517 | J39: 15063 | K39: =SUM(I39:J39) -> 43580 | N39: 44864 | O39: 16033 | P39: =SUM(N39:O39) -> 60897 | Q39: 46167 | R39: 22095 | S39: =SUM(Q39:R39) -> 68262 | T39: 26135 | U39: 11855 | V39: =SUM(T39:U39) -> 37990 | Y39: 2912 | Z39: 3788 | AA39: =SUM(Y39:Z39) -> 6700 | AB39: 3302 | AC39: 4278 | AD39: =SUM(AB39:AC39) -> 7580 | AE39: 2382 | AF39: 3208 | AG39: =SUM(AE39:AF39) -> 5590
A40: 37 | B40: ZAMFARA | C40: 90064 | D40: 44819 | E40: =SUM(C40:D40) -> 134883 | F40: 51539 | G40: 19647 | H40: =SUM(F40:G40) -> 71186 | I40: 106324 | J40: 44670 | K40: =SUM(I40:J40) -> 150994 | N40: 52683 | O40: 24040 | P40: =SUM(N40:O40) -> 76723 | Q40: 50053 | R40: 18106 | S40: =SUM(Q40:R40) -> 68159 | T40: 53162 | U40: 22335 | V40: =SUM(T40:U40) -> 75497 | Y40: NA | Z40: NA | AA40: =SUM(Y40:Z40) -> 0 | AB40: 1486 | AC40: 1541 | AD40: =SUM(AB40:AC40) -> 3027 | AE40: 53162 | AF40: 22335 | AG40: =SUM(AE40:AF40) -> 75497
A41: 38 | B41: TOTAL | C41: =SUM(C4:C40) -> 4452531 | D41: =SUM(D4:D40) -> 4671578 | E41: =SUM(E4:E40) -> 9124109 | F41: =SUM(F4:F40) -> 2640335 | G41: =SUM(G4:G40) -> 2295404 | H41: =SUM(H4:H40) -> 4935739 | I41: =SUM(I4:I40) -> 2417192 | J41: =SUM(J4:J40) -> 2058117 | K41: =SUM(K4:K40) -> 4475309 | N41: =SUM(N4:N40) -> 1833340 | O41: =SUM(O4:O40) -> 1510317 | P41: =SUM(P4:P40) -> 3343657 | Q41: =SUM(Q4:Q40) -> 1969088 | R41: =SUM(R4:R40) -> 1640843 | S41: =SUM(S4:S40) -> 3609931 | T41: =SUM(T4:T40) -> 1950093 | U41: =SUM(U4:U40) -> 1613655 | V41: =SUM(V4:V40) -> 3563748 | Y41: =SUM(Y4:Y40) -> 462499 | Z41: =SUM(Z4:Z40) -> 435687 | AA41: =SUM(AA4:AA40) -> 898186 | AB41: =SUM(AB4:AB40) -> 561216 | AC41: =SUM(AC4:AC40) -> 539423 | AD41: =SUM(AD4:AD40) -> 1100639 | AE41: =SUM(AE4:AE40) -> 467099 | AF41: =SUM(AF4:AF40) -> 444462 | AG41: =SUM(AG4:AG40) -> 911561

Sheet NO OF TEACHERS IN SEN SEC SCHL
A1: NUMBER OF TEACHERS IN SENIOR SECONDARY SCHOOL
A2: S/N | B2: State | C2: 2014 | I2: 2015 | O2: 2016
C3: PUBLIC | F3: PRIVATE | I3: PUBLIC | L3: PRIVATE | O3: PUBLIC | R3: PRIVATE
C4: MALE | D4: FEMALE | E4: TOTAL | F4: MALE | G4: FEMALE | H4: TOTAL | I4: MALE | J4: FEMALE | K4: TOTAL | L4: MALE | M4: FEMALE | N4: TOTAL | O4: MALE | P4: FEMALE | Q4: TOTAL | R4: MALE | S4: FEMALE | T4: TOTAL
A5: 1 | B5: ABIA | C5: 1186 | D5: 2789 | E5: =SUM(C5:D5) -> 3975 | F5: 732 | G5: 692 | H5: =SUM(F5:G5) -> 1424 | I5: 711 | J5: 1774 | K5: =SUM(I5:J5) -> 2485 | L5: 1222 | M5: 1086 | N5: =SUM(L5:M5) -> 2308 | O5: 444 | P5: 1209 | Q5: =SUM(O5:P5) -> 1653 | R5: 1481 | S5: 1953 | T5: =SUM(R5:S5) -> 3434
A6: 2 | B6: ADAMAWA | C6: NA | D6: NA | E6: =SUM(C6:D6) -> 0 | F6: NA | G6: NA | H6: =SUM(F6:G6) -> 0 | I6: NA | J6: NA | K6: =SUM(I6:J6) -> 0 | L6: NA | M6: NA | N6: =SUM(L6:M6) -> 0 | O6: 2260 | P6: 905 | Q6: =SUM(O6:P6) -> 3165 | R6: 780 | S6: 571 | T6: =SUM(R6:S6) -> 1351
A7: 3 | B7: AKWA IBOM | C7: 1625 | D7: 998 | E7: =SUM(C7:D7) -> 2623 | F7: 205 | G7: 131 | H7: =SUM(F7:G7) -> 336 | I7: 1706 | J7: 1049 | K7: =SUM(I7:J7) -> 2755 | L7: 211 | M7: 133 | N7: =SUM(L7:M7) -> 344 | O7: 1960 | P7: 1477 | Q7: =SUM(O7:P7) -> 3437 | R7: 1168 | S7: 786 | T7: =SUM(R7:S7) -> 1954
A8: 4 | B8: ANAMBRA | C8: 947 | D8: 4543 | E8: =SUM(C8:D8) -> 5490 | F8: 914 | G8: 1096 | H8: =SUM(F8:G8) -> 2010 | I8: 1168 | J8: 5828 | K8: =SUM(I8:J8) -> 6996 | L8: 1017 | M8: 1124 | N8: =SUM(L8:M8) -> 2141 | O8: 1102 | P8: 5513 | Q8: =SUM(O8:P8) -> 6615 | R8: 1087 | S8: 1007 | T8: =SUM(R8:S8) -> 2094
A9: 5 | B9: BAUCHI | C9: 3629 | D9: 1018 | E9: =SUM(C9:D9) -> 4647 | F9: NA | G9: NA | H9: =SUM(F9:G9) -> 0 | I9: 3397 | J9: 992 | K9: =SUM(I9:J9) -> 4389 | L9: 1819 | M9: 7225 | N9: =SUM(L9:M9) -> 9044 | O9: 3584 | P9: 1178 | Q9: =SUM(O9:P9) -> 4762 | R9: 466 | S9: 144 | T9: =SUM(R9:S9) -> 610
A10: 6 | B10: BAYELSA | C10: 1533 | D10: 1004 | E10: =SUM(C10:D10) -> 2537 | F10: 214 | G10: 263 | H10: =SUM(F10:G10) -> 477 | I10: 1045 | J10: 862 | K10: =SUM(I10:J10) -> 1907 | L10: 201 | M10: 256 | N10: =SUM(L10:M10) -> 457 | O10: 1094 | P10: 438 | Q10: =SUM(O10:P10) -> 1532 | R10: 500 | S10: 400 | T10: =SUM(R10:S10) -> 900
A11: 7 | B11: BENUE | C11: 5522 | D11: 2328 | E11: =SUM(C11:D11) -> 7850 | F11: 6130 | G11: 4307 | H11: =SUM(F11:G11) -> 10437 | I11: 633 | J11: 453 | K11: =SUM(I11:J11) -> 1086 | L11: 6130 | M11: 4307 | N11: =SUM(L11:M11) -> 10437 | O11: 3189 | P11: 802 | Q11: =SUM(O11:P11) -> 3991 | R11: 6591 | S11: 2093 | T11: =SUM(R11:S11) -> 8684
A12: 8 | B12: BORNO | C12: NA | D12: NA | E12: =SUM(C12:D12) -> 0 | F12: NA | G12: NA | H12: =SUM(F12:G12) -> 0 | I12: NA | J12: NA | K12: =SUM(I12:J12) -> 0 | L12: NA | M12: NA | N12: =SUM(L12:M12) -> 0 | O12: 1229 | P12: 516 | Q12: =SUM(O12:P12) -> 1745 | R12: 423 | S12: 178 | T12: =SUM(R12:S12) -> 601
A13: 9 | B13: CROSS RIVER | C13: 1878 | D13: 1827 | E13: =SUM(C13:D13) -> 3705 | F13: 1488 | G13: 1700 | H13: =SUM(F13:G13) -> 3188 | I13: 1878 | J13: 1827 | K13: =SUM(I13:J13) -> 3705 | L13: 1488 | M13: 1700 | N13: =SUM(L13:M13) -> 3188 | O13: 1217 | P13: 627 | Q13: =SUM(O13:P13) -> 1844 | R13: 1956 | S13: 1327 | T13: =SUM(R13:S13) -> 3283
A14: 10 | B14: DELTA | C14: 6921 | D14: 8632 | E14: =SUM(C14:D14) -> 15553 | F14: 3219 | G14: 3940 | H14: =SUM(F14:G14) -> 7159 | I14: 6921 | J14: 8632 | K14: =SUM(I14:J14) -> 15553 | L14: NA | M14: NA | N14: =SUM(L14:M14) -> 0 | O14: 2172 | P14: 2543 | Q14: =SUM(O14:P14) -> 4715 | R14: 3247 | S14: 3485 | T14: =SUM(R14:S14) -> 6732
A15: 11 | B15: EBONYI | C15: 371 | D15: 254 | E15: =SUM(C15:D15) -> 625 | F15: 429 | G15: 724 | H15: =SUM(F15:G15) -> 1153 | I15: 2495 | J15: 1678 | K15: =SUM(I15:J15) -> 4173 | L15: 914 | M15: 890 | N15: =SUM(L15:M15) -> 1804 | O15: 2495 | P15: 1678 | Q15: =SUM(O15:P15) -> 4173 | R15: 2422 | S15: 2801 | T15: =SUM(R15:S15) -> 5223
A16: 12 | B16: EDO | C16: 1832 | D16: 1745 | E16: =SUM(C16:D16) -> 3577 | F16: 11689 | G16: 11498 | H16: =SUM(F16:G16) -> 23187 | I16: 1,271 1,137 | K16: =SUM(I16:J16) -> 0 | L16: 1567 | M16: 1327 | N16: =SUM(L16:M16) -> 2894 | O16: 861 | P16: 587 | Q16: =SUM(O16:P16) -> 1448 | R16: 4605 | S16: 3906 | T16: =SUM(R16:S16) -> 8511
A17: 13 | B17: EKITI | C17: 3253 | D17: 4164 | E17: =SUM(C17:D17) -> 7417 | F17: NA | G17: NA | H17: =SUM(F17:G17) -> 0 | I17: 3310 | J17: 4286 | K17: =SUM(I17:J17) -> 7596 | L17: 1581 | M17: 1357 | N17: =SUM(L17:M17) -> 2938 | O17: 2077 | P17: 1939 | Q17: =SUM(O17:P17) -> 4016 | R17: 746 | S17: 920 | T17: =SUM(R17:S17) -> 1666
A18: 14 | B18: ENUGU | C18: NA | D18: NA | E18: =SUM(C18:D18) -> 0 | F18: NA | G18: NA | H18: =SUM(F18:G18) -> 0 | I18: 2172 | J18: 3711 | K18: =SUM(I18:J18) -> 5883 | L18: 4703 | M18: 15946 | N18: =SUM(L18:M18) -> 20649 | O18: 1858 | P18: 3307 | Q18: =SUM(O18:P18) -> 5165 | R18: 4654 | S18: 17425 | T18: =SUM(R18:S18) -> 22079
A19: 15 | B19: FCT | C19: 1523 | D19: 1910 | E19: =SUM(C19:D19) -> 3433 | F19: 1033 | G19: 744 | H19: =SUM(F19:G19) -> 1777 | I19: 1272 | J19: 1733 | K19: =SUM(I19:J19) -> 3005 | L19: 1445 | M19: 1041 | N19: =SUM(L19:M19) -> 2486 | O19: 1149 | P19: 1314 | Q19: =SUM(O19:P19) -> 2463 | R19: 304 | S19: 266 | T19: =SUM(R19:S19) -> 570
A20: 16 | B20: GOMBE | C20: 1316 | D20: 584 | E20: =SUM(C20:D20) -> 1900 | F20: 259 | G20: 181 | H20: =SUM(F20:G20) -> 440 | I20: 1612 | J20: 573 | K20: =SUM(I20:J20) -> 2185 | L20: 3558 | M20: 2610 | N20: =SUM(L20:M20) -> 6168 | O20: 1454 | P20: 518 | Q20: =SUM(O20:P20) -> 1972 | R20: 3681 | S20: 2624 | T20: =SUM(R20:S20) -> 6305
A21: 17 | B21: IMO | C21: 1945 | D21: 1778 | E21: =SUM(C21:D21) -> 3723 | F21: 761 | G21: 1890 | H21: =SUM(F21:G21) -> 2651 | I21: 2002 | J21: 1829 | K21: =SUM(I21:J21) -> 3831 | L21: 784 | M21: 1946 | N21: =SUM(L21:M21) -> 2730 | O21: 849 | P21: 1875 | Q21: =SUM(O21:P21) -> 2724 | R21: 203 | S21: 194 | T21: =SUM(R21:S21) -> 397
A22: 18 | B22: JIGAWA | C22: 2014 | D22: 185 | E22: =SUM(C22:D22) -> 2199 | F22: 1191 | G22: 597 | H22: =SUM(F22:G22) -> 1788 | I22: 2047 | J22: 203 | K22: =SUM(I22:J22) -> 2250 | L22: 1189 | M22: 629 | N22: =SUM(L22:M22) -> 1818 | O22: 2104 | P22: 248 | Q22: =SUM(O22:P22) -> 2352 | R22: 1191 | S22: 618 | T22: =SUM(R22:S22) -> 1809
A23: 19 | B23: KADUNA | C23: 3502 | D23: 1655 | E23: =SUM(C23:D23) -> 5157 | F23: 2490 | G23: 1294 | H23: =SUM(F23:G23) -> 3784 | I23: 1810 | J23: 5658 | K23: =SUM(I23:J23) -> 7468 | L23: NA | M23: NA | N23: =SUM(L23:M23) -> 0 | O23: 3810 | P23: 1836 | Q23: =SUM(O23:P23) -> 5646 | R23: 9231 | S23: 10421 | T23: =SUM(R23:S23) -> 19652
A24: 20 | B24: KANO | C24: 7996 | D24: 2223 | E24: =SUM(C24:D24) -> 10219 | F24: NA | G24: NA | H24: =SUM(F24:G24) -> 0 | I24: 9351 | J24: 2788 | K24: =SUM(I24:J24) -> 12139 | L24: 9335 | M24: 7903 | N24: =SUM(L24:M24) -> 17238 | O24: 5609 | P24: 1798 | Q24: =SUM(O24:P24) -> 7407 | R24: 8426 | S24: 7203 | T24: =SUM(R24:S24) -> 15629
A25: 21 | B25: KATSINA | C25: 2444 | D25: 434 | E25: =SUM(C25:D25) -> 2878 | F25: NA | G25: NA | H25: =SUM(F25:G25) -> 0 | I25: 2876 | J25: 485 | K25: =SUM(I25:J25) -> 3361 | L25: 3638 | M25: 1960 | N25: =SUM(L25:M25) -> 5598 | O25: 2757 | P25: 493 | Q25: =SUM(O25:P25) -> 3250 | R25: 4284 | S25: 2198 | T25: =SUM(R25:S25) -> 6482
A26: 22 | B26: KEBBI | C26: NA | D26: NA | E26: =SUM(C26:D26) -> 0 | F26: NA | G26: NA | H26: =SUM(F26:G26) -> 0 | I26: NA | J26: NA | K26: =SUM(I26:J26) -> 0 | L26: NA | M26: NA | N26: =SUM(L26:M26) -> 0 | O26: 1795 | P26: 453 | Q26: =SUM(O26:P26) -> 2248 | R26: 1539 | S26: 1152 | T26: =SUM(R26:S26) -> 2691
A27: 23 | B27: KOGI | C27: 2765 | D27: 1291 | E27: =SUM(C27:D27) -> 4056 | F27: NA | G27: NA | H27: =SUM(F27:G27) -> 0 | I27: 2640 | J27: 1234 | K27: =SUM(I27:J27) -> 3874 | L27: NA | M27: NA | N27: =SUM(L27:M27) -> 0 | O27: 1775 | P27: 840 | Q27: =SUM(O27:P27) -> 2615 | R27: 2115 | S27: 1452 | T27: =SUM(R27:S27) -> 3567
A28: 24 | B28: KWARA | C28: 6006 | D28: 8402 | E28: =SUM(C28:D28) -> 14408 | F28: NA | G28: NA | H28: =SUM(F28:G28) -> 0 | I28: 4118 | J28: 3415 | K28: =SUM(I28:J28) -> 7533 | L28: NA | M28: NA | N28: =SUM(L28:M28) -> 0 | O28: 4006 | P28: 3503 | Q28: =SUM(O28:P28) -> 7509 | R28: 5991 | S28: 9033 | T28: =SUM(R28:S28) -> 15024
A29: 25 | B29: LAGOS | C29: 6298 | D29: 8185 | E29: =SUM(C29:D29) -> 14483 | F29: NA | G29: NA | H29: =SUM(F29:G29) -> 0 | I29: 4405 | J29: 5696 | K29: =SUM(I29:J29) -> 10101 | L29: 23354 | M29: 50228 | N29: =SUM(L29:M29) -> 73582 | O29: 3891 | P29: 5217 | Q29: =SUM(O29:P29) -> 9108 | R29: NA | S29: NA | T29: =SUM(R29:S29) -> 0
A30: 26 | B30: NASARAWA | C30: NA | D30: NA | E30: =SUM(C30:D30) -> 0 | F30: NA | G30: NA | H30: =SUM(F30:G30) -> 0 | I30: 4613 | J30: 1509 | K30: =SUM(I30:J30) -> 6122 | L30: NA | M30: NA | N30: =SUM(L30:M30) -> 0 | O30: 2643 | P30: 652 | Q30: =SUM(O30:P30) -> 3295 | R30: 2780 | S30: 1503 | T30: =SUM(R30:S30) -> 4283
A31: 27 | B31: NIGER | C31: 2826 | D31: 1291 | E31: =SUM(C31:D31) -> 4117 | F31: 5965 | G31: 6715 | H31: =SUM(F31:G31) -> 12680 | I31: 2711 | J31: 1238 | K31: =SUM(I31:J31) -> 3949 | L31: 6065 | M31: 7158 | N31: =SUM(L31:M31) -> 13223 | O31: 2403 | P31: 1198 | Q31: =SUM(O31:P31) -> 3601 | R31: 8069 | S31: 9976 | T31: =SUM(R31:S31) -> 18045
A32: 28 | B32: OGUN | C32: 3018 | D32: 3495 | E32: =SUM(C32:D32) -> 6513 | F32: 10296 | G32: 9256 | H32: =SUM(F32:G32) -> 19552 | I32: 5329 | J32: 6791 | K32: =SUM(I32:J32) -> 12120 | L32: 7934 | M32: 9581 | N32: =SUM(L32:M32) -> 17515 | O32: 2353 | P32: 2120 | Q32: =SUM(O32:P32) -> 4473 | R32: 8732 | S32: 7459 | T32: =SUM(R32:S32) -> 16191
A33: 29 | B33: ONDO | C33: 3181 | D33: 2062 | E33: =SUM(C33:D33) -> 5243 | F33: 2176 | G33: 2198 | H33: =SUM(F33:G33) -> 4374 | I33: 3181 | J33: 2062 | K33: =SUM(I33:J33) -> 5243 | L33: 2176 | M33: 2198 | N33: =SUM(L33:M33) -> 4374 | O33: 3115 | P33: 2452 | Q33: =SUM(O33:P33) -> 5567 | R33: 2236 | S33: 1938 | T33: =SUM(R33:S33) -> 4174
A34: 30 | B34: OSUN | C34: NA | D34: NA | E34: =SUM(C34:D34) -> 0 | F34: NA | G34: NA | H34: =SUM(F34:G34) -> 0 | I34: 3120 | J34: 2033 | K34: =SUM(I34:J34) -> 5153 | L34: 1717 | M34: 430 | N34: =SUM(L34:M34) -> 2147 | O34: 1143 | P34: 704 | Q34: =SUM(O34:P34) -> 1847 | R34: 857 | S34: 832 | T34: =SUM(R34:S34) -> 1689
A35: 31 | B35: OYO | C35: 3280 | D35: 2915 | E35: =SUM(C35:D35) -> 6195 | F35: 5756 | G35: 10101 | H35: =SUM(F35:G35) -> 15857 | I35: 2231 | J35: 3306 | K35: =SUM(I35:J35) -> 5537 | L35: 6240 | M35: 9812 | N35: =SUM(L35:M35) -> 16052 | O35: 4466 | P35: 4407 | Q35: =SUM(O35:P35) -> 8873 | R35: 16494 | S35: 29818 | T35: =SUM(R35:S35) -> 46312
A36: 32 | B36: PLATEAU | C36: 2646 | D36: 922 | E36: =SUM(C36:D36) -> 3568 | F36: 4703 | G36: 2065 | H36: =SUM(F36:G36) -> 6768 | I36: 2646 | J36: 922 | K36: =SUM(I36:J36) -> 3568 | L36: 4706 | M36: 2089 | N36: =SUM(L36:M36) -> 6795 | O36: 2123 | P36: 633 | Q36: =SUM(O36:P36) -> 2756 | R36: 5393 | S36: 2830 | T36: =SUM(R36:S36) -> 8223
A37: 33 | B37: RIVERS | C37: NA | D37: NA | E37: =SUM(C37:D37) -> 0 | F37: NA | G37: NA | H37: =SUM(F37:G37) -> 0 | I37: NA | J37: NA | K37: =SUM(I37:J37) -> 0 | L37: NA | M37: NA | N37: =SUM(L37:M37) -> 0 | O37: 2197 | P37: 1897 | Q37: =SUM(O37:P37) -> 4094 | R37: 3696 | S37: 3370 | T37: =SUM(R37:S37) -> 7066
A38: 34 | B38: SOKOTO | C38: NA | D38: NA | E38: =SUM(C38:D38) -> 0 | F38: NA | G38: NA | H38: =SUM(F38:G38) -> 0 | I38: 1228 | J38: 402 | K38: =SUM(I38:J38) -> 1630 | L38: 1183 | M38: 1320 | N38: =SUM(L38:M38) -> 2503 | O38: 1488 | P38: 455 | Q38: =SUM(O38:P38) -> 1943 | R38: 1671 | S38: 1575 | T38: =SUM(R38:S38) -> 3246
A39: 35 | B39: TARABA | C39: NA | D39: NA | E39: =SUM(C39:D39) -> 0 | F39: NA | G39: NA | H39: =SUM(F39:G39) -> 0 | I39: 1759 | J39: 462 | K39: =SUM(I39:J39) -> 2221 | L39: 5405 | M39: 2860 | N39: =SUM(L39:M39) -> 8265 | O39: 987 | P39: 369 | Q39: =SUM(O39:P39) -> 1356 | R39: 6448 | S39: 3190 | T39: =SUM(R39:S39) -> 9638
A40: 36 | B40: YOBE | C40: 2052 | D40: 704 | E40: =SUM(C40:D40) -> 2756 | F40: 154 | G40: 117 | H40: =SUM(F40:G40) -> 271 | I40: 2052 | J40: 704 | K40: =SUM(I40:J40) -> 2756 | L40: 580 | M40: 201 | N40: =SUM(L40:M40) -> 781 | O40: 1030 | P40: 281 | Q40: =SUM(O40:P40) -> 1311 | R40: 712 | S40: 279 | T40: =SUM(R40:S40) -> 991
A41: 37 | B41: ZAMFARA | C41: 2621 | D41: 587 | E41: =SUM(C41:D41) -> 3208 | F41: NA | G41: NA | H41: =SUM(F41:G41) -> 0 | I41: 2429 | J41: 872 | K41: =SUM(I41:J41) -> 3301 | L41: 1469 | M41: 993 | N41: =SUM(L41:M41) -> 2462 | O41: 1727 | P41: 470 | Q41: =SUM(O41:P41) -> 2197 | R41: 1354 | S41: 947 | T41: =SUM(R41:S41) -> 2301
A42: 38 | B42: TOTAL | C42: =SUM(C5:C41) -> 84130 | D42: =SUM(D5:D41) -> 67925 | E42: =SUM(E5:E41) -> 152055 | F42: =SUM(F5:F41) -> 59804 | G42: =SUM(G5:G41) -> 59509 | H42: =SUM(H5:H41) -> 119313 | I42: =SUM(I5:I41) -> 88868 | J42: =SUM(J5:J41) -> 75007 | ... T42: =SUM(T5:T41) -> 261407

Sheet TECHNICAL COLL
A1: OUTTURN IN FULL TIME TECHNICAL COLLEGE
A2: S/N | B2: State | C2: 2014 | F2: 2015
C3: MALE | D3: FEMALE | E3: TOTAL | F3: MALE | G3: FEMALE | H3: TOTAL
A4: 1 | B4: ABIA | C4: 724 | D4: 108 | E4: =SUM(C4:D4) -> 832 | F4: 800 | G4: 112 | H4: =SUM(F4:G4) -> 912
A5: 2 | B5: ADAMAWA | C5: 1209 | D5: 288 | E5: =SUM(C5:D5) -> 1497 | F5: 824 | G5: 192 | H5: =SUM(F5:G5) -> 1016
A6: 3 | B6: AKWA IBOM | C6: 4625 | D6: 425 | E6: =SUM(C6:D6) -> 5050 | F6: 4129 | G6: 373 | H6: =SUM(F6:G6) -> 4502
A7: 4 | B7: ANAMBRA | C7: 1442 | D7: 176 | E7: =SUM(C7:D7) -> 1618 | F7: 688 | G7: 64 | H7: =SUM(F7:G7) -> 752
A8: 5 | B8: BAUCHI | C8: 1999 | D8: 257 | E8: =SUM(C8:D8) -> 2256 | F8: 1286 | G8: 88 | H8: =SUM(F8:G8) -> 1374
A9: 6 | B9: BAYELSA | C9: 711 | D9: 714 | E9: =SUM(C9:D9) -> 1425 | F9: 742 | G9: 351 | H9: =SUM(F9:G9) -> 1093
A10: 7 | B10: BENUE | C10: 3085 | D10: 355 | E10: =SUM(C10:D10) -> 3440 | F10: 1424 | G10: 149 | H10: =SUM(F10:G10) -> 1573
A11: 8 | B11: BORNO | C11: NA | D11: NA | E11: =SUM(C11:D11) -> 0 | F11: NA | G11: NA | H11: =SUM(F11:G11) -> 0
A12: 9 | B12: CROSS RIVER | C12: 661 | D12: 270 | E12: =SUM(C12:D12) -> 931 | F12: 938 | G12: 347 | H12: =SUM(F12:G12) -> 1285
A13: 10 | B13: DELTA | C13: 1010 | D13: 234 | E13: =SUM(C13:D13) -> 1244 | F13: 1166 | G13: 254 | H13: =SUM(F13:G13) -> 1420
A14: 11 | B14: EBONYI | C14: 1644 | D14: 528 | E14: =SUM(C14:D14) -> 2172 | F14: 1039 | G14: 199 | H14: =SUM(F14:G14) -> 1238
A15: 12 | B15: EDO | C15: 1283 | D15: 138 | E15: =SUM(C15:D15) -> 1421 | F15: 1250 | G15: 171 | H15: =SUM(F15:G15) -> 1421
A16: 13 | B16: EKITI | C16: 1390 | D16: 193 | E16: =SUM(C16:D16) -> 1583 | F16: 1209 | G16: 152 | H16: =SUM(F16:G16) -> 1361
A17: 14 | B17: ENUGU | C17: 2091 | D17: 117 | E17: =SUM(C17:D17) -> 2208 | F17: 1933 | G17: 149 | H17: =SUM(F17:G17) -> 2082
A18: 15 | B18: FCT | C18: 690 | D18: 693 | E18: =SUM(C18:D18) -> 1383 | F18: 620 | G18: 124 | H18: =SUM(F18:G18) -> 744
A19: 16 | B19: GOMBE | C19: 5281 | D19: 2648 | E19: =SUM(C19:D19) -> 7929 | F19: 3228 | G19: 806 | H19: =SUM(F19:G19) -> 4034
A20: 17 | B20: IMO | C20: 3120 | D20: 26 | E20: =SUM(C20:D20) -> 3146 | F20: NA | G20: NA | H20: =SUM(F20:G20) -> 0
A21: 18 | B21: JIGAWA | C21: 465 | D21: 468 | E21: =SUM(C21:D21) -> 933 | F21: 477 | G21: 0 | H21: =SUM(F21:G21) -> 477
A22: 19 | B22: KADUNA | C22: 1191 | D22: 1194 | E22: =SUM(C22:D22) -> 2385 | F22: 1296 | G22: 72 | H22: =SUM(F22:G22) -> 1368
A23: 20 | B23: KANO | C23: 2759 | D23: 207 | E23: =SUM(C23:D23) -> 2966 | F23: 1910 | G23: 29 | H23: =SUM(F23:G23) -> 1939
A24: 21 | B24: KATSINA | C24: NA | D24: NA | E24: =SUM(C24:D24) -> 0 | F24: NA | G24: NA | H24: =SUM(F24:G24) -> 0
A25: 22 | B25: KEBBI | C25: 1906 | D25: 0 | E25: =SUM(C25:D25) -> 1906 | F25: 2005 | G25: 0 | H25: =SUM(F25:G25) -> 2005
A26: 23 | B26: KOGI | C26: 120 | D26: 123 | E26: =SUM(C26:D26) -> 243 | F26: 125 | G26: 26 | H26: =SUM(F26:G26) -> 151
A27: 24 | B27: KWARA | C27: 199 | D27: 38 | E27: =SUM(C27:D27) -> 237 | F27: 196 | G27: 41 | H27: =SUM(F27:G27) -> 237
A28: 25 | B28: LAGOS | C28: 6053 | D28: 1369 | E28: =SUM(C28:D28) -> 7422 | F28: 4101 | G28: 976 | H28: =SUM(F28:G28) -> 5077
A29: 26 | B29: NASARAWA | C29: 2438 | D29: 156 | E29: =SUM(C29:D29) -> 2594 | F29: 1168 | G29: 116 | H29: =SUM(F29:G29) -> 1284
A30: 27 | B30: NIGER | C30: 6711 | D30: 947 | E30: =SUM(C30:D30) -> 7658 | F30: 6711 | G30: 924 | H30: =SUM(F30:G30) -> 7635
A31: 28 | B31: OGUN | C31: 3468 | D31: 1057 | E31: =SUM(C31:D31) -> 4525 | F31: 3094 | G31: 833 | H31: =SUM(F31:G31) -> 3927
A32: 29 | B32: ONDO | C32: 2440 | D32: 316 | E32: =SUM(C32:D32) -> 2756 | F32: 1791 | G32: 293 | H32: =SUM(F32:G32) -> 2084
A33: 30 | B33: OSUN | C33: 425 | D33: 70 | E33: =SUM(C33:D33) -> 495 | F33: 825 | G33: 47 | H33: =SUM(F33:G33) -> 872
A34: 31 | B34: OYO | C34: 2046 | D34: 2049 | E34: =SUM(C34:D34) -> 4095 | F34: 1906 | G34: 247 | H34: =SUM(F34:G34) -> 2153
A35: 32 | B35: PLATEAU | C35: NA | D35: NA | E35: =SUM(C35:D35) -> 0 | F35: NA | G35: NA | H35: =SUM(F35:G35) -> 0
A36: 33 | B36: RIVERS | C36: 2563 | D36: 672 | E36: =SUM(C36:D36) -> 3235 | F36: 2532 | G36: 657 | H36: =SUM(F36:G36) -> 3189
A37: 34 | B37: SOKOTO | C37: 2053 | D37: 0 | E37: =SUM(C37:D37) -> 2053 | F37: 1770 | G37: 0 | H37: =SUM(F37:G37) -> 1770
A38: 35 | B38: TARABA | C38: 2155 | D38: 457 | E38: =SUM(C38:D38) -> 2612 | F38: 1163 | G38: 328 | H38: =SUM(F38:G38) -> 1491
A39: 36 | B39: YOBE | C39: 2179 | D39: 560 | E39: =SUM(C39:D39) -> 2739 | F39: 635 | G39: 0 | H39: =SUM(F39:G39) -> 635
A40: 37 | B40: ZAMFARA | C40: 1043 | D40: 33 | E40: =SUM(C40:D40) -> 1076 | F40: 1705 | G40: 0 | H40: =SUM(F40:G40) -> 1705
A41: 38 | B41: TOTAL | C41: =SUM(C4:C40) -> 71179 | D41: =SUM(D4:D40) -> 16886 | E41: =SUM(E4:E40) -> 88065 | F41: =SUM(F4:F40) -> 54686 | G41: =SUM(G4:G40) -> 8120 | H41: =SUM(H4:H40) -> 62806

Sheet NCE DLS
B1: NCE DLS ENROLMENT BY STATE
A2: State | B2: S/N | C2: =UPPER(A2) -> STATE | D2: 2014 | G2: 2015 | J2: 2015
D3: MALE | E3: FEMALE | F3: TOTAL | G3: MALE | H3: FEMALE | I3: TOTAL | J3: MALE | K3: FEMALE | L3: TOTAL
A4: Abia | B4: 1 | C4: =UPPER(A4) -> ABIA | D4: 147 | E4: 1262 | F4: =SUM(D4:E4) -> 1409 | G4: 145 | H4: 1222 | I4: =SUM(G4:H4) -> 1367 | J4: 131 | K4: 1161 | L4: =SUM(J4:K4) -> 1292
A5: Adamawa | B5: 2 | C5: =UPPER(A5) -> ADAMAWA | D5: 304 | E5: 451 | F5: =SUM(D5:E5) -> 755 | G5: 269 | H5: 424 | I5: =SUM(G5:H5) -> 693 | J5: 200 | K5: 367 | L5: =SUM(J5:K5) -> 567
A6: Akwa Ibom | B6: 3 | C6: =UPPER(A6) -> AKWA IBOM | D6: 36 | E6: 166 | F6: =SUM(D6:E6) -> 202 | G6: 36 | H6: 200 | I6: =SUM(G6:H6) -> 236 | J6: 36 | K6: 193 | L6: =SUM(J6:K6) -> 229
A7: Anambra | B7: 4 | C7: =UPPER(A7) -> ANAMBRA | D7: 55 | E7: 554 | F7: =SUM(D7:E7) -> 609 | G7: 80 | H7: 758 | I7: =SUM(G7:H7) -> 838 | J7: 78 | K7: 898 | L7: =SUM(J7:K7) -> 976
A8: Bauchi | B8: 5 | C8: =UPPER(A8) -> BAUCHI | D8: 74 | E8: 173 | F8: =SUM(D8:E8) -> 247 | G8: 59 | H8: 113 | I8: =SUM(G8:H8) -> 172 | J8: 38 | K8: 94 | L8: =SUM(J8:K8) -> 132
A9: Bayelsa | B9: 6 | C9: =UPPER(A9) -> BAYELSA | D9: 669 | E9: 1352 | F9: =SUM(D9:E9) -> 2021 | G9: 616 | H9: 1308 | I9: =SUM(G9:H9) -> 1924 | J9: 342 | K9: 736 | L9: =SUM(J9:K9) -> 1078
A10: Benue | B10: 7 | C10: =UPPER(A10) -> BENUE | D10: 367 | E10: 711 | F10: =SUM(D10:E10) -> 1078 | G10: 366 | H10: 725 | I10: =SUM(G10:H10) -> 1091 | J10: 285 | K10: 571 | L10: =SUM(J10:K10) -> 856
A11: Borno | B11: 8 | C11: =UPPER(A11) -> BORNO | D11: 76 | E11: 267 | F11: =SUM(D11:E11) -> 343 | G11: 48 | H11: 171 | I11: =SUM(G11:H11) -> 219 | J11: 53 | K11: 142 | L11: =SUM(J11:K11) -> 195
A12: Cross River | B12: 9 | C12: =UPPER(A12) -> CROSS RIVER | D12: 127 | E12: 396 | F12: =SUM(D12:E12) -> 523 | G12: 125 | H12: 441 | I12: =SUM(G12:H12) -> 566 | J12: 156 | K12: 456 | L12: =SUM(J12:K12) -> 612
A13: Delta | B13: 10 | C13: =UPPER(A13) -> DELTA | D13: 488 | E13: 1725 | F13: =SUM(D13:E13) -> 2213 | G13: 445 | H13: 1618 | I13: =SUM(G13:H13) -> 2063 | J13: 321 | K13: 1296 | L13: =SUM(J13:K13) -> 1617
A14: Ebonyi | B14: 11 | C14: =UPPER(A14) -> EBONYI | D14: 130 | E14: 500 | F14: =SUM(D14:E14) -> 630 | G14: 148 | H14: 525 | I14: =SUM(G14:H14) -> 673 | J14: 118 | K14: 439 | L14: =SUM(J14:K14) -> 557
A15: Edo | B15: 12 | C15: =UPPER(A15) -> EDO | D15: 192 | E15: 1131 | F15: =SUM(D15:E15) -> 1323 | G15: 175 | H15: 1017 | I15: =SUM(G15:H15) -> 1192 | J15: 147 | K15: 857 | L15: =SUM(J15:K15) -> 1004
... A40: Zamfara | B40: 37 | C40: =UPPER(A40) -> ZAMFARA | D40: 441 | E40: 377 | F40: =SUM(D40:E40) -> 818 | G40: 68 | H40: 280 | I40: =SUM(G40:H40) -> 348 | J40: 510 | K40: 273 | L40: =SUM(J40:K40) -> 783
A41: National | B41: 38 | C41: =UPPER(A41) -> NATIONAL | D41: =SUM(D4:D40) -> 15139 | E41: =SUM(E4:E40) -> 30869 | F41: =SUM(F4:F40) -> 46008 | G41: =SUM(G4:G40) -> 16714 | H41: =SUM(H4:H40) -> 32152 | I41: =SUM(I4:I40) -> 48866 | J41: =SUM(J4:J40) -> 13999 | K41: =SUM(K4:K40) -> 29779 | L41: =SUM(L4:L40) -> 43778
C43: NOTE : NCE- Nigerian Certifate of Education, DLS- Distance Learning System

Sheet PTTP 
A1: ENROLMENT OF PTTP STUDENTS
A2: S/N | B2: STATE | C2: 2014 | F2: 2015 | I2: 2016
C3: MALE | D3: FEMALE | E3: TOTAL | F3: MALE | G3: FEMALE | H3: TOTAL | I3: MALE | J3: FEMALE | K3: TOTAL
A4: 1 | B4: ABIA | C4: 10 | D4: 73 | E4: =SUM(C4:D4) -> 83 | F4: 11 | G4: 53 | H4: =SUM(F4:G4) -> 64 | I4: 2 | J4: 28 | K4: =SUM(I4:J4) -> 30
A5: 2 | B5: ADAMAWA | C5: 245 | D5: 327 | E5: =SUM(C5:D5) -> 572 | F5: 0 | G5: 0 | H5: =SUM(F5:G5) -> 0 | I5: 223 | J5: 278 | K5: =SUM(I5:J5) -> 501
A6: 3 | B6: AKWA IBOM | C6: 0 | D6: 0 | E6: =SUM(C6:D6) -> 0 | F6: 3 | G6: 11 | H6: =SUM(F6:G6) -> 14 | I6: 0 | J6: 0 | K6: =SUM(I6:J6) -> 0
A7: 4 | B7: ANAMBRA | C7: 9 | D7: 32 | E7: =SUM(C7:D7) -> 41 | F7: 5 | G7: 34 | H7: =SUM(F7:G7) -> 39 | I7: 7 | J7: 24 | K7: =SUM(I7:J7) -> 31
A8: 5 | B8: BAUCHI | C8: 0 | D8: 0 | E8: =SUM(C8:D8) -> 0 | F8: 0 | G8: 0 | H8: =SUM(F8:G8) -> 0 | I8: 271 | J8: 41 | K8: =SUM(I8:J8) -> 312
A9: 6 | B9: BAYELSA | C9: 0 | D9: 0 | E9: =SUM(C9:D9) -> 0 | F9: 18 | G9: 30 | H9: =SUM(F9:G9) -> 48 | I9: 0 | J9: 0 | K9: =SUM(I9:J9) -> 0
A10: 7 | B10: BENUE | C10: 22 | D10: 46 | E10: =SUM(C10:D10) -> 68 | F10: 0 | G10: 0 | H10: =SUM(F10:G10) -> 0 | I10: 32 | J10: 26 | K10: =SUM(I10:J10) -> 58
A11: 8 | B11: BORNO | C11: 25 | D11: 56 | E11: =SUM(C11:D11) -> 81 | F11: 0 | G11: 0 | H11: =SUM(F11:G11) -> 0 | I11: 0 | J11: 0 | K11: =SUM(I11:J11) -> 0
A12: 9 | B12: CROSS RIVER | C12: 0 | D12: 0 | E12: =SUM(C12:D12) -> 0 | F12: 9 | G12: 9 | H12: =SUM(F12:G12) -> 18 | I12: 9 | J12: 1 | K12: =SUM(I12:J12) -> 10
A13: 10 | B13: DELTA | C13: 0 | D13: 0 | E13: =SUM(C13:D13) -> 0 | F13: 0 | G13: 0 | H13: =SUM(F13:G13) -> 0 | I13: 0 | J13: 0 | K13: =SUM(I13:J13) -> 0
A14: 11 | B14: EBONYI | C14: 20 | D14: 50 | E14: =SUM(C14:D14) -> 70 | F14: 10 | G14: 37 | H14: =SUM(F14:G14) -> 47 | I14: 18 | J14: 19 | K14: =SUM(I14:J14) -> 37
A15: 12 | B15: EDO | C15: 0 | D15: 0 | E15: =SUM(C15:D15) -> 0 | F15: 0 | G15: 0 | H15: =SUM(F15:G15) -> 0 | I15: 0 | J15: 0 | K15: =SUM(I15:J15) -> 0
... A17: 14 | B17: ENUGU | C17: 8 | D17: 15 | E17: =SUM(C17:D17) -> 23 | F17: 0 | G17: 0 | H17: =SUM(F17:G17) -> 0 | I17: 8 | J17: 19 | K17: =SUM(I17:J17) -> 27
A18: 15 | B18: FCT | C18: 0 | D18: 0 | E18: =SUM(C18:D18) -> 0 | F18: 2 | G18: 18 | H18: =SUM(F18:G18) -> 20 | J18: 11 | K18: =SUM(I18:J18) -> 11
A19: 16 | B19: GOMBE | C19: 208 | D19: 219 | E19: =SUM(C19:D19) -> 427 | F19: 0 | G19: 0 | H19: =SUM(F19:G19) -> 0 | I19: 0 | J19: 0 | K19: =SUM(I19:J19) -> 0
A20: 17 | B20: IMO | C20: 0 | D20: 0 | E20: =SUM(C20:D20) -> 0 | F20: 0 | G20: 0 | H20: =SUM(F20:G20) -> 0 | I20: 0 | J20: 0 | K20: =SUM(I20:J20) -> 0
A21: 18 | B21: JIGAWA | C21: 948 | D21: 108 | E21: =SUM(C21:D21) -> 1056 | F21: 0 | G21: 0 | H21: =SUM(F21:G21) -> 0 | I21: 123 | J21: 24 | K21: =SUM(I21:J21) -> 147
A22: 19 | B22: KADUNA | C22: 681 | D22: 980 | E22: =SUM(C22:D22) -> 1661 | F22: 0 | G22: 0 | H22: =SUM(F22:G22) -> 0 | I22: 75 | J22: 200 | K22: =SUM(I22:J22) -> 275
A23: 20 | B23: KANO | C23: 375 | D23: 66 | E23: =SUM(C23:D23) -> 441 | F23: 0 | G23: 0 | H23: =SUM(F23:G23) -> 0 | I23: 17 | J23: 14 | K23: =SUM(I23:J23) -> 31
A24: 21 | B24: KATSINA | C24: 476 | D24: 184 | E24: =SUM(C24:D24) -> 660 | F24: 0 | G24: 0 | H24: =SUM(F24:G24) -> 0 | I24: 139 | J24: 34 | K24: =SUM(I24:J24) -> 173
A25: 22 | B25: KEBBI | C25: 126 | D25: 92 | E25: =SUM(C25:D25) -> 218 | F25: 30 | G25: 22 | H25: =SUM(F25:G25) -> 52 | I25: 331 | J25: 112 | K25: =SUM(I25:J25) -> 443
A26: 23 | B26: KOGI | C26: 0 | D26: 0 | E26: =SUM(C26:D26) -> 0 | F26: 0 | G26: 0 | H26: =SUM(F26:G26) -> 0 | I26: 7 | J26: 10 | K26: =SUM(I26:J26) -> 17
A27: 24 | B27: KWARA | C27: 0 | D27: 0 | E27: =SUM(C27:D27) -> 0 | F27: 3 | G27: 17 | H27: =SUM(F27:G27) -> 20 | I27: 16 | J27: 24 | K27: =SUM(I27:J27) -> 40
A28: 25 | B28: LAGOS | C28: 0 | D28: 0 | E28: =SUM(C28:D28) -> 0 | F28: 0 | G28: 0 | H28: =SUM(F28:G28) -> 0 | I28: 0 | J28: 0 | K28: =SUM(I28:J28) -> 0
A29: 26 | B29: NASARAWA | C29: 49 | D29: 79 | E29: =SUM(C29:D29) -> 128 | F29: 376 | G29: 319 | H29: =SUM(F29:G29) -> 695 | I29: 21 | J29: 31 | K29: =SUM(I29:J29) -> 52
A30: 27 | B30: NIGER | C30: 0 | D30: 0 | E30: =SUM(C30:D30) -> 0 | F30: 0 | G30: 0 | H30: =SUM(F30:G30) -> 0 | I30: 0 | J30: 0 | K30: =SUM(I30:J30) -> 0
... A40: 37 | B40: ZAMFARA | C40: 0 | D40: 0 | E40: =SUM(C40:D40) -> 0 | F40: 165 | G40: 53 | H40: =SUM(F40:G40) -> 218 | I40: 0 | J40: 0 | K40: =SUM(I40:J40) -> 0
A41: 38 | B41: TOTAL | C41: =SUM(C4:C40) -> 3475 | D41: =SUM(D4:D40) -> 2656 | E41: =SUM(E4:E40) -> 6131 | F41: =SUM(F4:F40) -> 1094 | G41: =SUM(G4:G40) -> 750 | H41: =SUM(H4:H40) -> 1844 | I41: =SUM(I4:I40) -> 1413 | J41: =SUM(J4:J40) -> 919 | K41: =SUM(K4:K40) -> 2332
B43: NOTE : PTTP- Pivotal Teachers Training Programme

Sheet PGDE-DLS
A1: ENROLMENT OF PGDE-DLS STUDENTS
A2: S/N | B2: STATE | C2: 2014 | F2: 2015 | I2: 2016
C3: MALE | D3: FEMALE | E3: TOTAL | F3: MALE | G3: FEMALE | H3: TOTAL | I3: MALE | J3: FEMALE | K3: TOTAL
A4: 1 | B4: ABIA | C4: 168 | D4: 282 | E4: =SUM(C4:D4) -> 450 | F4: 147 | G4: 1262 | H4: =SUM(F4:G4) -> 1409 | I4: 113 | J4: 205 | K4: =SUM(I4:J4) -> 318
A5: 2 | B5: ADAMAWA | C5: 201 | D5: 133 | E5: =SUM(C5:D5) -> 334 | F5: 304 | G5: 451 | H5: =SUM(F5:G5) -> 755 | I5: 54 | J5: 28 | K5: =SUM(I5:J5) -> 82
A6: 3 | B6: AKWA IBOM | C6: 133 | D6: 164 | E6: =SUM(C6:D6) -> 297 | F6: 36 | G6: 166 | H6: =SUM(F6:G6) -> 202 | I6: 140 | J6: 157 | K6: =SUM(I6:J6) -> 297
A7: 4 | B7: ANAMBRA | C7: 209 | D7: 341 | E7: =SUM(C7:D7) -> 550 | F7: 55 | G7: 554 | H7: =SUM(F7:G7) -> 609 | I7: 215 | J7: 495 | K7: =SUM(I7:J7) -> 710
A8: 5 | B8: BAUCHI | C8: 122 | D8: 95 | E8: =SUM(C8:D8) -> 217 | F8: 74 | G8: 173 | H8: =SUM(F8:G8) -> 247 | I8: 56 | J8: 49 | K8: =SUM(I8:J8) -> 105
A9: 6 | B9: BAYELSA | C9: 89 | D9: 87 | E9: =SUM(C9:D9) -> 176 | F9: 669 | G9: 1352 | H9: =SUM(F9:G9) -> 2021 | I9: 68 | J9: 93 | K9: =SUM(I9:J9) -> 161
A10: 7 | B10: BENUE | C10: 294 | D10: 151 | E10: =SUM(C10:D10) -> 445 | F10: 367 | G10: 711 | H10: =SUM(F10:G10) -> 1078 | I10: 184 | J10: 167 | K10: =SUM(I10:J10) -> 351
A11: 8 | B11: BORNO | C11: 7 | D11: 5 | E11: =SUM(C11:D11) -> 12 | F11: 76 | G11: 267 | H11: =SUM(F11:G11) -> 343 | I11: 2 | J11: 0 | K11: =SUM(I11:J11) -> 2
A12: 9 | B12: CROSS RIVER | C12: 142 | D12: 96 | E12: =SUM(C12:D12) -> 238 | F12: 127 | G12: 396 | H12: =SUM(F12:G12) -> 523 | I12: 75 | J12: 65 | K12: =SUM(I12:J12) -> 140
A13: 10 | B13: DELTA | C13: 163 | D13: 194 | E13: =SUM(C13:D13) -> 357 | F13: 488 | G13: 1725 | H13: =SUM(F13:G13) -> 2213 | I13: 101 | J13: 118 | K13: =SUM(I13:J13) -> 219
A14: 11 | B14: EBONYI | C14: 137 | D14: 97 | E14: =SUM(C14:D14) -> 234 | F14: 130 | G14: 500 | H14: =SUM(F14:G14) -> 630 | I14: 142 | J14: 113 | K14: =SUM(I14:J14) -> 255
A15: 12 | B15: EDO | C15: 207 | D15: 255 | E15: =SUM(C15:D15) -> 462 | F15: 192 | G15: 1131 | H15: =SUM(F15:G15) -> 1323 | I15: 174 | J15: 303 | K15: =SUM(I15:J15) -> 477
... A40: 38 | B40: ZAMFARA | C40: 121 | D40: 79 | E40: =SUM(C40:D40) -> 200 | F40: 441 | G40: 377 | H40: =SUM(F40:G40) -> 818 | I40: 58 | J40: 19 | K40: =SUM(I40:J40) -> 77
B41: TOTAL | C41: 7037 | D41: 7561 | E41: =SUM(C41:D41) -> 14598 | F41: 15409 | G41: 32094 | H41: =SUM(F41:G41) -> 47503 | I41: 4618 | J41: 6712 | K41: =SUM(I41:J41) -> 11330
B43: NOTE : PGDE - Post Graduate Diploma in Education , DLS- Distance Learning System

Sheet CENTRES FOR BASIC LIT. EDU
A1: NUMBER OF CENTRES FOR BASI C LITERACY EDUCATION
A2: S/N | B2: =UPPER(C2) -> STATE | C2: State | D2: 2014 | E2: 2015
A3: 1 | B3: =UPPER(C3) -> ABIA | C3: Abia | D3: 204 | E3: 264
A4: 2 | B4: =UPPER(C4) -> ADAMAWA | C4: Adamawa | D4: 119 | E4: 119
A5: 3 | B5: =UPPER(C5) -> AKWA IBOM | C5: Akwa Ibom | D5: 505 | E5: 505
A6: 4 | B6: =UPPER(C6) -> ANAMBRA | C6: Anambra | D6: 264 | E6: 264
A7: 5 | B7: =UPPER(C7) -> BAUCHI | C7: Bauchi | D7: 2332 | E7: 2673
A8: 6 | B8: =UPPER(C8) -> BAYELSA | C8: Bayelsa | D8: 130 | E8: 130
A9: 7 | B9: =UPPER(C9) -> BENUE | C9: Benue | D9: 1481 | E9: 1055
A10: 8 | B10: =UPPER(C10) -> BORNO | C10: Borno | D10: NA | E10: NA
A11: 9 | B11: =UPPER(C11) -> CROSS RIVER | C11: Cross River | D11: 251 | E11: 251
A12: 10 | B12: =UPPER(C12) -> DELTA | C12: Delta | D12: 541 | E12: 541
A13: 11 | B13: =UPPER(C13) -> EBONYL | C13: Ebonyl | D13: 358 | E13: 358
A14: 12 | B14: =UPPER(C14) -> EDO | C14: Edo | D14: 367 | E14: 367
A15: 13 | B15: =UPPER(C15) -> EKITI | C15: Ekiti | D15: 68 | E15: 57
A16: 14 | B16: =UPPER(C16) -> ENUGU | C16: Enugu | D16: 1689 | E16: 1989
A17: 15 | B17: =UPPER(C17) -> GOMBE | C17: Gombe | D17: 1052 | E17: 927
A18: 16 | B18: =UPPER(C18) -> IMO | C18: Imo | D18: 692 | E18: 692
A19: 17 | B19: =UPPER(C19) -> JIGAWA | C19: Jigawa | D19: 1350 | E19: 1350
A20: 18 | B20: =UPPER(C20) -> KADUNA | C20: Kaduna | D20: 128 | E20: 128
A21: 19 | B21: =UPPER(C21) -> KANO | C21: Kano | D21: NA | E21: 428
A22: 20 | B22: =UPPER(C22) -> KATSLNA | C22: Katslna | D22: 1091 | E22: 1091
A23: 21 | B23: =UPPER(C23) -> KEBBI | C23: Kebbi | D23: 2154 | E23: 2416
A24: 22 | B24: =UPPER(C24) -> KOGI | C24: Kogi | D24: 400 | E24: 400
A25: 23 | B25: =UPPER(C25) -> KWARA | C25: Kwara | D25: 16 | E25: 16
A26: 24 | B26: =UPPER(C26) -> LAGOS | C26: Lagos | D26: 532 | E26: 487
A27: 25 | B27: =UPPER(C27) -> NASARAWA | C27: Nasarawa | D27: 15 | E27: 15
A28: 26 | B28: =UPPER(C28) -> NIGER | C28: Niger | D28: 752 | E28: 752
A29: 27 | B29: =UPPER(C29) -> OGUN | C29: Ogun | D29: 44 | E29: 44
A30: 28 | B30: =UPPER(C30) -> ONDO | C30: Ondo | D30: 500 | E30: 375
A31: 29 | B31: =UPPER(C31) -> OSUN | C31: Osun | D31: 428 | E31: 428
A32: 30 | B32: =UPPER(C32) -> OYO | C32: Oyo | D32: 66 | E32: 66
A33: 31 | B33: =UPPER(C33) -> PLATEAU | C33: Plateau | D33: 93 | E33: 93
... A39: 37 | B39: =UPPER(C39) -> FCT | C39: FCT | D39: 452 | E39: 452
A40: 38 | B40: =UPPER(C40) -> TOTAL | C40: TOTAL | D40: =SUM(D3:D39) -> 20464 | E40: =SUM(E3:E39) -> 21111

Sheet ENROLMENT FOR BASIC LIT. 
A1: TOTAL ENROLMENT FOR BASIC LITERACY
A2: S/N | B2: STATE | C2: 2014 | F2: 2015 | I2: 2016
C3: MALE | D3: FEMALE | E3: TOTAL | F3: MALE | G3: FEMALE | H3: TOTAL | I3: MALE | J3: FEMALE | K3: TOTAL
A4: 1 | B4: ='CENTRES FOR BASIC LIT. EDU'!B3 -> ABIA | C4: 1546 | D4: 4016 | E4: =SUM(C4:D4) -> 5562 | F4: 1584 | G4: 3792 | H4: =SUM(F4:G4) -> 5376 | I4: 416 | J4: 807 | K4: =SUM(I4:J4) -> 1223
A5: 2 | B5: ='CENTRES FOR BASIC LIT. EDU'!B4 -> ADAMAWA | C5: 436 | D5: 2294 | E5: =SUM(C5:D5) -> 2730 | F5: 436 | G5: 2294 | H5: =SUM(F5:G5) -> 2730 | I5: 2513 | J5: 3941 | K5: =SUM(I5:J5) -> 6454
A6: 3 | B6: ='CENTRES FOR BASIC LIT. EDU'!B5 -> AKWA IBOM | C6: 17887 | D6: 36059 | E6: =SUM(C6:D6) -> 53946 | F6: 17887 | G6: 36059 | H6: =SUM(F6:G6) -> 53946 | I6: 2615 | J6: 7493 | K6: =SUM(I6:J6) -> 10108
A7: 4 | B7: ='CENTRES FOR BASIC LIT. EDU'!B6 -> ANAMBRA | C7: 2054 | D7: 5182 | E7: =SUM(C7:D7) -> 7236 | F7: 2161 | G7: 5374 | H7: =SUM(F7:G7) -> 7535 | I7: 11573 | J7: 14045 | K7: =SUM(I7:J7) -> 25618
A8: 5 | B8: ='CENTRES FOR BASIC LIT. EDU'!B7 -> BAUCHI | C8: 22866 | D8: 13516 | E8: =SUM(C8:D8) -> 36382 | F8: 22866 | G8: 13516 | H8: =SUM(F8:G8) -> 36382 | I8: 35761 | J8: 36025 | K8: =SUM(I8:J8) -> 71786
A9: 6 | B9: ='CENTRES FOR BASIC LIT. EDU'!B8 -> BAYELSA | C9: 1320 | D9: 1632 | E9: =SUM(C9:D9) -> 2952 | F9: 1320 | G9: 1632 | H9: =SUM(F9:G9) -> 2952 | I9: 1264 | J9: 2192 | K9: =SUM(I9:J9) -> 3456
A10: 7 | B10: ='CENTRES FOR BASIC LIT. EDU'!B9 -> BENUE | C10: 1274 | D10: 3332 | E10: =SUM(C10:D10) -> 4606 | F10: 8025 | G10: 17856 | H10: =SUM(F10:G10) -> 25881 | I10: 5049 | J10: 5519 | K10: =SUM(I10:J10) -> 10568
A11: 8 | B11: ='CENTRES FOR BASIC LIT. EDU'!B10 -> BORNO | C11: NA | D11: NA | E11: =SUM(C11:D11) -> 0 | F11: NA | G11: NA | H11: =SUM(F11:G11) -> 0 | I11: 1418 | J11: 1223 | K11: =SUM(I11:J11) -> 2641
A12: 9 | B12: ='CENTRES FOR BASIC LIT. EDU'!B11 -> CROSS RIVER | C12: 6397 | D12: 9642 | E12: =SUM(C12:D12) -> 16039 | F12: 6397 | G12: 9642 | H12: =SUM(F12:G12) -> 16039 | I12: 7861 | J12: 11410 | K12: =SUM(I12:J12) -> 19271
A13: 10 | B13: ='CENTRES FOR BASIC LIT. EDU'!B12 -> DELTA | C13: 4365 | D13: 9303 | E13: =SUM(C13:D13) -> 13668 | F13: 4365 | G13: 9303 | H13: =SUM(F13:G13) -> 13668 | I13: 787 | J13: 1813 | K13: =SUM(I13:J13) -> 2600
A14: 11 | B14: ='CENTRES FOR BASIC LIT. EDU'!B13 -> EBONYL | C14: 1356 | D14: 8122 | E14: =SUM(C14:D14) -> 9478 | F14: 1356 | G14: 8122 | H14: =SUM(F14:G14) -> 9478 | I14: 431 | J14: 1031 | K14: =SUM(I14:J14) -> 1462
A15: 12 | B15: ='CENTRES FOR BASIC LIT. EDU'!B14 -> EDO | C15: 3993 | D15: 6877 | E15: =SUM(C15:D15) -> 10870 | F15: 3993 | G15: 6877 | H15: =SUM(F15:G15) -> 10870 | I15: 1160 | J15: 2031 | K15: =SUM(I15:J15) -> 3191
A16: 13 | B16: ='CENTRES FOR BASIC LIT. EDU'!B15 -> EKITI | C16: 1379 | D16: 1970 | E16: =SUM(C16:D16) -> 3349 | F16: 1215 | G16: 3057 | H16: =SUM(F16:G16) -> 4272 | I16: 18 | J16: 156 | K16: =SUM(I16:J16) -> 174
A17: 14 | B17: ='CENTRES FOR BASIC LIT. EDU'!B16 -> ENUGU | C17: NA | D17: NA | E17: =SUM(C17:D17) -> 0 | F17: NA | G17: NA | H17: =SUM(F17:G17) -> 0 | I17: 775 | J17: 2426 | K17: =SUM(I17:J17) -> 3201
A18: 15 | B18: ='CENTRES FOR BASIC LIT. EDU'!B17 -> GOMBE | C18: 11360 | D18: 7955 | E18: =SUM(C18:D18) -> 19315 | F18: 12617 | G18: 10215 | H18: =SUM(F18:G18) -> 22832 | I18: 5873 | J18: 3828 | K18: =SUM(I18:J18) -> 9701
A19: 16 | B19: ='CENTRES FOR BASIC LIT. EDU'!B18 -> IMO | C19: 7319 | D19: 14273 | E19: =SUM(C19:D19) -> 21592 | F19: 2654 | G19: 6329 | H19: =SUM(F19:G19) -> 8983 | I19: 5752 | J19: 8519 | K19: =SUM(I19:J19) -> 14271
A20: 17 | B20: ='CENTRES FOR BASIC LIT. EDU'!B19 -> JIGAWA | C20: 20844 | D20: 12908 | E20: =SUM(C20:D20) -> 33752 | F20: 20844 | G20: 12908 | H20: =SUM(F20:G20) -> 33752 | I20: 13634 | J20: 8726 | K20: =SUM(I20:J20) -> 22360
A21: 18 | B21: ='CENTRES FOR BASIC LIT. EDU'!B20 -> KADUNA | C21: 2614 | D21: 5900 | E21: =SUM(C21:D21) -> 8514 | F21: 2614 | G21: 5900 | H21: =SUM(F21:G21) -> 8514 | I21: 1435 | J21: 3855 | K21: =SUM(I21:J21) -> 5290
A22: 19 | B22: ='CENTRES FOR BASIC LIT. EDU'!B21 -> KANO | C22: 248308 | D22: 147534 | E22: =SUM(C22:D22) -> 395842 | F22: 302775 | G22: 100925 | H22: =SUM(F22:G22) -> 403700 | I22: 72 | J22: 6113 | K22: =SUM(I22:J22) -> 6185
A23: 20 | B23: ='CENTRES FOR BASIC LIT. EDU'!B22 -> KATSLNA | C23: 21906 | D23: 79802 | E23: =SUM(C23:D23) -> 101708 | F23: 21906 | G23: 79802 | H23: =SUM(F23:G23) -> 101708 | I23: 255 | J23: 237 | K23: =SUM(I23:J23) -> 492
A24: 21 | B24: ='CENTRES FOR BASIC LIT. EDU'!B23 -> KEBBI | C24: 57555 | D24: 8260 | E24: =SUM(C24:D24) -> 65815 | F24: 13711 | G24: 61193 | H24: =SUM(F24:G24) -> 74904 | I24: 50876 | J24: 8885 | K24: =SUM(I24:J24) -> 59761
A25: 22 | B25: ='CENTRES FOR BASIC LIT. EDU'!B24 -> KOGI | C25: 2852 | D25: 6311 | E25: =SUM(C25:D25) -> 9163 | F25: 2852 | G25: 6311 | H25: =SUM(F25:G25) -> 9163 | I25: 1997 | J25: 3328 | K25: =SUM(I25:J25) -> 5325
A26: 23 | B26: ='CENTRES FOR BASIC LIT. EDU'!B25 -> KWARA | C26: 242 | D26: 566 | E26: =SUM(C26:D26) -> 808 | F26: 242 | G26: 566 | H26: =SUM(F26:G26) -> 808 | I26: 289 | J26: 364 | K26: =SUM(I26:J26) -> 653
A27: 24 | B27: ='CENTRES FOR BASIC LIT. EDU'!B26 -> LAGOS | C27: 5946 | D27: 9145 | E27: =SUM(C27:D27) -> 15091 | F27: 5946 | G27: 9145 | H27: =SUM(F27:G27) -> 15091 | I27: 111 | J27: 816 | K27: =SUM(I27:J27) -> 927
A28: 25 | B28: ='CENTRES FOR BASIC LIT. EDU'!B27 -> NASARAWA | C28: 1197 | D28: 3760 | E28: =SUM(C28:D28) -> 4957 | F28: 1197 | G28: 3760 | H28: =SUM(F28:G28) -> 4957 | I28: 353 | J28: 1347 | K28: =SUM(I28:J28) -> 1700
A29: 26 | B29: ='CENTRES FOR BASIC LIT. EDU'!B28 -> NIGER | C29: 17889 | D29: 18733 | E29: =SUM(C29:D29) -> 36622 | F29: 17889 | G29: 18733 | H29: =SUM(F29:G29) -> 36622 | I29: 6835 | J29: 9299 | K29: =SUM(I29:J29) -> 16134
... A31: 28 | B31: ='CENTRES FOR BASIC LIT. EDU'!B30 -> ONDO | C31: 10415 | D31: 12046 | E31: =SUM(C31:D31) -> 22461 | F31: 4053 | G31: 11107 | H31: =SUM(F31:G31) -> 15160 | I31: 7936 | J31: 8358 | K31: =SUM(I31:J31) -> 16294
A32: 29 | B32: ='CENTRES FOR BASIC LIT. EDU'!B31 -> OSUN | C32: NA | D32: NA | E32: =SUM(C32:D32) -> 0 | F32: NA | G32: NA | H32: =SUM(F32:G32) -> 0 | I32: 195 | J32: 114 | K32: =SUM(I32:J32) -> 309
A33: 30 | B33: ='CENTRES FOR BASIC LIT. EDU'!B32 -> OYO | C33: 1675 | D33: 3855 | E33: =SUM(C33:D33) -> 5530 | F33: 1133 | G33: 2706 | H33: =SUM(F33:G33) -> 3839 | I33: 211 | J33: 699 | K33: =SUM(I33:J33) -> 910
A34: 31 | B34: ='CENTRES FOR BASIC LIT. EDU'!B33 -> PLATEAU | C34: 7189 | D34: 12963 | E34: =SUM(C34:D34) -> 20152 | F34: 7189 | G34: 12963 | H34: =SUM(F34:G34) -> 20152 | I34: 10436 | J34: 22372 | K34: =SUM(I34:J34) -> 32808
A35: 32 | B35: ='CENTRES FOR BASIC LIT. EDU'!B34 -> RIVERS | C35: 2500 | D35: 7500 | E35: =SUM(C35:D35) -> 10000 | F35: 2500 | G35: 7500 | H35: =SUM(F35:G35) -> 10000 | I35: 88 | J35: 788 | K35: =SUM(I35:J35) -> 876
A36: 33 | B36: ='CENTRES FOR BASIC LIT. EDU'!B35 -> SOKOTO | C36: 71194 | D36: 63007 | E36: =SUM(C36:D36) -> 134201 | F36: 85001 | G36: 81000 | H36: =SUM(F36:G36) -> 166001 | I36: 28921 | J36: 11224 | K36: =SUM(I36:J36) -> 40145
A37: 34 | B37: ='CENTRES FOR BASIC LIT. EDU'!B36 -> TARABA | C37: 45084 | D37: 46107 | E37: =SUM(C37:D37) -> 91191 | F37: 40833 | G37: 37614 | H37: =SUM(F37:G37) -> 78447 | I37: 935 | J37: 2878 | K37: =SUM(I37:J37) -> 3813
A38: 35 | B38: ='CENTRES FOR BASIC LIT. EDU'!B37 -> YOBE | C38: 2775 | D38: 3157 | E38: =SUM(C38:D38) -> 5932 | F38: 2775 | G38: 3175 | H38: =SUM(F38:G38) -> 5950 | I38: 7762 | J38: 5047 | K38: =SUM(I38:J38) -> 12809
A39: 36 | B39: ='CENTRES FOR BASIC LIT. EDU'!B38 -> ZAMFARA | C39: 25867 | D39: 16154 | E39: =SUM(C39:D39) -> 42021 | F39: 25867 | G39: 16154 | H39: =SUM(F39:G39) -> 42021 | I39: 43005 | J39: 22209 | K39: =SUM(I39:J39) -> 65214
A40: 37 | B40: ='CENTRES FOR BASIC LIT. EDU'!B39 -> FCT | C40: 7189 | D40: 12963 | E40: =SUM(C40:D40) -> 20152 | F40: 3973 | G40: 9705 | H40: =SUM(F40:G40) -> 13678 | I40: 1030 | J40: 4171 | K40: =SUM(I40:J40) -> 5201
A41: 38 | B41: ='CENTRES FOR BASIC LIT. EDU'!B40 -> TOTAL | C41: =SUM(C4:C40) -> 637851 | D41: =SUM(D4:D40) -> 597041 | E41: =SUM(E4:E40) -> 1234892 | F41: =SUM(F4:F40) -> 651234 | G41: =SUM(G4:G40) -> 617432 | H41: =SUM(H4:H40) -> 1268666 | I41: =SUM(I4:I40) -> 259666 | J41: =SUM(J4:J40) -> 223363 | K41: =SUM(K4:K40) -> 483029

Sheet PERF.IN BASIC LIT.EXAM
A1: PERFORMANCE IN BASIC LITERACY EXAMINATIONS BY STATE
D2: 2014 | H2: 2015 | L2: 2016
A3: S/N | B3: =UPPER(C4) -> STATE | D3: Total Enrolment | E3: Total Number Examined | F3: Total Number that passed | G3: % Pass | H3: Total Enrolment | I3: Total Number Examined | J3: Total Number that passed | K3: % Pass | L3: Total Enrolment | M3: Total Number Examined | N3: Total Number that passed | O3: % Pass
C4: STATE
A5: 1 | B5: =UPPER(C5) -> ABIA | C5: Abia | D5: 5562 | E5: 5562 | F5: 4002 | G5: =F5/E5*100 -> 71.952535 | H5: 5376 | I5: 5376 | J5: 5226 | K5: =J5/I5*100 -> 97.209821 | L5: 1223 | M5: 1223 | N5: 1223 | O5: =N5/M5*100 -> 100
A6: 2 | B6: =UPPER(C6) -> ADAMAWA | C6: Adamawa | D6: 2730 | E6: 2730 | F6: 341 | G6: =F6/E6*100 -> 12.490842 | H6: 2730 | I6: 2730 | J6: 424 | K6: =J6/I6*100 -> 15.531136 | L6: 6454 | M6: 4065 | N6: 3919 | O6: =N6/M6*100 -> 96.408364
A7: 3 | B7: =UPPER(C7) -> AKWA IBOM | C7: Akwa Ibom | D7: 53946 | E7: 53946 | F7: 20089 | G7: =F7/E7*100 -> 37.239091 | H7: 53946 | I7: 53946 | J7: 49103 | K7: =J7/I7*100 -> 91.022504 | L7: 10108 | M7: 8530 | N7: 7219 | O7: =N7/M7*100 -> 84.630715
A8: 4 | B8: =UPPER(C8) -> ANAMBRA | C8: Anambra | D8: 7236 | E8: 7236 | F8: 5982 | G8: =F8/E8*100 -> 82.669983 | H8: 7535 | I8: 7535 | J8: 6202 | K8: =J8/I8*100 -> 82.309224 | L8: 25618 | M8: 19152 | N8: 18478 | O8: =N8/M8*100 -> 96.480785
A9: 5 | B9: =UPPER(C9) -> BAUCHI | C9: Bauchi | D9: 36382 | E9: 36382 | F9: 21718 | G9: =F9/E9*100 -> 59.694354 | H9: 36382 | I9: 36382 | J9: 21718 | K9: =J9/I9*100 -> 59.694354 | L9: 71786 | M9: 7533 | N9: 4492 | O9: =N9/M9*100 -> 59.630957
A10: 6 | B10: =UPPER(C10) -> BAYELSA | C10: Bayelsa | D10: 2952 | E10: 2952 | F10: 2489 | G10: =F10/E10*100 -> 84.315718 | H10: 2952 | I10: 2952 | J10: 1969 | K10: =J10/I10*100 -> 66.700542 | L10: 3456 | M10: 1568 | N10: 1287 | O10: =N10/M10*100 -> 82.079082
A11: 7 | B11: =UPPER(C11) -> BENUE | C11: Benue | D11: 4606 | E11: 4606 | F11: 1055 | G11: =F11/E11*100 -> 22.904907 | H11: 25881 | I11: 25881 | J11: 8585 | K11: =J11/I11*100 -> 33.171052 | L11: 10568 | M11: NA | N11: NA | O11: =N11/M11*100 -> #VALUE!
A12: 8 | B12: =UPPER(C12) -> BORNO | C12: Borno | D12: NA | E12: NA | F12: NA | G12: =F12/E12*100 -> #VALUE! | H12: NA | I12: NA | J12: NA | K12: =J12/I12*100 -> #VALUE! | L12: 2641 | M12: 1385 | N12: 968 | O12: =N12/M12*100 -> 69.891697
A13: 9 | B13: =UPPER(C13) -> CROSS RIVER | C13: Cross River | D13: 16039 | E13: 16039 | F13: 13246 | G13: =F13/E13*100 -> 82.586196 | H13: 16039 | I13: 16039 | J13: 13863 | K13: =J13/I13*100 -> 86.433069 | L13: 19271 | M13: NA | N13: NA | O13: =N13/M13*100 -> #VALUE!
A14: 10 | B14: =UPPER(C14) -> DELTA | C14: Delta | D14: 13668 | E14: 13668 | F14: 10249 | G14: =F14/E14*100 -> 74.985367 | H14: 13668 | I14: 13668 | J14: 11339 | K14: =J14/I14*100 -> 82.960199 | L14: 2600 | N14: NA | O14: =N14/M14*100 -> #VALUE!
A15: 11 | B15: =UPPER(C15) -> EBONYI | C15: Ebonyi | D15: 9478 | E15: 9478 | F15: 9478 | G15: =F15/E15*100 -> 100 | H15: 9478 | I15: 9478 | J15: 72378 | K15: =J15/I15*100 -> 763.64212 | L15: 1462 | M15: 50 | N15: 50 | O15: =N15/M15*100 -> 100
A16: 12 | B16: =UPPER(C16) -> EDO | C16: Edo | D16: 10870 | E16: 10870 | F16: 6180 | G16: =F16/E16*100 -> 56.853726 | H16: 10870 | I16: 10870 | J16: 6180 | K16: =J16/I16*100 -> 56.853726 | L16: 3191 | M16: NA | N16: NA | O16: =N16/M16*100 -> #VALUE!
A17: 13 | B17: =UPPER(C17) -> EKITI | C17: Ekiti | D17: 3349 | E17: 3349 | F17: 2932 | G17: =F17/E17*100 -> 87.548522 | H17: 4272 | I17: 4272 | J17: 212 | K17: =J17/I17*100 -> 4.9625468 | L17: 174 | M17: 14 | N17: 14 | O17: =N17/M17*100 -> 100
A18: 14 | B18: =UPPER(C18) -> ENUGU | C18: Enugu | D18: NA | E18: NA | F18: NA | G18: =F18/E18*100 -> #VALUE! | H18: NA | I18: NA | J18: NA | K18: =J18/I18*100 -> #VALUE! | L18: 3201 | M18: 2654 | N18: 2433 | O18: =N18/M18*100 -> 91.672946
A19: 15 | B19: =UPPER(C19) -> GOMBE | C19: Gombe | D19: 19315 | E19: 19315 | F19: 11148 | G19: =F19/E19*100 -> 57.7168 | H19: 22832 | I19: 22832 | J19: 11126 | K19: =J19/I19*100 -> 48.729853 | L19: 9701 | M19: 9006 | N19: 8585 | O19: =N19/M19*100 -> 95.325339
A20: 16 | B20: =UPPER(C20) -> IMO | C20: Imo | D20: 21592 | E20: 21592 | F20: 11879 | G20: =F20/E20*100 -> 55.015747 | H20: 8983 | I20: 8983 | J20: 22078 | K20: =J20/I20*100 -> 245.77535 | L20: 14271 | M20: 9693 | N20: 9687 | O20: =N20/M20*100 -> 99.9381
A21: 17 | B21: =UPPER(C21) -> JIGAWA | C21: Jigawa | D21: 33752 | E21: 33752 | F21: 8866 | G21: =F21/E21*100 -> 26.268073 | H21: 33752 | I21: 33752 | J21: 21100 | K21: =J21/I21*100 -> 62.514814 | L21: 22360 | M21: 17951 | N21: 15134 | O21: =N21/M21*100 -> 84.307281
A22: 18 | B22: =UPPER(C22) -> KADUNA | C22: Kaduna | D22: 8514 | E22: 8514 | F22: 5667 | G22: =F22/E22*100 -> 66.560958 | H22: 8514 | I22: 8514 | J22: 6105 | K22: =J22/I22*100 -> 71.705426 | L22: 5290 | M22: 4064 | N22: 3495 | O22: =N22/M22*100 -> 85.999016
A23: 19 | B23: =UPPER(C23) -> KANO | C23: Kano | D23: 39854 | E23: 395842 | F23: 6743 | G23: =F23/E23*100 -> 1.7034574 | H23: 9700 | I23: 403700 | J23: 4762 | K23: =J23/I23*100 -> 1.1795888 | L23: 6185 | M23: 6084 | N23: 5939 | O23: =N23/M23*100 -> 97.6167
A24: 20 | B24: =UPPER(C24) -> KATSINA | C24: Katsina | D24: 101708 | E24: 101708 | F24: 84790 | G24: =F24/E24*100 -> 83.366107 | H24: 101708 | I24: 101708 | J24: 96552 | K24: =J24/I24*100 -> 94.930586 | L24: 462 | M24: NA | N24: NA | O24: =N24/M24*100 -> #VALUE!
A25: 21 | B25: =UPPER(C25) -> KEBBI | C25: Kebbi | D25: 65815 | E25: 65815 | F25: 47800 | G25: =F25/E25*100 -> 72.62782 | H25: 74904 | I25: 74904 | J25: 71886 | K25: =J25/I25*100 -> 95.970843 | L25: 59761 | M25: 50520 | N25: 41489 | O25: =N25/M25*100 -> 82.123911
A26: 22 | B26: =UPPER(C26) -> KOGI | C26: Kogi | D26: 9163 | E26: 606163 | F26: 7646 | G26: =F26/E26*100 -> 1.2613769 | H26: 9163 | I26: 606163 | J26: 7155 | K26: =J26/I26*100 -> 1.1803756 | L26: 5325 | M26: 2112 | N26: 2110 | O26: =N26/M26*100 -> 99.905303
A27: 23 | B27: =UPPER(C27) -> KWARA | C27: Kwara | D27: 808 | E27: 808 | F27: 737 | G27: =F27/E27*100 -> 91.212871 | H27: 808 | I27: 808 | J27: 168 | K27: =J27/I27*100 -> 20.792079 | L27: 653 | M27: NA | N27: NA | O27: =N27/M27*100 -> #VALUE!
A28: 24 | B28: =UPPER(C28) -> LAGOS | C28: Lagos | D28: 15091 | E28: 15091 | F28: 11888 | G28: =F28/E28*100 -> 78.775429 | H28: 15091 | I28: 15091 | J28: 22403 | K28: =J28/I28*100 -> 148.45272 | L28: 1593 | M28: 1392 | N28: 1286 | O28: =N28/M28*100 -> 92.385057
A29: 25 | B29: =UPPER(C29) -> NASARAWA | C29: Nasarawa | D29: 4957 | E29: 4957 | F29: 1642 | G29: =F29/E29*100 -> 33.124874 | H29: 4957 | I29: 4957 | J29: 1633 | K29: =J29/I29*100 -> 32.943312 | L29: 1700 | M29: 1089 | N29: 958 | O29: =N29/M29*100 -> 87.970615
A30: 26 | B30: =UPPER(C30) -> NIGER | C30: Niger | D30: 36622 | E30: 36622 | F30: 25807 | G30: =F30/E30*100 -> 70.468571 | H30: 36622 | I30: 36622 | J30: 25704 | K30: =J30/I30*100 -> 70.187319 | L30: 16134 | M30: 13897 | N30: 12793 | O30: =N30/M30*100 -> 92.055839
A31: 27 | B31: =UPPER(C31) -> OGUN | C31: Ogun | D31: 3255 | E31: 3255 | F31: 3146 | G31: =F31/E31*100 -> 96.651306 | H31: 3255 | I31: 3255 | J31: 2931 | K31: =J31/I31*100 -> 90.046083 | L31: 98 | M31: 95 | N31: 95 | O31: =N31/M31*100 -> 100
A32: 28 | B32: =UPPER(C32) -> ONDO | C32: Ondo | D32: 22461 | E32: 22461 | F32: 21196 | G32: =F32/E32*100 -> 94.368016 | H32: 15160 | I32: 15160 | J32: 20903 | K32: =J32/I32*100 -> 137.88259 | L32: 16294 | M32: 15079 | N32: 14530 | O32: =N32/M32*100 -> 96.359175
A33: 29 | B33: =UPPER(C33) -> OSUN | C33: Osun | D33: NIL | E33: NIL | F33: NIL | G33: =F33/E33*100 -> #VALUE! | H33: NIL | I33: NIL | J33: NIL | K33: =J33/I33*100 -> #VALUE! | L33: 309 | M33: NA | N33: NA | O33: =N33/M33*100 -> #VALUE!
A34: 30 | B34: =UPPER(C34) -> OYO | C34: Oyo | D34: 5530 | E34: 5530 | F34: 4008 | G34: =F34/E34*100 -> 72.477396 | H34: 3839 | I34: 3839 | J34: 3521 | K34: =J34/I34*100 -> 91.716593 | L34: 910 | M34: 772 | N34: 772 | O34: =N34/M34*100 -> 100
A35: 31 | B35: =UPPER(C35) -> PLATEAU | C35: Plateau | D35: 20152 | E35: 20152 | F35: 17494 | G35: =F35/E35*100 -> 86.810242 | H35: 20152 | I35: 20152 | J35: 17452 | K35: =J35/I35*100 -> 86.601826 | L35: 32808 | M35: 8429 | N35: 7245 | O35: =N35/M35*100 -> 85.953257
A36: 32 | B36: =UPPER(C36) -> RIVERS | C36: Rivers | D36: 10000 | E36: 10000 | F36: 8000 | G36: =F36/E36*100 -> 80 | H36: 10000 | I36: 10000 | J36: 8900 | K36: =J36/I36*100 -> 89 | L36: 876 | M36: 791 | N36: 791 | O36: =N36/M36*100 -> 100
A37: 33 | B37: =UPPER(C37) -> SOKOTO | C37: Sokoto | D37: 13201 | E37: 134201 | F37: 71748 | G37: =F37/E37*100 -> 53.463089 | H37: 166001 | I37: 166001 | J37: 160342 | K37: =J37/I37*100 -> 96.590984 | L37: 40145 | M37: 12497 | N37: 9708 | O37: =N37/M37*100 -> 77.682644
A38: 34 | B38: =UPPER(C38) -> TARABA | C38: Taraba | D38: 91191 | E38: 91191 | F38: 86436 | G38: =F38/E38*100 -> 94.78567 | H38: 78447 | I38: 78447 | J38: 75256 | K38: =J38/I38*100 -> 95.932285 | L38: 3813 | M38: 1515 | N38: 1215 | O38: =N38/M38*100 -> 80.19802
A39: 35 | B39: =UPPER(C39) -> YOBE | C39: Yobe | D39: 5932 | E39: 5932 | F39: 4556 | G39: =F39/E39*100 -> 76.803776 | H39: 5950 | I39: 5950 | J39: 4958 | K39: =J39/I39*100 -> 83.327731 | L39: 12809 | M39: 3557 | N39: 3160 | O39: =N39/M39*100 -> 88.838909
A40: 36 | B40: =UPPER(C40) -> ZAMFARA | C40: Zamfara | D40: 42021 | E40: 42021 | F40: 1811 | G40: =F40/E40*100 -> 4.3097499 | H40: 42021 | I40: 42021 | J40: 38323 | K40: =J40/I40*100 -> 91.199638 | L40: 65214 | M40: 28291 | N40: 14640 | O40: =N40/M40*100 -> 51.747906
A41: 37 | B41: =UPPER(C41) -> FCT | C41: FCT | D41: 20152 | E41: 20152 | F41: 17494 | G41: =F41/E41*100 -> 86.810242 | H41: 13678 | I41: 13678 | J41: 3535 | K41: =J41/I41*100 -> 25.844422 | L41: 5201 | M41: 3101 | N41: 2798 | O41: =N41/M41*100 -> 90.228958

Sheet INSTRUCTORS FOR ADULT LIT.
A1: NUMBER OF INSTRUCTORS/FACILITATORS FOR ADULT LITERACY
A2: S/N | B2: =UPPER(C2) -> STATE | C2: State | D2: 2014 | G2: 2015
D3: MALE | E3: FEMALE | F3: TOTAL | G3: MALE | H3: FEMALE | I3: TOTAL
A4: 1 | B4: =UPPER(C4) -> ABIA | C4: Abia | D4: 186 | E4: 392 | F4: =SUM(D4:E4) -> 578 | G4: 718 | H4: 556 | I4: =SUM(G4:H4) -> 1274
A5: 2 | B5: =UPPER(C5) -> ADAMAWA | C5: Adamawa | D5: 62 | E5: 56 | F5: =SUM(D5:E5) -> 118 | G5: 62 | H5: 56 | I5: =SUM(G5:H5) -> 118
A6: 3 | B6: =UPPER(C6) -> AKWA IBOM | C6: Akwa Ibom | D6: NA | E6: NA | F6: =SUM(D6:E6) -> 0 | G6: NA | H6: NA | I6: =SUM(G6:H6) -> 0
A7: 4 | B7: =UPPER(C7) -> ANAMBRA | C7: Anambra | D7: 156 | E7: 588 | F7: =SUM(D7:E7) -> 744 | G7: 156 | H7: 588 | I7: =SUM(G7:H7) -> 744
A8: 5 | B8: =UPPER(C8) -> BAUCHI | C8: Bauchi | D8: 1088 | E8: 657 | F8: =SUM(D8:E8) -> 1745 | G8: 1088 | H8: 657 | I8: =SUM(G8:H8) -> 1745
A9: 6 | B9: =UPPER(C9) -> BAYELSA | C9: Bayelsa | D9: 91 | E9: 59 | F9: =SUM(D9:E9) -> 150 | G9: 91 | H9: 59 | I9: =SUM(G9:H9) -> 150
A10: 7 | B10: =UPPER(C10) -> BENUE | C10: Benue | D10: 8025 | E10: 17856 | F10: =SUM(D10:E10) -> 25881 | G10: 602 | H10: 857 | I10: =SUM(G10:H10) -> 1459
A11: 8 | B11: =UPPER(C11) -> BORNO | C11: Borno | D11: NA | E11: NA | F11: =SUM(D11:E11) -> 0 | G11: 158 | H11: 136 | I11: =SUM(G11:H11) -> 294
A12: 9 | B12: =UPPER(C12) -> CROSS RIVER | C12: Cross River | D12: 53 | E12: 94 | F12: =SUM(D12:E12) -> 147 | G12: 53 | H12: 94 | I12: =SUM(G12:H12) -> 147
A13: 10 | B13: =UPPER(C13) -> DELTA | C13: Delta | D13: 718 | E13: 556 | F13: =SUM(D13:E13) -> 1274 | G13: 718 | H13: 556 | I13: =SUM(G13:H13) -> 1274
A14: 11 | B14: =UPPER(C14) -> EBONYI | C14: Ebonyi | D14: 458 | E14: 1000 | F14: =SUM(D14:E14) -> 1458 | G14: 458 | H14: 1000 | I14: =SUM(G14:H14) -> 1458
A15: 12 | B15: =UPPER(C15) -> EDO | C15: Edo | D15: 258 | E15: 176 | F15: =SUM(D15:E15) -> 434 | G15: 258 | H15: 176 | I15: =SUM(G15:H15) -> 434
A16: 13 | B16: =UPPER(C16) -> EKITI | C16: Ekiti | D16: 7 | E16: 20 | F16: =SUM(D16:E16) -> 27 | G16: 7 | H16: 20 | I16: =SUM(G16:H16) -> 27
A17: 14 | B17: =UPPER(C17) -> ENUGU | C17: Enugu | D17: NA | E17: NA | F17: =SUM(D17:E17) -> 0 | G17: NA | H17: NA | I17: =SUM(G17:H17) -> 0
A18: 15 | B18: =UPPER(C18) -> GOMBE | C18: Gombe | D18: 18 | E18: 16 | F18: =SUM(D18:E18) -> 34 | G18: 600 | H18: 944 | I18: =SUM(G18:H18) -> 1544
A19: 16 | B19: =UPPER(C19) -> IMO | C19: Imo | D19: 600 | E19: 944 | F19: =SUM(D19:E19) -> 1544 | G19: 81 | H19: 43 | I19: =SUM(G19:H19) -> 124
A20: 17 | B20: =UPPER(C20) -> JIGAWA | C20: Jigawa | D20: 81 | E20: 43 | F20: =SUM(D20:E20) -> 124 | G20: 241 | H20: 242 | I20: =SUM(G20:H20) -> 483
A21: 18 | B21: =UPPER(C21) -> KADUNA | C21: Kaduna | D21: 241 | E21: 242 | F21: =SUM(D21:E21) -> 483 | G21: 251 | H21: 439 | I21: =SUM(G21:H21) -> 690
A22: 19 | B22: =UPPER(C22) -> KANO | C22: Kano | D22: 130 | E22: 372 | F22: =SUM(D22:E22) -> 502 | G22: 91 | H22: 20 | I22: =SUM(G22:H22) -> 111
A23: 20 | B23: =UPPER(C23) -> KATSINA | C23: Katsina | D23: 91 | E23: 20 | F23: =SUM(D23:E23) -> 111 | G23: 1192 | H23: 213 | I23: =SUM(G23:H23) -> 1405
A24: 21 | B24: =UPPER(C24) -> KEBBI | C24: Kebbi | D24: 999 | E24: 116 | F24: =SUM(D24:E24) -> 1115 | G24: 363 | H24: 168 | I24: =SUM(G24:H24) -> 531
A25: 22 | B25: =UPPER(C25) -> KOGI | C25: Kogi | D25: 363 | E25: 168 | F25: =SUM(D25:E25) -> 531 | G25: 11 | H25: 5 | I25: =SUM(G25:H25) -> 16
A26: 23 | B26: =UPPER(C26) -> KWARA | C26: Kwara | D26: 11 | E26: 5 | F26: =SUM(D26:E26) -> 16 | G26: 232 | H26: 204 | I26: =SUM(G26:H26) -> 436
A27: 24 | B27: =UPPER(C27) -> LAGOS | C27: Lagos | D27: 232 | E27: 204 | F27: =SUM(D27:E27) -> 436 | G27: 293 | H27: 117 | I27: =SUM(G27:H27) -> 410
A28: 25 | B28: =UPPER(C28) -> NASARAWA | C28: Nasarawa | D28: 293 | E28: 117 | F28: =SUM(D28:E28) -> 410 | G28: 562 | H28: 188 | I28: =SUM(G28:H28) -> 750
A29: 26 | B29: =UPPER(C29) -> NIGER | C29: Niger | D29: 562 | E29: 188 | F29: =SUM(D29:E29) -> 750 | G29: 42 | H29: 58 | I29: =SUM(G29:H29) -> 100
... A34: 31 | B34: =UPPER(C34) -> PLATEAU | C34: Plateau | D34: 68 | E34: 82 | F34: =SUM(D34:E34) -> 150 | G34: 29 | H34: 54 | I34: =SUM(G34:H34) -> 83
A35: 32 | B35: =UPPER(C35) -> RIVERS | C35: Rivers | D35: 29 | E35: 54 | F35: =SUM(D35:E35) -> 83 | G35: 9 | I35: =SUM(G35:H35) -> 9
A36: 33 | B36: =UPPER(C36) -> SOKOTO | C36: Sokoto | D36: 9 | F36: =SUM(D36:E36) -> 9 | G36: 1087 | H36: 240 | I36: =SUM(G36:H36) -> 1327
A37: 34 | B37: =UPPER(C37) -> TARABA | C37: Taraba | D37: 1094 | E37: 225 | F37: =SUM(D37:E37) -> 1319 | G37: 100 | H37: 134 | I37: =SUM(G37:H37) -> 234
A38: 35 | B38: =UPPER(C38) -> YOBE | C38: Yobe | D38: 100 | E38: 134 | F38: =SUM(D38:E38) -> 234 | G38: 3895 | H38: 710 | I38: =SUM(G38:H38) -> 4605
A39: 36 | B39: =UPPER(C39) -> ZAMFARA | C39: Zamfara | D39: 3895 | E39: 710 | F39: =SUM(D39:E39) -> 4605 | G39: 453 | H39: 452 | I39: =SUM(G39:H39) -> 905
A40: 37 | B40: =UPPER(C40) -> FCT | C40: FCT | D40: 68 | E40: 82 | F40: =SUM(D40:E40) -> 150 | G40: 310 | H40: 176 | I40: =SUM(G40:H40) -> 486
B41: =UPPER(C41) -> TOTAL | C41: TOTAL | D41: =SUM(D4:D40) -> 20398 | E41: =SUM(E4:E40) -> 25742 | F41: =SUM(F4:F40) -> 46140 | G41: =SUM(G4:G40) -> 14576 | H41: =SUM(H4:H40) -> 9700 | I41: =SUM(I4:I40) -> 24276

Sheet  WASSCE 2014
A1: CANDIDATES PERFORMANCE IN PUBLIC SCHOOLS BY STATE WASSCE MAY /JUNE 2014 | U1: CANDIDATES PERFORMANCE IN PRIVATE SCHOOLS BY STATE WASSCE MAY /JUNE 2014
A2: S/N | B2: =UPPER(C2) -> STATE | C2: State | D2: CANDIDATE THAT SAT FOR THE EXAMINATION | G2: CANDITATES WITH 5 CREDITS & ABOVE WITHOUT ENG & MATHS | J2: CANDITATES WITH 5 CREDITS & ABOVE INCLUDING ENG LANG | M2: CANDITATES WITH 5 CREDITS & ABOVE INCLUDING MATHS | P2: CANDITATES WITH 5 CREDITS & ABOVE INCLUDING ENGLISH & MATHS | U2: S/N | V2: STATE | W2: =UPPER(#REF!) -> #REF! | X2: CANDIDATE THAT SAT FOR THE EXAMINATION | AA2: CANDITATES WITH 5 CREDITS & ABOVE WITHOUT ENG & MATHS | AD2: CANDITATES WITH 5 CREDITS & ABOVE INCLUDING ENG LANG | AG2: CANDITATES WITH 5 CREDITS & ABOVE INCLUDING MATHS | AJ2: CANDITATES WITH 5 CREDITS & ABOVE INCLUDING ENGLISH & MATHS
D3: MALE | E3: FEMALE | F3: TOTAL | G3: MALE | H3: FEMALE | I3: TOTAL | J3: MALE | K3: FEMALE | L3: TOTAL | M3: MALE | N3: FEMALE | O3: TOTAL | P3: MALE | Q3: FEMALE | R3: TOTAL | X3: MALE | Y3: FEMALE | Z3: TOTAL | AA3: MALE | AB3: FEMALE | AC3: TOTAL | AD3: MALE | AE3: FEMALE | AF3: TOTAL | AG3: MALE | AH3: FEMALE | AI3: TOTAL | AJ3: MALE | AK3: FEMALE | AL3: TOTAL
A4: 1 | B4: =UPPER(C4) -> ABIA | C4: Abia | D4: 5648 | E4: 6184 | F4: =SUM(D4:E4) -> 11832 | G4: 140 | H4: 153 | I4: =SUM(G4:H4) -> 293 | J4: 2328 | K4: 2926 | L4: =SUM(J4:K4) -> 5254 | M4: 3798 | N4: 4466 | O4: =SUM(M4:N4) -> 8264 | P4: 2206 | Q4: 2812 | R4: =SUM(P4:Q4) -> 5018 | U4: 1 | V4: =UPPER(W4) -> ABIA | W4: Abia | X4: 20883 | Y4: 23023 | Z4: =SUM(X4:Y4) -> 43906 | AA4: 246 | AB4: 297 | AC4: =SUM(AA4:AB4) -> 543 | AD4: 14219 | AE4: 15791 | AF4: =SUM(AD4:AE4) -> 30010 | AG4: 17227 | AH4: 19008 | AI4: =SUM(AG4:AH4) -> 36235 | AJ4: 13409 | AK4: 14860 | AL4: =SUM(AJ4:AK4) -> 28269
A5: 2 | B5: =UPPER(C5) -> ADAMAWA | C5: Adamawa | D5: 14275 | E5: 10038 | F5: =SUM(D5:E5) -> 24313 | G5: 558 | H5: 412 | I5: =SUM(G5:H5) -> 970 | J5: 562 | K5: 343 | L5: =SUM(J5:K5) -> 905 | M5: 2226 | N5: 1550 | O5: =SUM(M5:N5) -> 3776 | P5: 453 | Q5: 276 | R5: =SUM(P5:Q5) -> 729 | U5: 2 | V5: =UPPER(W5) -> ADAMAWA | W5: Adamawa | X5: 3308 | Y5: 2301 | Z5: =SUM(X5:Y5) -> 5609 | AA5: 464 | AB5: 407 | AC5: =SUM(AA5:AB5) -> 871 | AD5: 1119 | AE5: 816 | AF5: =SUM(AD5:AE5) -> 1935 | AG5: 1534 | AH5: 1014 | AI5: =SUM(AG5:AH5) -> 2548 | AJ5: 800 | AK5: 565 | AL5: =SUM(AJ5:AK5) -> 1365
A6: 3 | B6: =UPPER(C6) -> AKWA IBOM | C6: Akwa Ibom | D6: 17595 | E6: 17424 | F6: =SUM(D6:E6) -> 35019 | G6: 1022 | H6: 995 | I6: =SUM(G6:H6) -> 2017 | J6: 2945 | K6: 3250 | L6: =SUM(J6:K6) -> 6195 | M6: 5257 | N6: 5626 | O6: =SUM(M6:N6) -> 10883 | P6: 2297 | Q6: 2528 | R6: =SUM(P6:Q6) -> 4825 | U6: 3 | V6: =UPPER(W6) -> AKWA IBOM | W6: Akwa Ibom | X6: 11374 | Y6: 12198 | Z6: =SUM(X6:Y6) -> 23572 | AA6: 369 | AB6: 427 | AC6: =SUM(AA6:AB6) -> 796 | AD6: 6815 | AE6: 7717 | AF6: =SUM(AD6:AE6) -> 14532 | AG6: 8452 | AH6: 9381 | AI6: =SUM(AG6:AH6) -> 17833 | AJ6: 6004 | AK6: 6763 | AL6: =SUM(AJ6:AK6) -> 12767
A7: 4 | B7: =UPPER(C7) -> ANAMBRA | C7: Anambra | D7: 6252 | E7: 7098 | F7: =SUM(D7:E7) -> 13350 | G7: 238 | H7: 310 | I7: =SUM(G7:H7) -> 548 | J7: 3117 | K7: 3721 | L7: =SUM(J7:K7) -> 6838 | M7: 4571 | N7: 5050 | O7: =SUM(M7:N7) -> 9621 | P7: 2803 | Q7: 3333 | R7: =SUM(P7:Q7) -> 6136 | U7: 4 | V7: =UPPER(W7) -> ANAMBRA | W7: Anambra | X7: 16448 | Y7: 21118 | Z7: =SUM(X7:Y7) -> 37566 | AA7: 408 | AB7: 623 | AC7: =SUM(AA7:AB7) -> 1031 | AD7: 11939 | AE7: 15592 | AF7: =SUM(AD7:AE7) -> 27531 | AG7: 13435 | AH7: 17218 | AI7: =SUM(AG7:AH7) -> 30653 | AJ7: 10799 | AK7: 13932 | AL7: =SUM(AJ7:AK7) -> 24731
A8: 5 | B8: =UPPER(C8) -> BAUCHI | C8: Bauchi | D8: 13902 | E8: 5890 | F8: =SUM(D8:E8) -> 19792 | G8: 375 | H8: 134 | I8: =SUM(G8:H8) -> 509 | J8: 263 | K8: 187 | L8: =SUM(J8:K8) -> 450 | M8: 1143 | N8: 779 | O8: =SUM(M8:N8) -> 1922 | P8: 209 | Q8: 155 | R8: =SUM(P8:Q8) -> 364 | U8: 5 | V8: =UPPER(W8) -> BAUCHI | W8: Bauchi | X8: 5447 | Y8: 3733 | Z8: =SUM(X8:Y8) -> 9180 | AA8: 559 | AB8: 380 | AC8: =SUM(AA8:AB8) -> 939 | AD8: 883 | AE8: 624 | AF8: =SUM(AD8:AE8) -> 1507 | AG8: 2350 | AH8: 1844 | AI8: =SUM(AG8:AH8) -> 4194 | AJ8: 688 | AK8: 499 | AL8: =SUM(AJ8:AK8) -> 1187
A9: 6 | B9: =UPPER(C9) -> BAYELSA | C9: Bayelsa | D9: 9478 | E9: 8082 | F9: =SUM(D9:E9) -> 17560 | G9: 394 | H9: 277 | I9: =SUM(G9:H9) -> 671 | J9: 5284 | K9: 4566 | L9: =SUM(J9:K9) -> 9850 | M9: 7313 | N9: 6433 | O9: =SUM(M9:N9) -> 13746 | P9: 4846 | Q9: 4190 | R9: =SUM(P9:Q9) -> 9036 | U9: 6 | V9: =UPPER(W9) -> BAYELSA | W9: Bayelsa | X9: 1031 | Y9: 1131 | Z9: =SUM(X9:Y9) -> 2162 | AA9: 11 | AB9: 10 | AC9: =SUM(AA9:AB9) -> 21 | AD9: 672 | AE9: 740 | AF9: =SUM(AD9:AE9) -> 1412 | AG9: 834 | AH9: 920 | AI9: =SUM(AG9:AH9) -> 1754 | AJ9: 653 | AK9: 715 | AL9: =SUM(AJ9:AK9) -> 1368
A10: 7 | B10: =UPPER(C10) -> BENUE | C10: Benue | D10: 8175 | E10: 5389 | F10: =SUM(D10:E10) -> 13564 | G10: 521 | H10: 384 | I10: =SUM(G10:H10) -> 905 | J10: 2308 | K10: 1496 | L10: =SUM(J10:K10) -> 3804 | M10: 4018 | N10: 2578 | O10: =SUM(M10:N10) -> 6596 | P10: 1936 | Q10: 1261 | R10: =SUM(P10:Q10) -> 3197 | U10: 7 | V10: =UPPER(W10) -> BENUE | W10: Benue | X10: 21014 | Y10: 16163 | Z10: =SUM(X10:Y10) -> 37177 | AA10: 1546 | AB10: 1241 | AC10: =SUM(AA10:AB10) -> 2787 | AD10: 6903 | AE10: 5399 | AF10: =SUM(AD10:AE10) -> 12302 | AG10: 11308 | AH10: 8558 | AI10: =SUM(AG10:AH10) -> 19866 | AJ10: 5358 | AK10: 4156 | AL10: =SUM(AJ10:AK10) -> 9514
A11: 8 | B11: =UPPER(C11) -> BOMO | C11: Bomo | D11: 8977 | E11: 6672 | F11: =SUM(D11:E11) -> 15649 | G11: 558 | H11: 239 | I11: =SUM(G11:H11) -> 797 | J11: 334 | K11: 335 | L11: =SUM(J11:K11) -> 669 | M11: 1904 | N11: 2600 | O11: =SUM(M11:N11) -> 4504 | P11: 241 | Q11: 313 | R11: =SUM(P11:Q11) -> 554 | U11: 8 | V11: =UPPER(W11) -> BORNO | W11: Borno | X11: 10190 | Y11: 5779 | Z11: =SUM(X11:Y11) -> 15969 | AA11: 390 | AB11: 277 | AC11: =SUM(AA11:AB11) -> 667 | AD11: 2653 | AE11: 1690 | AF11: =SUM(AD11:AE11) -> 4343 | AG11: 5883 | AH11: 3738 | AI11: =SUM(AG11:AH11) -> 9621 | AJ11: 2390 | AK11: 1528 | AL11: =SUM(AJ11:AK11) -> 3918
A12: 9 | B12: =UPPER(C12) -> CROSS RIVER | C12: Cross River | D12: 10681 | E12: 9571 | F12: =SUM(D12:E12) -> 20252 | G12: 471 | I12: =SUM(G12:H12) -> 471 | J12: 1929 | K12: 1806 | L12: =SUM(J12:K12) -> 3735 | M12: 3248 | N12: 2871 | O12: =SUM(M12:N12) -> 6119 | P12: 1458 | Q12: 1303 | R12: =SUM(P12:Q12) -> 2761 | U12: 9 | V12: =UPPER(W12) -> CROSS RIVER | W12: Cross River | X12: 13776 | Y12: 11886 | Z12: =SUM(X12:Y12) -> 25662 | AA12: 530 | AB12: 505 | AC12: =SUM(AA12:AB12) -> 1035 | AD12: 4446 | AE12: 4078 | AF12: =SUM(AD12:AE12) -> 8524 | AG12: 7553 | AH12: 6554 | AI12: =SUM(AG12:AH12) -> 14107 | AJ12: 3867 | AK12: 3470 | AL12: =SUM(AJ12:AK12) -> 7337
A13: 10 | B13: =UPPER(C13) -> DELTA | C13: Delta | D13: 12662 | E13: 11724 | F13: =SUM(D13:E13) -> 24386 | G13: 436 | H13: 435 | I13: =SUM(G13:H13) -> 871 | J13: 3454 | K13: 3330 | L13: =SUM(J13:K13) -> 6784 | M13: 5784 | N13: 5247 | O13: =SUM(M13:N13) -> 11031 | P13: 2879 | Q13: 2660 | R13: =SUM(P13:Q13) -> 5539 | U13: 10 | V13: =UPPER(W13) -> DELTA | W13: Delta | X13: 12686 | Y13: 13240 | Z13: =SUM(X13:Y13) -> 25926 | AA13: 245 | AB13: 289 | AC13: =SUM(AA13:AB13) -> 534 | AD13: 7530 | AE13: 8120 | AF13: =SUM(AD13:AE13) -> 15650 | AG13: 9253 | AH13: 9775 | AI13: =SUM(AG13:AH13) -> 19028 | AJ13: 6856 | AK13: 7332 | AL13: =SUM(AJ13:AK13) -> 14188
A14: 11 | B14: =UPPER(C14) -> EBONYI | C14: Ebonyi | D14: 6170 | E14: 6532 | F14: =SUM(D14:E14) -> 12702 | G14: 454 | H14: 468 | I14: =SUM(G14:H14) -> 922 | J14: 1510 | K14: 1670 | L14: =SUM(J14:K14) -> 3180 | M14: 2913 | N14: 3063 | O14: =SUM(M14:N14) -> 5976 | P14: 1211 | Q14: 1371 | R14: =SUM(P14:Q14) -> 2582 | U14: 11 | V14: =UPPER(W14) -> EBONYI | W14: Ebonyi | X14: 6458 | Y14: 5929 | Z14: =SUM(X14:Y14) -> 12387 | AA14: 304 | AB14: 239 | AC14: =SUM(AA14:AB14) -> 543 | AD14: 3667 | AE14: 3334 | AF14: =SUM(AD14:AE14) -> 7001 | AG14: 5104 | AH14: 4708 | AI14: =SUM(AG14:AH14) -> 9812 | AJ14: 3349 | AK14: 3045 | AL14: =SUM(AJ14:AK14) -> 6394
A15: 12 | B15: =UPPER(C15) -> EDO | C15: Edo | D15: 16053 | E15: 14381 | F15: =SUM(D15:E15) -> 30434 | G15: 729 | H15: 661 | I15: =SUM(G15:H15) -> 1390 | J15: 7974 | K15: 7727 | L15: =SUM(J15:K15) -> 15701 | M15: 11305 | N15: 10278 | O15: =SUM(M15:N15) -> 21583 | P15: 7045 | Q15: 6685 | R15: =SUM(P15:Q15) -> 13730 | U15: 12 | V15: =UPPER(W15) -> EDO | W15: Edo | X15: 16931 | Y15: 16612 | Z15: =SUM(X15:Y15) -> 33543 | AA15: 208 | AB15: 207 | AC15: =SUM(AA15:AB15) -> 415 | AD15: 11961 | AE15: 12428 | AF15: =SUM(AD15:AE15) -> 24389 | AG15: 14034 | AH15: 14043 | AI15: =SUM(AG15:AH15) -> 28077 | AJ15: 11304 | AK15: 11737 | AL15: =SUM(AJ15:AK15) -> 23041
A16: 13 | B16: =UPPER(C16) -> EKITI | C16: Ekiti | D16: 7326 | E16: 6684 | F16: =SUM(D16:E16) -> 14010 | G16: 394 | H16: 391 | I16: =SUM(G16:H16) -> 785 | J16: 2129 | K16: 2164 | L16: =SUM(J16:K16) -> 4293 | M16: 2968 | N16: 3163 | O16: =SUM(M16:N16) -> 6131 | P16: 1637 | Q16: 1779 | R16: =SUM(P16:Q16) -> 3416 | U16: 13 | V16: =UPPER(W16) -> EKITI | W16: Ekiti | X16: 3857 | Y16: 3997 | Z16: =SUM(X16:Y16) -> 7854 | AA16: 72 | AB16: 92 | AC16: =SUM(AA16:AB16) -> 164 | AD16: 1890 | AE16: 2089 | AF16: =SUM(AD16:AE16) -> 3979 | AG16: 2708 | AH16: 2970 | AI16: =SUM(AG16:AH16) -> 5678 | AJ16: 1771 | AK16: 1959 | AL16: =SUM(AJ16:AK16) -> 3730
A17: 14 | B17: =UPPER(C17) -> ENUGU | C17: Enugu | D17: 11120 | E17: 14443 | F17: =SUM(D17:E17) -> 25563 | G17: 492 | H17: 743 | I17: =SUM(G17:H17) -> 1235 | J17: 5484 | K17: 6931 | L17: =SUM(J17:K17) -> 12415 | M17: 7174 | N17: 9474 | O17: =SUM(M17:N17) -> 16648 | P17: 4717 | Q17: 5985 | R17: =SUM(P17:Q17) -> 10702 | U17: 14 | V17: =UPPER(W17) -> ENUGU | W17: Enugu | X17: 9126 | Y17: 10929 | Z17: =SUM(X17:Y17) -> 20055 | AA17: 434 | AB17: 442 | AC17: =SUM(AA17:AB17) -> 876 | AD17: 6449 | AE17: 7858 | AF17: =SUM(AD17:AE17) -> 14307 | AG17: 6706 | AH17: 8120 | AI17: =SUM(AG17:AH17) -> 14826 | AJ17: 5429 | AK17: 6529 | AL17: =SUM(AJ17:AK17) -> 11958
A18: 15 | B18: =UPPER(C18) -> FCT | C18: FCT | D18: 4266 | E18: 4856 | F18: =SUM(D18:E18) -> 9122 | G18: 216 | H18: 355 | I18: =SUM(G18:H18) -> 571 | J18: 1150 | K18: 1159 | L18: =SUM(J18:K18) -> 2309 | M18: 1634 | N18: 1418 | O18: =SUM(M18:N18) -> 3052 | P18: 791 | Q18: 704 | R18: =SUM(P18:Q18) -> 1495 | U18: 15 | V18: =UPPER(W18) -> FCT | W18: FCT | X18: 3660 | Y18: 4131 | Z18: =SUM(X18:Y18) -> 7791 | AA18: 172 | AB18: 176 | AC18: =SUM(AA18:AB18) -> 348 | AD18: 1929 | AE18: 2402 | AF18: =SUM(AD18:AE18) -> 4331 | AG18: 2165 | AH18: 2456 | AI18: =SUM(AG18:AH18) -> 4621 | AJ18: 1646 | AK18: 1932 | AL18: =SUM(AJ18:AK18) -> 3578
A19: 16 | B19: =UPPER(C19) -> GOMBE | C19: Gombe | D19: 10227 | E19: 5234 | F19: =SUM(D19:E19) -> 15461 | G19: 349 | H19: 134 | I19: =SUM(G19:H19) -> 483 | J19: 230 | K19: 171 | L19: =SUM(J19:K19) -> 401 | M19: 695 | N19: 423 | O19: =SUM(M19:N19) -> 1118 | P19: 172 | Q19: 123 | R19: =SUM(P19:Q19) -> 295 | U19: 16 | V19: =UPPER(W19) -> GOMBE | W19: Gombe | X19: 2013 | Y19: 1701 | Z19: =SUM(X19:Y19) -> 3714 | AA19: 57 | AB19: 52 | AC19: =SUM(AA19:AB19) -> 109 | AD19: 490 | AE19: 465 | AF19: =SUM(AD19:AE19) -> 955 | AG19: 842 | AH19: 798 | AI19: =SUM(AG19:AH19) -> 1640 | AJ19: 414 | AK19: 382 | AL19: =SUM(AJ19:AK19) -> 796
A20: 17 | B20: =UPPER(C20) -> IMO | C20: Imo | D20: 14230 | E20: 15351 | F20: =SUM(D20:E20) -> 29581 | G20: 526 | H20: 633 | I20: =SUM(G20:H20) -> 1159 | J20: 4623 | K20: 5510 | L20: =SUM(J20:K20) -> 10133 | M20: 7417 | N20: 9168 | O20: =SUM(M20:N20) -> 16585 | P20: 4063 | Q20: 4862 | R20: =SUM(P20:Q20) -> 8925 | U20: 17 | V20: =UPPER(W20) -> IMO | W20: Imo | X20: 7466 | Y20: 8615 | Z20: =SUM(X20:Y20) -> 16081 | AA20: 225 | AB20: 263 | AC20: =SUM(AA20:AB20) -> 488 | AD20: 4447 | AE20: 5258 | AF20: =SUM(AD20:AE20) -> 9705 | AG20: 5939 | AH20: 6959 | AI20: =SUM(AG20:AH20) -> 12898 | AJ20: 4086 | AK20: 4819 | AL20: =SUM(AJ20:AK20) -> 8905
A21: 18 | B21: =UPPER(C21) -> JIQAWA | C21: Jiqawa | D21: 13049 | E21: 3855 | F21: =SUM(D21:E21) -> 16904 | G21: 758 | H21: 75 | I21: =SUM(G21:H21) -> 833 | J21: 963 | K21: 339 | L21: =SUM(J21:K21) -> 1302 | M21: 4047 | N21: 841 | O21: =SUM(M21:N21) -> 4888 | P21: 819 | Q21: 221 | R21: =SUM(P21:Q21) -> 1040 | U21: 18 | V21: =UPPER(W21) -> JIGAWA | W21: Jigawa | X21: 423 | Y21: 209 | Z21: =SUM(X21:Y21) -> 632 | AA21: 6 | AB21: 7 | AC21: =SUM(AA21:AB21) -> 13 | AD21: 86 | AE21: 53 | AF21: =SUM(AD21:AE21) -> 139 | AG21: 347 | AH21: 179 | AI21: =SUM(AG21:AH21) -> 526 | AJ21: 85 | AK21: 53 | AL21: =SUM(AJ21:AK21) -> 138
A22: 19 | B22: =UPPER(C22) -> KADUNA | C22: Kaduna | D22: 20161 | E22: 14562 | F22: =SUM(D22:E22) -> 34723 | G22: 1160 | H22: 866 | I22: =SUM(G22:H22) -> 2026 | J22: 3913 | K22: 3221 | L22: =SUM(J22:K22) -> 7134 | M22: 7176 | N22: 6394 | O22: =SUM(M22:N22) -> 13570 | P22: 3204 | Q22: 2767 | R22: =SUM(P22:Q22) -> 5971 | U22: 19 | V22: =UPPER(W22) -> KADUNA | W22: Kaduna | X22: 37824 | Y22: 27293 | Z22: =SUM(X22:Y22) -> 65117 | AA22: 1269 | AB22: 908 | AC22: =SUM(AA22:AB22) -> 2177 | AD22: 18397 | AE22: 14024 | AF22: =SUM(AD22:AE22) -> 32421 | AG22: 27844 | AH22: 20906 | AI22: =SUM(AG22:AH22) -> 48750 | AJ22: 17014 | AK22: 13016 | AL22: =SUM(AJ22:AK22) -> 30030
A23: 20 | B23: =UPPER(C23) -> KANO | C23: Kano | D23: 33024 | E23: 17002 | F23: =SUM(D23:E23) -> 50026 | G23: 1558 | H23: 905 | I23: =SUM(G23:H23) -> 2463 | J23: 6458 | K23: 3658 | L23: =SUM(J23:K23) -> 10116 | M23: 8363 | N23: 6458 | O23: =SUM(M23:N23) -> 14821 | P23: 4599 | Q23: 3150 | R23: =SUM(P23:Q23) -> 7749 | U23: 20 | V23: =UPPER(W23) -> KANO | W23: Kano | X23: 8963 | Y23: 6734 | Z23: =SUM(X23:Y23) -> 15697 | AA23: 273 | AB23: 168 | AC23: =SUM(AA23:AB23) -> 441 | AD23: 5480 | AE23: 4482 | AF23: =SUM(AD23:AE23) -> 9962 | AG23: 6820 | AH23: 5480 | AI23: =SUM(AG23:AH23) -> 12300 | AJ23: 4732 | AK23: 3970 | AL23: =SUM(AJ23:AK23) -> 8702
A24: 21 | B24: =UPPER(C24) -> KATSINA | C24: Katsina | D24: 26085 | E24: 10854 | F24: =SUM(D24:E24) -> 36939 | G24: 1569 | H24: 502 | I24: =SUM(G24:H24) -> 2071 | J24: 1655 | K24: 752 | L24: =SUM(J24:K24) -> 2407 | M24: 4712 | N24: 2514 | O24: =SUM(M24:N24) -> 7226 | P24: 1364 | Q24: 637 | R24: =SUM(P24:Q24) -> 2001 | U24: 21 | V24: =UPPER(W24) -> KATSINA | W24: Katsina | X24: 3963 | Y24: 2163 | Z24: =SUM(X24:Y24) -> 6126 | AA24: 283 | AB24: 153 | AC24: =SUM(AA24:AB24) -> 436 | AD24: 1596 | AE24: 1042 | AF24: =SUM(AD24:AE24) -> 2638 | AG24: 3020 | AH24: 1651 | AI24: =SUM(AG24:AH24) -> 4671 | AJ24: 1452 | AK24: 968 | AL24: =SUM(AJ24:AK24) -> 2420
... A40: 37 | B40: =UPPER(C40) -> ZAMFARA | C40: Zamfara | D40: 20322 | E40: 6509 | F40: =SUM(D40:E40) -> 26831 | G40: 903 | H40: 763 | I40: =SUM(G40:H40) -> 1666 | J40: 852 | K40: 299 | L40: =SUM(J40:K40) -> 1151 | M40: 3357 | N40: 1144 | O40: =SUM(M40:N40) -> 4501 | P40: 620 | Q40: 170 | R40: =SUM(P40:Q40) -> 790 | U40: 37 | V40: =UPPER(W40) -> ZAMFARA | W40: Zamfara | X40: 1517 | Y40: 772 | Z40: =SUM(X40:Y40) -> 2289 | AA40: 5 | AB40: 5 | AC40: =SUM(AA40:AB40) -> 10 | AD40: 722 | AE40: 432 | AF40: =SUM(AD40:AE40) -> 1154 | AG40: 1349 | AH40: 709 | AI40: =SUM(AG40:AH40) -> 2058 | AJ40: 711 | AK40: 426 | AL40: =SUM(AJ40:AK40) -> 1137
A41: 38 | B41: =UPPER(C41) -> NATIONAL | C41: National | D41: =SUM(D4:D40) -> 555254 | E41: =SUM(E4:E40) -> 408262 | F41: =SUM(F4:F40) -> 963516 | G41: =SUM(G4:G40) -> 26437 | H41: =SUM(H4:H40) -> 19051 | I41: =SUM(I4:I40) -> 45488 | J41: =SUM(J4:J40) -> 99007 | K41: =SUM(K4:K40) -> 89443 | ... R41: =SUM(R4:R40) -> 156563 | U41: 38 | V41: =UPPER(W41) -> OFFSHORE | W41: Offshore | X41: 28 | Y41: 29 | Z41: =SUM(X41:Y41) -> 57 | AA41: . | AB41: . | AC41: =SUM(AA41:AB41) -> 0 | AD41: 16 | AE41: 10 | AF41: =SUM(AD41:AE41) -> 26 | AG41: 11 | AH41: 10 | AI41: =SUM(AG41:AH41) -> 21 | AJ41: 11 | AK41: 10 | AL41: =SUM(AJ41:AK41) -> 21
V42: =UPPER(W42) -> NATIONAL | W42: National | X42: =SUM(X4:X41) -> 366383 | Y42: =SUM(Y4:Y41) -> 343925 | Z42: =SUM(Z4:Z41) -> 710308 | AA42: =SUM(AA4:AA41) -> 12412 | AB42: =SUM(AB4:AB41) -> 11077 | AC42: =SUM(AC4:AC41) -> 23489 | AD42: =SUM(AD4:AD41) -> 194327 | AE42: =SUM(AE4:AE41) -> 196568 | ... AL42: =SUM(AL4:AL41) -> 350009

Sheet WASSCE 2015
A1: CANDIDATES PERFORMANCE IN PUBLIC SCHOOLS BY STATE WASSCE MAY /JUNE 2015 | V1: CANDIDATES PERFORMANCE IN PRIVATE SCHOOLS BY STATE WASSCE MAY /JUNE 2015
A2: S/N | B2: =UPPER(C2) -> STATE | C2: State | D2: CANDIDATE THAT SAT FOR THE EXAMINATION | G2: CANDITATES WITH 5 CREDITS & ABOVE WITHOUT ENG & MATHS | J2: CANDITATES WITH 5 CREDITS & ABOVE INCLUDING ENG LANG | M2: CANDITATES WITH 5 CREDITS & ABOVE INCLUDING MATHS | P2: CANDITATES WITH 5 CREDITS & ABOVE INCLUDING ENGLISH & MATHS | V2: S/N | W2: STATE | X2: =UPPER(#REF!) -> #REF! | Y2: CANDIDATE THAT SAT FOR THE EXAMINATION | AB2: CANDITATES WITH 5 CREDITS & ABOVE WITHOUT ENG & MATHS | AE2: CANDITATES WITH 5 CREDITS & ABOVE INCLUDING ENG LANG | AH2: CANDITATES WITH 5 CREDITS & ABOVE INCLUDING MATHS | AK2: CANDITATES WITH 5 CREDITS & ABOVE INCLUDING ENGLISH & MATHS
D3: MALE | E3: FEMALE | F3: TOTAL | G3: MALE | H3: FEMALE | I3: TOTAL | J3: MALE | K3: FEMALE | L3: TOTAL | M3: MALE | N3: FEMALE | O3: TOTAL | P3: MALE | Q3: FEMALE | R3: TOTAL | Y3: MALE | Z3: FEMALE | AA3: TOTAL | AB3: MALE | AC3: FEMALE | AD3: TOTAL | AE3: MALE | AF3: FEMALE | AG3: TOTAL | AH3: MALE | AI3: FEMALE | AJ3: TOTAL | AK3: MALE | AL3: FEMALE | AM3: TOTAL
A4: 1 | B4: ABIA | D4: 5103 | E4: 5572 | F4: =SUM(D4:E4) -> 10675 | G4: 116 | H4: 166 | I4: =SUM(G4:H4) -> 282 | J4: 3287 | K4: 3832 | L4: =SUM(J4:K4) -> 7119 | M4: 3008 | N4: 3350 | O4: =SUM(M4:N4) -> 6358 | P4: 2562 | Q4: 2918 | R4: =SUM(P4:Q4) -> 5480 | V4: 1 | W4: ABIA | Y4: 19817 | Z4: 21734 | AA4: =SUM(Y4:Z4) -> 41551 | AB4: 217 | AC4: 243 | AD4: =SUM(AB4:AC4) -> 460 | AE4: 16919 | AF4: 18865 | AG4: =SUM(AE4:AF4) -> 35784 | AH4: 15770 | AI4: 17453 | AJ4: =SUM(AH4:AI4) -> 33223 | AK4: 14724 | AL4: 16344 | AM4: =SUM(AK4:AL4) -> 31068
A5: 2 | B5: ADAMAWA | D5: 8099 | E5: 6159 | F5: =SUM(D5:E5) -> 14258 | G5: 170 | H5: 141 | I5: =SUM(G5:H5) -> 311 | J5: 1369 | K5: 959 | L5: =SUM(J5:K5) -> 2328 | M5: 1875 | N5: 1289 | O5: =SUM(M5:N5) -> 3164 | P5: 1101 | Q5: 746 | R5: =SUM(P5:Q5) -> 1847 | V5: 2 | W5: ADAMAWA | Y5: 2317 | Z5: 1712 | AA5: =SUM(Y5:Z5) -> 4029 | AB5: 81 | AC5: 52 | AD5: =SUM(AB5:AC5) -> 133 | AE5: 1040 | AF5: 731 | AG5: =SUM(AE5:AF5) -> 1771 | AH5: 1503 | AI5: 1095 | AJ5: =SUM(AH5:AI5) -> 2598 | AK5: 903 | AL5: 619 | AM5: =SUM(AK5:AL5) -> 1522
A6: 3 | B6: AKWA IBOM | D6: 18695 | E6: 18345 | F6: =SUM(D6:E6) -> 37040 | G6: 305 | H6: 314 | I6: =SUM(G6:H6) -> 619 | J6: 5820 | K6: 6267 | L6: =SUM(J6:K6) -> 12087 | M6: 5830 | N6: 6094 | O6: =SUM(M6:N6) -> 11924 | P6: 4497 | Q6: 4715 | R6: =SUM(P6:Q6) -> 9212 | V6: 3 | W6: AKWA IBOM | Y6: 10751 | Z6: 12025 | AA6: =SUM(Y6:Z6) -> 22776 | AB6: 163 | AC6: 194 | AD6: =SUM(AB6:AC6) -> 357 | AE6: 7900 | AF6: 8996 | AG6: =SUM(AE6:AF6) -> 16896 | AH6: 7341 | AI6: 8173 | AJ6: =SUM(AH6:AI6) -> 15514 | AK6: 6600 | AL6: 7335 | AM6: =SUM(AK6:AL6) -> 13935
A7: 4 | B7: ANAMBRA | D7: 6318 | E7: 7368 | F7: =SUM(D7:E7) -> 13686 | G7: 84 | H7: 172 | I7: =SUM(G7:H7) -> 256 | J7: 4392 | K7: 5021 | L7: =SUM(J7:K7) -> 9413 | M7: 4358 | N7: 4720 | O7: =SUM(M7:N7) -> 9078 | P7: 3833 | Q7: 4064 | R7: =SUM(P7:Q7) -> 7897 | V7: 4 | W7: ANAMBRA | Y7: 14136 | Z7: 17961 | AA7: =SUM(Y7:Z7) -> 32097 | AB7: 226 | AC7: 259 | AD7: =SUM(AB7:AC7) -> 485 | AE7: 10828 | AF7: 14095 | AG7: =SUM(AE7:AF7) -> 24923 | AH7: 10890 | AI7: 14216 | AJ7: =SUM(AH7:AI7) -> 25106 | AK7: 9485 | AL7: 12372 | AM7: =SUM(AK7:AL7) -> 21857
A8: 5 | B8: BAUCHI | D8: 15089 | E8: 6045 | F8: =SUM(D8:E8) -> 21134 | G8: 208 | H8: 82 | I8: =SUM(G8:H8) -> 290 | J8: 1041 | K8: 525 | L8: =SUM(J8:K8) -> 1566 | M8: 1665 | N8: 1041 | O8: =SUM(M8:N8) -> 2706 | P8: 922 | Q8: 476 | R8: =SUM(P8:Q8) -> 1398 | V8: 5 | W8: BAUCHI | Y8: 4500 | Z8: 3313 | AA8: =SUM(Y8:Z8) -> 7813 | AB8: 219 | AC8: 207 | AD8: =SUM(AB8:AC8) -> 426 | AE8: 2078 | AF8: 1547 | AG8: =SUM(AE8:AF8) -> 3625 | AH8: 2453 | AI8: 1879 | AJ8: =SUM(AH8:AI8) -> 4332 | AK8: 1737 | AL8: 1317 | AM8: =SUM(AK8:AL8) -> 3054
A9: 6 | B9: BAYELSA | D9: 9229 | E9: 7911 | F9: =SUM(D9:E9) -> 17140 | G9: 334 | H9: 305 | I9: =SUM(G9:H9) -> 639 | J9: 6029 | K9: 5312 | L9: =SUM(J9:K9) -> 11341 | M9: 6470 | N9: 5772 | O9: =SUM(M9:N9) -> 12242 | P9: 4880 | Q9: 4419 | R9: =SUM(P9:Q9) -> 9299 | V9: 6 | W9: BAYELSA | Y9: 1106 | Z9: 1151 | AA9: =SUM(Y9:Z9) -> 2257 | AB9: 57 | AC9: 53 | AD9: =SUM(AB9:AC9) -> 110 | AE9: 721 | AF9: 805 | AG9: =SUM(AE9:AF9) -> 1526 | AH9: 718 | AI9: 776 | AJ9: =SUM(AH9:AI9) -> 1494 | AK9: 550 | AL9: 599 | AM9: =SUM(AK9:AL9) -> 1149
A10: 7 | B10: BENUE | D10: 7466 | E10: 5291 | F10: =SUM(D10:E10) -> 12757 | G10: 370 | H10: 240 | I10: =SUM(G10:H10) -> 610 | J10: 3815 | K10: 2632 | L10: =SUM(J10:K10) -> 6447 | M10: 3714 | N10: 2644 | O10: =SUM(M10:N10) -> 6358 | P10: 2775 | Q10: 1957 | R10: =SUM(P10:Q10) -> 4732 | V10: 7 | W10: BENUE | Y10: 19687 | Z10: 14992 | AA10: =SUM(Y10:Z10) -> 34679 | AB10: 1079 | AC10: 801 | AD10: =SUM(AB10:AC10) -> 1880 | AE10: 10774 | AF10: 8258 | AG10: =SUM(AE10:AF10) -> 19032 | AH10: 9625 | AI10: 7475 | AJ10: =SUM(AH10:AI10) -> 17100 | AK10: 7267 | AL10: 5663 | AM10: =SUM(AK10:AL10) -> 12930
A11: 8 | B11: BOMO | D11: 4481 | E11: 3286 | F11: =SUM(D11:E11) -> 7767 | G11: 127 | H11: 69 | I11: =SUM(G11:H11) -> 196 | J11: 771 | K11: 668 | L11: =SUM(J11:K11) -> 1439 | M11: 602 | N11: 651 | O11: =SUM(M11:N11) -> 1253 | P11: 356 | Q11: 481 | R11: =SUM(P11:Q11) -> 837 | V11: 8 | W11: BORNO | Y11: 8477 | Z11: 5245 | AA11: =SUM(Y11:Z11) -> 13722 | AB11: 475 | AC11: 336 | AD11: =SUM(AB11:AC11) -> 811 | AE11: 4232 | AF11: 2863 | AG11: =SUM(AE11:AF11) -> 7095 | AH11: 4183 | AI11: 2621 | AJ11: =SUM(AH11:AI11) -> 6804 | AK11: 3259 | AL11: 2032 | AM11: =SUM(AK11:AL11) -> 5291
A12: 9 | B12: CROSS RIVER | D12: 8243 | E12: 7368 | F12: =SUM(D12:E12) -> 15611 | G12: 261 | H12: 264 | I12: =SUM(G12:H12) -> 525 | J12: 2501 | K12: 2363 | L12: =SUM(J12:K12) -> 4864 | M12: 2625 | N12: 2401 | O12: =SUM(M12:N12) -> 5026 | P12: 1797 | Q12: 1679 | R12: =SUM(P12:Q12) -> 3476 | V12: 9 | W12: CROSS RIVER | Y12: 11788 | Z12: 10757 | AA12: =SUM(Y12:Z12) -> 22545 | AB12: 271 | AC12: 246 | AD12: =SUM(AB12:AC12) -> 517 | AE12: 6387 | AF12: 5899 | AG12: =SUM(AE12:AF12) -> 12286 | AH12: 6070 | AI12: 5714 | AJ12: =SUM(AH12:AI12) -> 11784 | AK12: 5171 | AL12: 4790 | AM12: =SUM(AK12:AL12) -> 9961
A13: 10 | B13: DELTA | D13: 14325 | E13: 13776 | F13: =SUM(D13:E13) -> 28101 | G13: 296 | H13: 273 | I13: =SUM(G13:H13) -> 569 | J13: 6002 | K13: 6261 | L13: =SUM(J13:K13) -> 12263 | M13: 6605 | N13: 6709 | O13: =SUM(M13:N13) -> 13314 | P13: 5053 | Q13: 5166 | R13: =SUM(P13:Q13) -> 10219 | V13: 10 | W13: DELTA | Y13: 11282 | Z13: 12167 | AA13: =SUM(Y13:Z13) -> 23449 | AB13: 180 | AC13: 195 | AD13: =SUM(AB13:AC13) -> 375 | AE13: 7865 | AF13: 8612 | AG13: =SUM(AE13:AF13) -> 16477 | AH13: 7688 | AI13: 8500 | AJ13: =SUM(AH13:AI13) -> 16188 | AK13: 6864 | AL13: 7571 | AM13: =SUM(AK13:AL13) -> 14435
A14: 11 | B14: EBONYI | D14: 6634 | E14: 7044 | F14: =SUM(D14:E14) -> 13678 | G14: 231 | H14: 249 | I14: =SUM(G14:H14) -> 480 | J14: 3093 | K14: 3144 | L14: =SUM(J14:K14) -> 6237 | M14: 2560 | N14: 2881 | O14: =SUM(M14:N14) -> 5441 | P14: 1964 | Q14: 2073 | R14: =SUM(P14:Q14) -> 4037 | V14: 11 | W14: EBONYI | Y14: 5865 | Z14: 5543 | AA14: =SUM(Y14:Z14) -> 11408 | AB14: 150 | AC14: 133 | AD14: =SUM(AB14:AC14) -> 283 | AE14: 4491 | AF14: 4251 | AG14: =SUM(AE14:AF14) -> 8742 | AH14: 4285 | AI14: 4074 | AJ14: =SUM(AH14:AI14) -> 8359 | AK14: 3828 | AL14: 3598 | AM14: =SUM(AK14:AL14) -> 7426
A15: 12 | B15: EDO | D15: 15373 | E15: 13623 | F15: =SUM(D15:E15) -> 28996 | G15: 426 | H15: 298 | I15: =SUM(G15:H15) -> 724 | J15: 9925 | K15: 9131 | L15: =SUM(J15:K15) -> 19056 | M15: 10553 | N15: 9557 | O15: =SUM(M15:N15) -> 20110 | P15: 8235 | Q15: 7690 | R15: =SUM(P15:Q15) -> 15925 | V15: 12 | W15: EDO | Y15: 16449 | Z15: 16567 | AA15: =SUM(Y15:Z15) -> 33016 | AB15: 229 | AC15: 213 | AD15: =SUM(AB15:AC15) -> 442 | AE15: 12943 | AF15: 13505 | AG15: =SUM(AE15:AF15) -> 26448 | AH15: 12553 | AI15: 12930 | AJ15: =SUM(AH15:AI15) -> 25483 | AK15: 11257 | AL15: 11747 | AM15: =SUM(AK15:AL15) -> 23004
... A20: 17 | B20: IMO | D20: 14069 | E20: 14286 | F20: =SUM(D20:E20) -> 28355 | G20: 344 | H20: 425 | I20: =SUM(G20:H20) -> 769 | J20: 8226 | K20: 9078 | L20: =SUM(J20:K20) -> 17304 | M20: 7044 | N20: 7771 | O20: =SUM(M20:N20) -> 14815 | P20: 6178 | Q20: 6936 | R20: =SUM(P20:Q20) -> 13114 | V20: 17 | W20: IMO | Y20: 7743 | Z20: 9207 | AA20: =SUM(Y20:Z20) -> 16950 | AB20: 125 | AC20: 162 | AD20: =SUM(AB20:AC20) -> 287 | AE20: 6364 | AF20: 7749 | AG20: =SUM(AE20:AF20) -> 14113 | AH20: 5712 | AI20: 6922 | AJ20: =SUM(AH20:AI20) -> 12634 | AK20: 5238 | AL20: 6385 | AM20: =SUM(AK20:AL20) -> 11623
A21: 18 | B21: JIQAWA | D21: 13806 | E21: 4682 | F21: =SUM(D21:E21) -> 18488 | G21: 538 | H21: 196 | I21: =SUM(G21:H21) -> 734 | J21: 1557 | K21: 229 | L21: =SUM(J21:K21) -> 1786 | M21: 2393 | N21: 249 | O21: =SUM(M21:N21) -> 2642 | P21: 1085 | Q21: 59 | R21: =SUM(P21:Q21) -> 1144 | V21: 18 | W21: JIGAWA | Y21: 290 | Z21: 184 | AA21: =SUM(Y21:Z21) -> 474 | AB21: 1 | AC21: . | AD21: =SUM(AB21:AC21) -> 1 | AE21: 84 | AF21: 90 | AG21: =SUM(AE21:AF21) -> 174 | AH21: 167 | AI21: 112 | AJ21: =SUM(AH21:AI21) -> 279 | AK21: 82 | AL21: 82 | AM21: =SUM(AK21:AL21) -> 164
A22: 19 | B22: KADUNA | D22: 18160 | E22: 13514 | F22: =SUM(D22:E22) -> 31674 | G22: 1028 | H22: 735 | I22: =SUM(G22:H22) -> 1763 | J22: 5063 | K22: 4483 | L22: =SUM(J22:K22) -> 9546 | M22: 5950 | N22: 5398 | O22: =SUM(M22:N22) -> 11348 | P22: 3652 | Q22: 3454 | R22: =SUM(P22:Q22) -> 7106 | V22: 19 | W22: KADUNA | Y22: 29713 | Z22: 22463 | AA22: =SUM(Y22:Z22) -> 52176 | AB22: 1095 | AC22: 691 | AD22: =SUM(AB22:AC22) -> 1786 | AE22: 18422 | AF22: 14682 | AG22: =SUM(AE22:AF22) -> 33104 | AH22: 21042 | AI22: 16444 | AJ22: =SUM(AH22:AI22) -> 37486 | AK22: 16274 | AL22: 12964 | AM22: =SUM(AK22:AL22) -> 29238
A23: 20 | B23: KANO | D23: 31322 | E23: 17729 | F23: =SUM(D23:E23) -> 49051 | G23: 1145 | H23: 545 | I23: =SUM(G23:H23) -> 1690 | J23: 5696 | K23: 4014 | L23: =SUM(J23:K23) -> 9710 | M23: 5392 | N23: 4438 | O23: =SUM(M23:N23) -> 9830 | P23: 3741 | Q23: 3009 | R23: =SUM(P23:Q23) -> 6750 | V23: 20 | W23: KANO | Y23: 7479 | Z23: 5714 | AA23: =SUM(Y23:Z23) -> 13193 | AB23: 68 | AC23: 54 | AD23: =SUM(AB23:AC23) -> 122 | AE23: 5482 | AF23: 4484 | AG23: =SUM(AE23:AF23) -> 9966 | AH23: 5888 | AI23: 4728 | AJ23: =SUM(AH23:AI23) -> 10616 | AK23: 5063 | AL23: 4153 | AM23: =SUM(AK23:AL23) -> 9216
A24: 21 | B24: KATSINA | D24: 27872 | E24: 11729 | F24: =SUM(D24:E24) -> 39601 | G24: 1357 | H24: 618 | I24: =SUM(G24:H24) -> 1975 | J24: 3011 | K24: 1180 | L24: =SUM(J24:K24) -> 4191 | M24: 3948 | N24: 1634 | O24: =SUM(M24:N24) -> 5582 | P24: 2058 | Q24: 636 | R24: =SUM(P24:Q24) -> 2694 | V24: 21 | W24: KATSINA | Y24: 3029 | Z24: 1809 | AA24: =SUM(Y24:Z24) -> 4838 | AB24: 118 | AC24: 58 | AD24: =SUM(AB24:AC24) -> 176 | AE24: 1985 | AF24: 1256 | AG24: =SUM(AE24:AF24) -> 3241 | AH24: 2229 | AI24: 1458 | AJ24: =SUM(AH24:AI24) -> 3687 | AK24: 1724 | AL24: 1148 | AM24: =SUM(AK24:AL24) -> 2872
A25: 22 | B25: KEBBI | D25: 19121 | E25: 7355 | F25: =SUM(D25:E25) -> 26476 | G25: 1004 | H25: 613 | I25: =SUM(G25:H25) -> 1617 | J25: 3441 | K25: 1262 | L25: =SUM(J25:K25) -> 4703 | M25: 4094 | N25: 1478 | O25: =SUM(M25:N25) -> 5572 | P25: 2043 | Q25: 858 | R25: =SUM(P25:Q25) -> 2901 | V25: 22 | W25: KEBBI | Y25: 888 | Z25: 468 | AA25: =SUM(Y25:Z25) -> 1356 | AB25: 28 | AC25: 39 | AD25: =SUM(AB25:AC25) -> 67 | AE25: 521 | AF25: 274 | AG25: =SUM(AE25:AF25) -> 795 | AH25: 449 | AI25: 229 | AJ25: =SUM(AH25:AI25) -> 678 | AK25: 409 | AL25: 203 | AM25: =SUM(AK25:AL25) -> 612
A26: 23 | B26: KOAI | D26: 16562 | E26: 12993 | F26: =SUM(D26:E26) -> 29555 | G26: 832 | H26: 615 | I26: =SUM(G26:H26) -> 1447 | J26: 7728 | K26: 6126 | L26: =SUM(J26:K26) -> 13854 | M26: 8525 | N26: 6953 | O26: =SUM(M26:N26) -> 15478 | P26: 6148 | Q26: 4930 | R26: =SUM(P26:Q26) -> 11078 | V26: 23 | W26: KOGI | Y26: 4001 | Z26: 3570 | AA26: =SUM(Y26:Z26) -> 7571 | AB26: 144 | AC26: 119 | AD26: =SUM(AB26:AC26) -> 263 | AE26: 2534 | AF26: 2408 | AG26: =SUM(AE26:AF26) -> 4942 | AH26: 2477 | AI26: 2326 | AJ26: =SUM(AH26:AI26) -> 4803 | AK26: 2018 | AL26: 1922 | AM26: =SUM(AK26:AL26) -> 3940
A27: 24 | B27: KWARA | D27: 12254 | E27: 10710 | F27: =SUM(D27:E27) -> 22964 | G27: 937 | H27: 724 | I27: =SUM(G27:H27) -> 1661 | J27: 3980 | K27: 3968 | L27: =SUM(J27:K27) -> 7948 | M27: 5552 | N27: 5367 | O27: =SUM(M27:N27) -> 10919 | P27: 3194 | Q27: 3204 | R27: =SUM(P27:Q27) -> 6398 | V27: 24 | W27: KWARA | Y27: 5219 | Z27: 4982 | AA27: =SUM(Y27:Z27) -> 10201 | AB27: 109 | AC27: 94 | AD27: =SUM(AB27:AC27) -> 203 | AE27: 3270 | AF27: 3329 | AG27: =SUM(AE27:AF27) -> 6599 | AH27: 3707 | AI27: 3589 | AJ27: =SUM(AH27:AI27) -> 7296 | AK27: 2772 | AL27: 2756 | AM27: =SUM(AK27:AL27) -> 5528
A28: 25 | B28: LAQOS | D28: 19502 | E28: 22256 | F28: =SUM(D28:E28) -> 41758 | G28: 311 | H28: 418 | I28: =SUM(G28:H28) -> 729 | J28: 8812 | K28: 10774 | L28: =SUM(J28:K28) -> 19586 | M28: 7958 | N28: 8948 | O28: =SUM(M28:N28) -> 16906 | P28: 6816 | Q28: 7762 | R28: =SUM(P28:Q28) -> 14578 | V28: 25 | W28: LAGOS | Y28: 47632 | Z28: 51022 | AA28: =SUM(Y28:Z28) -> 98654 | AB28: 342 | AC28: 422 | AD28: =SUM(AB28:AC28) -> 764 | AE28: 31527 | AF28: 35121 | AG28: =SUM(AE28:AF28) -> 66648 | AH28: 29525 | AI28: 31851 | AJ28: =SUM(AH28:AI28) -> 61376 | AK28: 27026 | AL28: 29456 | AM28: =SUM(AK28:AL28) -> 56482
A29: 26 | B29: NASSARA | D29: 20375 | E29: 13003 | F29: =SUM(D29:E29) -> 33378 | G29: 903 | H29: 533 | I29: =SUM(G29:H29) -> 1436 | J29: 5659 | K29: 3604 | L29: =SUM(J29:K29) -> 9263 | M29: 6161 | N29: 4038 | O29: =SUM(M29:N29) -> 10199 | P29: 3729 | Q29: 2457 | R29: =SUM(P29:Q29) -> 6186 | V29: 26 | W29: NASSARA | Y29: 6470 | Z29: 6064 | AA29: =SUM(Y29:Z29) -> 12534 | AB29: 120 | AC29: 127 | AD29: =SUM(AB29:AC29) -> 247 | AE29: 3728 | AF29: 3554 | AG29: =SUM(AE29:AF29) -> 7282 | AH29: 3884 | AI29: 3610 | AJ29: =SUM(AH29:AI29) -> 7494 | AK29: 3154 | AL29: 2962 | AM29: =SUM(AK29:AL29) -> 6116
A30: 27 | B30: NIGER | D30: 19762 | E30: 12006 | F30: =SUM(D30:E30) -> 31768 | G30: 1044 | H30: 473 | I30: =SUM(G30:H30) -> 1517 | J30: 2597 | K30: 1629 | L30: =SUM(J30:K30) -> 4226 | M30: 3785 | N30: 2276 | O30: =SUM(M30:N30) -> 6061 | P30: 1954 | Q30: 1307 | R30: =SUM(P30:Q30) -> 3261 | V30: 27 | W30: NIGER | Y30: 6521 | Z30: 6152 | AA30: =SUM(Y30:Z30) -> 12673 | AB30: 107 | AC30: 76 | AD30: =SUM(AB30:AC30) -> 183 | AE30: 3967 | AF30: 3983 | AG30: =SUM(AE30:AF30) -> 7950 | AH30: 3794 | AI30: 3786 | AJ30: =SUM(AH30:AI30) -> 7580 | AK30: 3156 | AL30: 3143 | AM30: =SUM(AK30:AL30) -> 6299
A31: 28 | B31: OGUN | D31: 19753 | E31: 19916 | F31: =SUM(D31:E31) -> 39669 | G31: 238 | H31: 271 | I31: =SUM(G31:H31) -> 509 | J31: 2507 | K31: 2845 | L31: =SUM(J31:K31) -> 5352 | M31: 2580 | N31: 2708 | O31: =SUM(M31:N31) -> 5288 | P31: 1783 | Q31: 1883 | R31: =SUM(P31:Q31) -> 3666 | V31: 28 | W31: OGUN | Y31: 17386 | Z31: 18235 | AA31: =SUM(Y31:Z31) -> 35621 | AB31: 131 | AC31: 185 | AD31: =SUM(AB31:AC31) -> 316 | AE31: 12302 | AF31: 13330 | AG31: =SUM(AE31:AF31) -> 25632 | AH31: 12401 | AI31: 13192 | AJ31: =SUM(AH31:AI31) -> 25593 | AK31: 11020 | AL31: 11832 | AM31: =SUM(AK31:AL31) -> 22852
A32: 29 | B32: ONDO | D32: 8539 | E32: 8248 | F32: =SUM(D32:E32) -> 16787 | G32: 357 | H32: 333 | I32: =SUM(G32:H32) -> 690 | J32: 4087 | K32: 4325 | L32: =SUM(J32:K32) -> 8412 | M32: 3580 | N32: 3530 | O32: =SUM(M32:N32) -> 7110 | P32: 2920 | Q32: 2877 | R32: =SUM(P32:Q32) -> 5797 | V32: 29 | W32: ONDO | Y32: 5883 | Z32: 5625 | AA32: =SUM(Y32:Z32) -> 11508 | AB32: 94 | AC32: 87 | AD32: =SUM(AB32:AC32) -> 181 | AE32: 3763 | AF32: 3724 | AG32: =SUM(AE32:AF32) -> 7487 | AH32: 3642 | AI32: 3640 | AJ32: =SUM(AH32:AI32) -> 7282 | AK32: 3064 | AL32: 3020 | AM32: =SUM(AK32:AL32) -> 6084
A33: 30 | B33: OSUN | D33: 16439 | E33: 14482 | F33: =SUM(D33:E33) -> 30921 | G33: 245 | H33: 204 | I33: =SUM(G33:H33) -> 449 | J33: 1924 | K33: 1849 | L33: =SUM(J33:K33) -> 3773 | M33: 1663 | N33: 1605 | O33: =SUM(M33:N33) -> 3268 | P33: 1309 | Q33: 1213 | R33: =SUM(P33:Q33) -> 2522 | V33: 30 | W33: OSUN | Y33: 8628 | Z33: 8750 | AA33: =SUM(Y33:Z33) -> 17378 | AB33: 197 | AC33: 200 | AD33: =SUM(AB33:AC33) -> 397 | AE33: 4639 | AF33: 4884 | AG33: =SUM(AE33:AF33) -> 9523 | AH33: 3620 | AI33: 3793 | AJ33: =SUM(AH33:AI33) -> 7413 | AK33: 3230 | AL33: 3362 | AM33: =SUM(AK33:AL33) -> 6592
... A40: 37 | B40: ZAMFARA | D40: 17532 | E40: 6225 | F40: =SUM(D40:E40) -> 23757 | G40: 435 | H40: 586 | I40: =SUM(G40:H40) -> 1021 | J40: 1034 | K40: 285 | L40: =SUM(J40:K40) -> 1319 | M40: 2566 | N40: 885 | O40: =SUM(M40:N40) -> 3451 | P40: 756 | Q40: 187 | R40: =SUM(P40:Q40) -> 943 | V40: 37 | W40: ZAMFARA | Y40: 1457 | Z40: 817 | AA40: =SUM(Y40:Z40) -> 2274 | AB40: 50 | AC40: 30 | AD40: =SUM(AB40:AC40) -> 80 | AE40: 800 | AF40: 503 | AG40: =SUM(AE40:AF40) -> 1303 | AH40: 1038 | AI40: 665 | AJ40: =SUM(AH40:AI40) -> 1703 | AK40: 694 | AL40: 436 | AM40: =SUM(AK40:AL40) -> 1130
A41: 38 | B41: NATIONAL | D41: =SUM(D4:D40) -> 516423 | E41: =SUM(E4:E40) -> 388144 | F41: =SUM(F4:F40) -> 904567 | G41: =SUM(G4:G40) -> 17028 | H41: =SUM(H4:H40) -> 12907 | I41: =SUM(I4:I40) -> 29935 | J41: =SUM(J4:J40) -> 148421 | K41: =SUM(K4:K40) -> 134855 | ... R41: =SUM(R4:R40) -> 213430 | V41: 38 | W41: OFFSHORE | Y41: 35 | Z41: 37 | AA41: =SUM(Y41:Z41) -> 72 | AB41: 1 | AC41: 3 | AD41: =SUM(AB41:AC41) -> 4 | AE41: 4 | AF41: 2 | AG41: =SUM(AE41:AF41) -> 6 | AH41: . | AI41: . | AJ41: =SUM(AH41:AI41) -> 0 | AK41: . | AL41: . | AM41: =SUM(AK41:AL41) -> 0
W42: NATIONAL | Y42: =SUM(Y4:Y41) -> 340436 | Z42: =SUM(Z4:Z41) -> 330957 | AA42: =SUM(AA4:AA41) -> 671393 | AB42: =SUM(AB4:AB41) -> 7861 | AC42: =SUM(AC4:AC41) -> 6903 | AD42: =SUM(AD4:AD41) -> 14764 | AE42: =SUM(AE4:AE41) -> 224452 | AF42: =SUM(AF4:AF41) -> 228879 | ... AM42: =SUM(AM4:AM41) -> 377564

Sheet WASSCE 2016
A1: CANDIDATES PERFORMANCE IN PUBLIC SCHOOLS BY STATE WASSCE MAY /JUNE 2015 | U1: CANDIDATES PERFORMANCE IN PRIVATE SCHOOLS BY STATE WASSCE MAY /JUNE 2015
A2: S/N | B2: =UPPER(C2) -> STATE | C2: State | D2: CANDIDATE THAT SAT FOR THE EXAMINATION | G2: CANDITATES WITH 5 CREDITS & ABOVE WITHOUT ENG & MATHS | J2: CANDITATES WITH 5 CREDITS & ABOVE INCLUDING ENG LANG | M2: CANDITATES WITH 5 CREDITS & ABOVE INCLUDING MATHS | P2: CANDITATES WITH 5 CREDITS & ABOVE INCLUDING ENGLISH & MATHS | U2: S/N | V2: STATE | W2: =UPPER(#REF!) -> #REF! | X2: CANDIDATE THAT SAT FOR THE EXAMINATION | AA2: CANDITATES WITH 5 CREDITS & ABOVE WITHOUT ENG & MATHS | AD2: CANDITATES WITH 5 CREDITS & ABOVE INCLUDING ENG LANG | AG2: CANDITATES WITH 5 CREDITS & ABOVE INCLUDING MATHS | AJ2: CANDITATES WITH 5 CREDITS & ABOVE INCLUDING ENGLISH & MATHS
D3: MALE | E3: FEMALE | F3: TOTAL | G3: MALE | H3: FEMALE | I3: TOTAL | J3: MALE | K3: FEMALE | L3: TOTAL | M3: MALE | N3: FEMALE | O3: TOTAL | P3: MALE | Q3: FEMALE | R3: TOTAL | X3: MALE | Y3: FEMALE | Z3: TOTAL | AA3: MALE | AB3: FEMALE | AC3: TOTAL | AD3: MALE | AE3: FEMALE | AF3: TOTAL | AG3: MALE | AH3: FEMALE | AI3: TOTAL | AJ3: MALE | AK3: FEMALE | AL3: TOTAL
A4: 1 | B4: ABIA | D4: 4955 | E4: 5522 | F4: =SUM(D4:E4) -> 10477 | G4: 76 | H4: 68 | I4: =SUM(G4:H4) -> 144 | J4: 3985 | K4: 4623 | L4: =SUM(J4:K4) -> 8608 | M4: 3653 | N4: 4106 | O4: =SUM(M4:N4) -> 7759 | P4: 3321 | Q4: 3801 | R4: =SUM(P4:Q4) -> 7122 | U4: 1 | V4: ABIA | X4: 19258 | Y4: 21525 | Z4: =SUM(X4:Y4) -> 40783 | AA4: 107 | AB4: 115 | AC4: =SUM(AA4:AB4) -> 222 | AD4: 17365 | AE4: 19745 | AF4: =SUM(AD4:AE4) -> 37110 | AG4: 17437 | AH4: 19566 | AI4: =SUM(AG4:AH4) -> 37003 | AJ4: 16379 | AK4: 18549 | AL4: =SUM(AJ4:AK4) -> 34928
A5: 2 | B5: ADAMAWA | D5: 11348 | E5: 7721 | F5: =SUM(D5:E5) -> 19069 | G5: 269 | H5: 241 | I5: =SUM(G5:H5) -> 510 | J5: 5683 | K5: 3645 | L5: =SUM(J5:K5) -> 9328 | M5: 5425 | N5: 3578 | O5: =SUM(M5:N5) -> 9003 | P5: 4407 | Q5: 2800 | R5: =SUM(P5:Q5) -> 7207 | U5: 2 | V5: ADAMAWA | X5: 2805 | Y5: 2050 | Z5: =SUM(X5:Y5) -> 4855 | AA5: 33 | AB5: 41 | AC5: =SUM(AA5:AB5) -> 74 | AD5: 2307 | AE5: 1691 | AF5: =SUM(AD5:AE5) -> 3998 | AG5: 2162 | AH5: 1562 | AI5: =SUM(AG5:AH5) -> 3724 | AJ5: 1958 | AK5: 1411 | AL5: =SUM(AJ5:AK5) -> 3369
A6: 3 | B6: AKWA IBOM | D6: 18870 | E6: 19337 | F6: =SUM(D6:E6) -> 38207 | G6: 662 | H6: 718 | I6: =SUM(G6:H6) -> 1380 | J6: 9215 | K6: 9906 | L6: =SUM(J6:K6) -> 19121 | M6: 8746 | N6: 9579 | O6: =SUM(M6:N6) -> 18325 | P6: 6873 | Q6: 7422 | R6: =SUM(P6:Q6) -> 14295 | U6: 3 | V6: AKWA IBOM | X6: 9983 | Y6: 11065 | Z6: =SUM(X6:Y6) -> 21048 | AA6: 99 | AB6: 133 | AC6: =SUM(AA6:AB6) -> 232 | AD6: 8417 | AE6: 9520 | AF6: =SUM(AD6:AE6) -> 17937 | AG6: 8333 | AH6: 9242 | AI6: =SUM(AG6:AH6) -> 17575 | AJ6: 7477 | AK6: 8371 | AL6: =SUM(AJ6:AK6) -> 15848
A7: 4 | B7: ANAMBRA | D7: 6667 | E7: 7638 | F7: =SUM(D7:E7) -> 14305 | G7: 139 | H7: 139 | I7: =SUM(G7:H7) -> 278 | J7: 5283 | K7: 6112 | L7: =SUM(J7:K7) -> 11395 | M7: 4729 | N7: 5274 | O7: =SUM(M7:N7) -> 10003 | P7: 4295 | Q7: 4809 | R7: =SUM(P7:Q7) -> 9104 | U7: 4 | V7: ANAMBRA | X7: 11257 | Y7: 14325 | Z7: =SUM(X7:Y7) -> 25582 | AA7: 118 | AB7: 153 | AC7: =SUM(AA7:AB7) -> 271 | AD7: 9725 | AE7: 12680 | AF7: =SUM(AD7:AE7) -> 22405 | AG7: 9198 | AH7: 11720 | AI7: =SUM(AG7:AH7) -> 20918 | AJ7: 8494 | AK7: 11059 | AL7: =SUM(AJ7:AK7) -> 19553
A8: 5 | B8: BAUCHI | D8: 15051 | E8: 6585 | F8: =SUM(D8:E8) -> 21636 | G8: 424 | H8: 229 | I8: =SUM(G8:H8) -> 653 | J8: 3964 | K8: 2206 | L8: =SUM(J8:K8) -> 6170 | M8: 4746 | N8: 2433 | O8: =SUM(M8:N8) -> 7179 | P8: 3276 | Q8: 1688 | R8: =SUM(P8:Q8) -> 4964 | U8: 5 | V8: BAUCHI | X8: 4363 | Y8: 3178 | Z8: =SUM(X8:Y8) -> 7541 | AA8: 135 | AB8: 101 | AC8: =SUM(AA8:AB8) -> 236 | AD8: 3195 | AE8: 2379 | AF8: =SUM(AD8:AE8) -> 5574 | AG8: 3408 | AH8: 2518 | AI8: =SUM(AG8:AH8) -> 5926 | AJ8: 2762 | AK8: 2079 | AL8: =SUM(AJ8:AK8) -> 4841
A9: 6 | B9: BAYELSA | D9: 8899 | E9: 8025 | F9: =SUM(D9:E9) -> 16924 | G9: 69 | H9: 79 | I9: =SUM(G9:H9) -> 148 | J9: 7351 | K9: 6808 | L9: =SUM(J9:K9) -> 14159 | M9: 7356 | N9: 6604 | O9: =SUM(M9:N9) -> 13960 | P9: 6584 | Q9: 6018 | R9: =SUM(P9:Q9) -> 12602 | U9: 6 | V9: BAYELSA | X9: 1134 | Y9: 1147 | Z9: =SUM(X9:Y9) -> 2281 | AA9: 12 | AB9: 3 | AC9: =SUM(AA9:AB9) -> 15 | AD9: 956 | AE9: 1016 | AF9: =SUM(AD9:AE9) -> 1972 | AG9: 868 | AH9: 927 | AI9: =SUM(AG9:AH9) -> 1795 | AJ9: 817 | AK9: 883 | AL9: =SUM(AJ9:AK9) -> 1700
A10: 7 | B10: BENUE | D10: 6397 | E10: 4403 | F10: =SUM(D10:E10) -> 10800 | G10: 326 | H10: 252 | I10: =SUM(G10:H10) -> 578 | J10: 4067 | K10: 2751 | L10: =SUM(J10:K10) -> 6818 | M10: 4226 | N10: 2851 | O10: =SUM(M10:N10) -> 7077 | P10: 3228 | Q10: 2236 | R10: =SUM(P10:Q10) -> 5464 | U10: 7 | V10: BENUE | X10: 17918 | Y10: 13980 | Z10: =SUM(X10:Y10) -> 31898 | AA10: 1076 | AB10: 720 | AC10: =SUM(AA10:AB10) -> 1796 | AD10: 12606 | AE10: 9865 | AF10: =SUM(AD10:AE10) -> 22471 | AG10: 12340 | AH10: 9707 | AI10: =SUM(AG10:AH10) -> 22047 | AJ10: 10056 | AK10: 7871 | AL10: =SUM(AJ10:AK10) -> 17927
A11: 8 | B11: BOMO | D11: 619 | E11: 430 | F11: =SUM(D11:E11) -> 1049 | G11: 24 | H11: 6 | I11: =SUM(G11:H11) -> 30 | J11: 321 | K11: 260 | L11: =SUM(J11:K11) -> 581 | M11: 191 | N11: 286 | O11: =SUM(M11:N11) -> 477 | P11: 174 | Q11: 229 | R11: =SUM(P11:Q11) -> 403 | U11: 8 | V11: BORNO | X11: 8094 | Y11: 5112 | Z11: =SUM(X11:Y11) -> 13206 | AA11: 230 | AB11: 165 | AC11: =SUM(AA11:AB11) -> 395 | AD11: 5376 | AE11: 3425 | AF11: =SUM(AD11:AE11) -> 8801 | AG11: 5555 | AH11: 3592 | AI11: =SUM(AG11:AH11) -> 9147 | AJ11: 4581 | AK11: 2934 | AL11: =SUM(AJ11:AK11) -> 7515
A12: 9 | B12: CROSS RIVER | D12: 8733 | E12: 8137 | F12: =SUM(D12:E12) -> 16870 | G12: 165 | H12: 166 | I12: =SUM(G12:H12) -> 331 | J12: 5411 | K12: 5352 | L12: =SUM(J12:K12) -> 10763 | M12: 4549 | N12: 4405 | O12: =SUM(M12:N12) -> 8954 | P12: 4076 | Q12: 3957 | R12: =SUM(P12:Q12) -> 8033 | U12: 9 | V12: CROSS RIVER | X12: 11415 | Y12: 10577 | Z12: =SUM(X12:Y12) -> 21992 | AA12: 84 | AB12: 76 | AC12: =SUM(AA12:AB12) -> 160 | AD12: 9304 | AE12: 8771 | AF12: =SUM(AD12:AE12) -> 18075 | AG12: 8668 | AH12: 8114 | AI12: =SUM(AG12:AH12) -> 16782 | AJ12: 8013 | AK12: 7524 | AL12: =SUM(AJ12:AK12) -> 15537
A13: 10 | B13: DELTA | D13: 15025 | E13: 14654 | F13: =SUM(D13:E13) -> 29679 | G13: 259 | H13: 251 | I13: =SUM(G13:H13) -> 510 | J13: 9036 | K13: 9027 | L13: =SUM(J13:K13) -> 18063 | M13: 9125 | N13: 9203 | O13: =SUM(M13:N13) -> 18328 | P13: 7631 | Q13: 7755 | R13: =SUM(P13:Q13) -> 15386 | U13: 10 | V13: DELTA | X13: 10205 | Y13: 10844 | Z13: =SUM(X13:Y13) -> 21049 | AA13: 86 | AB13: 86 | AC13: =SUM(AA13:AB13) -> 172 | AD13: 8682 | AE13: 9372 | AF13: =SUM(AD13:AE13) -> 18054 | AG13: 8673 | AH13: 9209 | AI13: =SUM(AG13:AH13) -> 17882 | AJ13: 8138 | AK13: 8685 | AL13: =SUM(AJ13:AK13) -> 16823
A14: 11 | B14: EBONYI | D14: 6709 | E14: 7034 | F14: =SUM(D14:E14) -> 13743 | G14: 478 | H14: 586 | I14: =SUM(G14:H14) -> 1064 | J14: 3438 | K14: 3469 | L14: =SUM(J14:K14) -> 6907 | M14: 3361 | N14: 3265 | O14: =SUM(M14:N14) -> 6626 | P14: 2417 | Q14: 2305 | R14: =SUM(P14:Q14) -> 4722 | U14: 11 | V14: EBONYI | X14: 5133 | Y14: 4945 | Z14: =SUM(X14:Y14) -> 10078 | AA14: 227 | AB14: 241 | AC14: =SUM(AA14:AB14) -> 468 | AD14: 3543 | AE14: 3399 | AF14: =SUM(AD14:AE14) -> 6942 | AG14: 3298 | AH14: 3173 | AI14: =SUM(AG14:AH14) -> 6471 | AJ14: 2863 | AK14: 2704 | AL14: =SUM(AJ14:AK14) -> 5567
A15: 12 | B15: EDO | D15: 14236 | E15: 13249 | F15: =SUM(D15:E15) -> 27485 | G15: 272 | H15: 232 | I15: =SUM(G15:H15) -> 504 | J15: 10870 | K15: 10459 | L15: =SUM(J15:K15) -> 21329 | M15: 11435 | N15: 10636 | O15: =SUM(M15:N15) -> 22071 | P15: 9552 | Q15: 9091 | R15: =SUM(P15:Q15) -> 18643 | U15: 12 | V15: EDO | X15: 16387 | Y15: 17295 | Z15: =SUM(X15:Y15) -> 33682 | AA15: 109 | AB15: 80 | AC15: =SUM(AA15:AB15) -> 189 | AD15: 14435 | AE15: 15662 | AF15: =SUM(AD15:AE15) -> 30097 | AG15: 14843 | AH15: 15919 | AI15: =SUM(AG15:AH15) -> 30762 | AJ15: 13724 | AK15: 14923 | AL15: =SUM(AJ15:AK15) -> 28647
... A20: 17 | B20: IMO | D20: 12712 | E20: 12882 | F20: =SUM(D20:E20) -> 25594 | G20: 208 | H20: 236 | I20: =SUM(G20:H20) -> 444 | J20: 9917 | K20: 10611 | L20: =SUM(J20:K20) -> 20528 | M20: 9475 | N20: 9969 | O20: =SUM(M20:N20) -> 19444 | P20: 8556 | Q20: 9108 | R20: =SUM(P20:Q20) -> 17664 | U20: 17 | V20: IMO | X20: 8214 | Y20: 9355 | Z20: =SUM(X20:Y20) -> 17569 | AA20: 18 | AB20: 33 | AC20: =SUM(AA20:AB20) -> 51 | AD20: 7629 | AE20: 8713 | AF20: =SUM(AD20:AE20) -> 16342 | AG20: 7426 | AH20: 8435 | AI20: =SUM(AG20:AH20) -> 15861 | AJ20: 7120 | AK20: 8092 | AL20: =SUM(AJ20:AK20) -> 15212
A21: 18 | B21: JIQAWA | D21: 16843 | E21: 5329 | F21: =SUM(D21:E21) -> 22172 | G21: 1561 | H21: 490 | I21: =SUM(G21:H21) -> 2051 | J21: 3786 | K21: 1136 | L21: =SUM(J21:K21) -> 4922 | M21: 5532 | N21: 2192 | O21: =SUM(M21:N21) -> 7724 | P21: 2799 | Q21: 939 | R21: =SUM(P21:Q21) -> 3738 | U21: 18 | V21: JIGAWA | X21: 314 | Y21: 149 | Z21: =SUM(X21:Y21) -> 463 | AD21: 172 | AE21: 108 | AF21: =SUM(AD21:AE21) -> 280 | AG21: 272 | AH21: 141 | AI21: =SUM(AG21:AH21) -> 413 | AJ21: 165 | AK21: 103 | AL21: =SUM(AJ21:AK21) -> 268
A22: 19 | B22: KADUNA | D22: 20498 | E22: 14760 | F22: =SUM(D22:E22) -> 35258 | G22: 1069 | H22: 816 | I22: =SUM(G22:H22) -> 1885 | J22: 9111 | K22: 7154 | L22: =SUM(J22:K22) -> 16265 | M22: 10851 | N22: 8989 | O22: =SUM(M22:N22) -> 19840 | P22: 7421 | Q22: 6046 | R22: =SUM(P22:Q22) -> 13467 | U22: 19 | V22: KADUNA | X22: 30556 | Y22: 24315 | Z22: =SUM(X22:Y22) -> 54871 | AA22: 683 | AB22: 451 | AC22: 1134 | AD22: 22914 | AE22: 19103 | AF22: =SUM(AD22:AE22) -> 42017 | AG22: 24994 | AH22: 20465 | AI22: =SUM(AG22:AH22) -> 45459 | AJ22: 20732 | AK22: 17345 | AL22: =SUM(AJ22:AK22) -> 38077
A23: 20 | B23: KANO | D23: 20851 | E23: 13570 | F23: =SUM(D23:E23) -> 34421 | G23: 1532 | H23: 1085 | I23: =SUM(G23:H23) -> 2617 | J23: 6983 | K23: 5176 | L23: =SUM(J23:K23) -> 12159 | M23: 7808 | N23: 6438 | O23: =SUM(M23:N23) -> 14246 | P23: 4702 | Q23: 3825 | R23: =SUM(P23:Q23) -> 8527 | U23: 20 | V23: KANO | X23: 8169 | Y23: 6726 | Z23: =SUM(X23:Y23) -> 14895 | AA23: 133 | AB23: 81 | AC23: 214 | AD23: 6380 | AE23: 5479 | AF23: =SUM(AD23:AE23) -> 11859 | AG23: 7019 | AH23: 5891 | AI23: =SUM(AG23:AH23) -> 12910 | AJ23: 5882 | AK23: 5093 | AL23: =SUM(AJ23:AK23) -> 10975
A24: 21 | B24: KATSINA | D24: 10341 | E24: 4436 | F24: =SUM(D24:E24) -> 14777 | G24: 999 | H24: 414 | I24: =SUM(G24:H24) -> 1413 | J24: 3960 | K24: 1475 | L24: =SUM(J24:K24) -> 5435 | M24: 4100 | N24: 1690 | O24: =SUM(M24:N24) -> 5790 | P24: 2710 | Q24: 987 | R24: =SUM(P24:Q24) -> 3697 | U24: 21 | V24: KATSINA | X24: 3195 | Y24: 2016 | Z24: =SUM(X24:Y24) -> 5211 | AA24: 70 | AB24: 61 | AC24: 131 | AD24: 2693 | AE24: 1735 | AF24: =SUM(AD24:AE24) -> 4428 | AG24: 2672 | AH24: 1695 | AI24: =SUM(AG24:AH24) -> 4367 | AJ24: 2454 | AK24: 1570 | AL24: =SUM(AJ24:AK24) -> 4024
A25: 22 | B25: KEBBI | D25: 17974 | E25: 7538 | F25: =SUM(D25:E25) -> 25512 | G25: 775 | H25: 568 | I25: =SUM(G25:H25) -> 1343 | J25: 4647 | K25: 2227 | L25: =SUM(J25:K25) -> 6874 | M25: 6812 | N25: 3105 | O25: =SUM(M25:N25) -> 9917 | P25: 3759 | Q25: 1508 | R25: =SUM(P25:Q25) -> 5267 | U25: 22 | V25: KEBBI | X25: 714 | Y25: 506 | Z25: =SUM(X25:Y25) -> 1220 | AA25: 33 | AB25: 20 | AC25: 53 | AD25: 534 | AE25: 343 | AF25: =SUM(AD25:AE25) -> 877 | AG25: 620 | AH25: 449 | AI25: =SUM(AG25:AH25) -> 1069 | AJ25: 517 | AK25: 335 | AL25: =SUM(AJ25:AK25) -> 852
A26: 23 | B26: KOAI | D26: 14982 | E26: 11677 | F26: =SUM(D26:E26) -> 26659 | G26: 464 | H26: 356 | I26: =SUM(G26:H26) -> 820 | J26: 8304 | K26: 6811 | L26: =SUM(J26:K26) -> 15115 | M26: 9244 | N26: 7195 | O26: =SUM(M26:N26) -> 16439 | P26: 6748 | Q26: 5386 | R26: =SUM(P26:Q26) -> 12134 | U26: 23 | V26: KOGI | X26: 3701 | Y26: 3362 | Z26: =SUM(X26:Y26) -> 7063 | AA26: 116 | AB26: 100 | AC26: 216 | AD26: 2894 | AE26: 2656 | AF26: =SUM(AD26:AE26) -> 5550 | AG26: 2737 | AH26: 2513 | AI26: =SUM(AG26:AH26) -> 5250 | AJ26: 2467 | AK26: 2285 | AL26: =SUM(AJ26:AK26) -> 4752
A27: 24 | B27: KWARA | D27: 12032 | E27: 10824 | F27: =SUM(D27:E27) -> 22856 | G27: 792 | H27: 648 | I27: =SUM(G27:H27) -> 1440 | J27: 6903 | K27: 6585 | L27: =SUM(J27:K27) -> 13488 | M27: 7874 | N27: 7177 | O27: =SUM(M27:N27) -> 15051 | P27: 5898 | Q27: 5473 | R27: =SUM(P27:Q27) -> 11371 | U27: 24 | V27: KWARA | X27: 5788 | Y27: 5546 | Z27: =SUM(X27:Y27) -> 11334 | AA27: 90 | AB27: 65 | AC27: 155 | AD27: 5015 | AE27: 4897 | AF27: =SUM(AD27:AE27) -> 9912 | AG27: 4826 | AH27: 4690 | AI27: =SUM(AG27:AH27) -> 9516 | AJ27: 4522 | AK27: 4427 | AL27: =SUM(AJ27:AK27) -> 8949
A28: 25 | B28: LAQOS | D28: 20708 | E28: 23383 | F28: =SUM(D28:E28) -> 44091 | G28: 293 | H28: 367 | I28: =SUM(G28:H28) -> 660 | J28: 13355 | K28: 15599 | L28: =SUM(J28:K28) -> 28954 | M28: 11783 | N28: 13254 | O28: =SUM(M28:N28) -> 25037 | P28: 10924 | Q28: 12233 | R28: =SUM(P28:Q28) -> 23157 | U28: 25 | V28: LAGOS | X28: 47431 | Y28: 51831 | Z28: =SUM(X28:Y28) -> 99262 | AA28: 315 | AB28: 348 | AC28: 663 | AD28: 37351 | AE28: 41727 | AF28: =SUM(AD28:AE28) -> 79078 | AG28: 34699 | AH28: 37930 | AI28: =SUM(AG28:AH28) -> 72629 | AJ28: 32675 | AK28: 35952 | AL28: =SUM(AJ28:AK28) -> 68627
A29: 26 | B29: NASSARA | D29: 20664 | E29: 13394 | F29: =SUM(D29:E29) -> 34058 | G29: 764 | H29: 598 | I29: =SUM(G29:H29) -> 1362 | J29: 11470 | K29: 7436 | L29: =SUM(J29:K29) -> 18906 | M29: 14488 | N29: 9363 | O29: =SUM(M29:N29) -> 23851 | P29: 9827 | Q29: 6335 | R29: =SUM(P29:Q29) -> 16162 | U29: 26 | V29: NASSARA | X29: 7125 | Y29: 6755 | Z29: =SUM(X29:Y29) -> 13880 | AA29: 168 | AB29: 161 | AC29: 329 | AD29: 5729 | AE29: 5553 | AF29: =SUM(AD29:AE29) -> 11282 | AG29: 5634 | AH29: 5259 | AI29: =SUM(AG29:AH29) -> 10893 | AJ29: 5023 | AK29: 4720 | AL29: =SUM(AJ29:AK29) -> 9743
A30: 27 | B30: NIGER | D30: 24705 | E30: 15179 | F30: =SUM(D30:E30) -> 39884 | G30: 911 | H30: 433 | I30: =SUM(G30:H30) -> 1344 | J30: 6872 | K30: 4305 | L30: =SUM(J30:K30) -> 11177 | M30: 8008 | N30: 4802 | O30: =SUM(M30:N30) -> 12810 | P30: 5119 | Q30: 3314 | R30: =SUM(P30:Q30) -> 8433 | U30: 27 | V30: NIGER | X30: 6665 | Y30: 6265 | Z30: =SUM(X30:Y30) -> 12930 | AA30: 77 | AB30: 69 | AC30: 146 | AD30: 5516 | AE30: 5284 | AF30: =SUM(AD30:AE30) -> 10800 | AG30: 5498 | AH30: 5249 | AI30: =SUM(AG30:AH30) -> 10747 | AJ30: 5051 | AK30: 4843 | AL30: =SUM(AJ30:AK30) -> 9894
A31: 28 | B31: OGUN | D31: 20436 | E31: 20457 | F31: =SUM(D31:E31) -> 40893 | G31: 202 | H31: 259 | I31: =SUM(G31:H31) -> 461 | J31: 5394 | K31: 5701 | L31: =SUM(J31:K31) -> 11095 | M31: 4783 | N31: 4890 | O31: =SUM(M31:N31) -> 9673 | P31: 4103 | Q31: 4138 | R31: =SUM(P31:Q31) -> 8241 | U31: 28 | V31: OGUN | X31: 20739 | Y31: 22307 | Z31: =SUM(X31:Y31) -> 43046 | AA31: 73 | AB31: 84 | AC31: 157 | AD31: 18152 | AE31: 19922 | AF31: =SUM(AD31:AE31) -> 38074 | AG31: 18163 | AH31: 19748 | AI31: =SUM(AG31:AH31) -> 37911 | AJ31: 17300 | AK31: 18899 | AL31: =SUM(AJ31:AK31) -> 36199
A32: 29 | B32: ONDO | D32: 10937 | E32: 10118 | F32: =SUM(D32:E32) -> 21055 | G32: 186 | H32: 193 | I32: =SUM(G32:H32) -> 379 | J32: 8010 | K32: 7713 | L32: =SUM(J32:K32) -> 15723 | M32: 7424 | N32: 7022 | O32: =SUM(M32:N32) -> 14446 | P32: 6621 | Q32: 6259 | R32: =SUM(P32:Q32) -> 12880 | U32: 29 | V32: ONDO | X32: 6718 | Y32: 6487 | Z32: =SUM(X32:Y32) -> 13205 | AA32: 61 | AB32: 57 | AC32: 118 | AD32: 5670 | AE32: 5595 | AF32: =SUM(AD32:AE32) -> 11265 | AG32: 5744 | AH32: 5585 | AI32: =SUM(AG32:AH32) -> 11329 | AJ32: 5292 | AK32: 5144 | AL32: =SUM(AJ32:AK32) -> 10436
A33: 30 | B33: OSUN | D33: 9094 | E33: 8439 | F33: =SUM(D33:E33) -> 17533 | G33: 218 | H33: 221 | I33: =SUM(G33:H33) -> 439 | J33: 3518 | K33: 3378 | L33: =SUM(J33:K33) -> 6896 | M33: 3484 | N33: 3306 | O33: =SUM(M33:N33) -> 6790 | P33: 2697 | Q33: 2544 | R33: =SUM(P33:Q33) -> 5241 | U33: 30 | V33: OSUN | X33: 8969 | Y33: 9476 | Z33: =SUM(X33:Y33) -> 18445 | AA33: 102 | AB33: 103 | AC33: 205 | AD33: 6658 | AE33: 7115 | AF33: =SUM(AD33:AE33) -> 13773 | AG33: 6137 | AH33: 6436 | AI33: =SUM(AG33:AH33) -> 12573 | AJ33: 5481 | AK33: 5747 | AL33: =SUM(AJ33:AK33) -> 11228
... A40: 37 | B40: ZAMFARA | D40: 17789 | E40: 6447 | F40: =SUM(D40:E40) -> 24236 | G40: 1789 | H40: 873 | I40: =SUM(G40:H40) -> 2662 | J40: 2652 | K40: 1041 | L40: =SUM(J40:K40) -> 3693 | M40: 3948 | N40: 1831 | O40: =SUM(M40:N40) -> 5779 | P40: 1767 | Q40: 610 | R40: =SUM(P40:Q40) -> 2377 | U40: 37 | V40: ZAMFARA | X40: 1933 | Y40: 1094 | Z40: =SUM(X40:Y40) -> 3027 | AA40: 54 | AB40: 28 | AC40: 82 | AD40: 1379 | AE40: 853 | AF40: =SUM(AD40:AE40) -> 2232 | AG40: 1612 | AH40: 934 | AI40: =SUM(AG40:AH40) -> 2546 | AJ40: 1243 | AK40: 759 | AL40: =SUM(AJ40:AK40) -> 2002
A41: 38 | B41: NATIONAL | D41: =SUM(D4:D40) -> 477702 | E41: =SUM(E4:E40) -> 368797 | F41: =SUM(F4:F40) -> 846499 | G41: =SUM(G4:G40) -> 18260 | H41: =SUM(H4:H40) -> 13080 | I41: =SUM(I4:I40) -> 31340 | J41: =SUM(J4:J40) -> 224529 | K41: =SUM(K4:K40) -> 196315 | ... R41: =SUM(R4:R40) -> 336450 | U41: 38 | V41: OFFSHORE | X41: 25 | Y41: 30 | Z41: =SUM(X41:Y41) -> 55 | AA41: 1 | AC41: 1 | AD41: 6 | AE41: 10 | AF41: =SUM(AD41:AE41) -> 16 | AG41: 7 | AH41: 5 | AI41: =SUM(AG41:AH41) -> 12 | AJ41: 6 | AK41: 3 | AL41: =SUM(AJ41:AK41) -> 9
V42: NATIONAL | X42: =SUM(X4:X41) -> 340600 | Y42: =SUM(Y4:Y41) -> 337788 | Z42: =SUM(Z4:Z41) -> 678388 | AA42: =SUM(AA4:AA41) -> 5563 | AB42: =SUM(AB4:AB41) -> 4835 | AC42: =SUM(AC4:AC41) -> 10398 | AD42: =SUM(AD4:AD41) -> 274711 | AE42: =SUM(AE4:AE41) -> 280139 | ... AL42: =SUM(AL4:AL41) -> 490578

Sheet NECO 2014-2016
A1: CANDIDATES PERFORMANCE IN PUBLIC SCHOOLS BY STATE NECO JUNE/JULY 2014 | V1: CANDIDATES PERFORMANCE IN PUBLIC SCHOOLS BY STATE NECO JUNE/JULY 2015 | AO1: CANDIDATES PERFORMANCE IN PUBLIC SCHOOLS BY STATE NECO JUNE/JULY 2015
A2: S/N | B2: STATE | C2: CANDIDATE THAT SAT FOR THE EXAMINATION | F2: CANDITATES WITH 5 CREDITS & ABOVE WITHOUT ENG & MATHS | I2: CANDITATES WITH 5 CREDITS & ABOVE INCLUDING ENG LANG | L2: CANDITATES WITH 5 CREDITS & ABOVE INCLUDING MATHS | O2: CANDITATES WITH 5 CREDITS & ABOVE INCLUDING ENGLISH & MATHS | V2: S/N | W2: STATE | X2: CANDIDATE THAT SAT FOR THE EXAMINATION | AA2: CANDITATES WITH 5 CREDITS & ABOVE WITHOUT ENG & MATHS | AD2: CANDITATES WITH 5 CREDITS & ABOVE INCLUDING ENG LANG | AG2: CANDITATES WITH 5 CREDITS & ABOVE INCLUDING MATHS | AJ2: CANDITATES WITH 5 CREDITS & ABOVE INCLUDING ENGLISH & MATHS | AO2: S/N | AP2: STATE | AQ2: CANDIDATE THAT SAT FOR THE EXAMINATION | AT2: CANDITATES WITH 5 CREDITS & ABOVE WITHOUT ENG & MATHS | AW2: CANDITATES WITH 5 CREDITS & ABOVE INCLUDING ENG LANG | AZ2: CANDITATES WITH 5 CREDITS & ABOVE INCLUDING MATHS | BC2: CANDITATES WITH 5 CREDITS & ABOVE INCLUDING ENGLISH & MATHS
C3: MALE | D3: FEMALE | E3: TOTAL | F3: MALE | G3: FEMALE | H3: TOTAL | I3: MALE | J3: FEMALE | K3: TOTAL | L3: MALE | M3: FEMALE | N3: TOTAL | O3: MALE | P3: FEMALE | Q3: TOTAL | X3: MALE | Y3: FEMALE | Z3: TOTAL | AA3: MALE | AB3: FEMALE | AC3: TOTAL | AD3: MALE | AE3: FEMALE | AF3: TOTAL | AG3: MALE | AH3: FEMALE | AI3: TOTAL | AJ3: MALE | AK3: FEMALE | AL3: TOTAL | AQ3: MALE | AR3: FEMALE | AS3: TOTAL | AT3: MALE | AU3: FEMALE | AV3: TOTAL | AW3: MALE | AX3: FEMALE | AY3: TOTAL | AZ3: MALE | BA3: FEMALE | BB3: TOTAL | BC3: MALE | BD3: FEMALE | BE3: TOTAL
A4: 1 | B4: ABIA | C4: 1392 | D4: 1617 | E4: =SUM(C4:D4) -> 3009 | F4: 1133 | G4: 1299 | H4: =SUM(F4:G4) -> 2432 | I4: 1023 | J4: 1132 | K4: =SUM(I4:J4) -> 2155 | L4: 920 | M4: 1149 | N4: =SUM(L4:M4) -> 2069 | O4: 847 | P4: 1019 | Q4: =SUM(O4:P4) -> 1866 | V4: 1 | W4: ABIA | X4: 1069 | Y4: 1489 | Z4: =SUM(X4:Y4) -> 2558 | AA4: 979 38.27% | AB4: 1330 | AC4: =SUM(AA4:AB4) -> 1330 | AD4: 944 | AE4: 1261 | AF4: =SUM(AD4:AE4) -> 2205 | AG4: 890 | AH4: 1191 | AI4: =SUM(AG4:AH4) -> 2081 | AJ4: 861 | AK4: 1131 | AL4: =SUM(AJ4:AK4) -> 1992 | AO4: 1 | AP4: ABIA | AQ4: 1255 | AR4: 1498 | AS4: =SUM(AQ4:AR4) -> 2753 | AT4: 1202 | AU4: 1442 | AV4: =SUM(AT4:AU4) -> 2644 | AW4: 1130 | AX4: 1376 | AY4: =SUM(AW4:AX4) -> 2506 | AZ4: 1126 | BA4: 1273 | BB4: =SUM(AZ4:BA4) -> 2399 | BC4: 1059 | BD4: 1215 | BE4: =SUM(BC4:BD4) -> 2274
A5: 2 | B5: ADAMAWA | C5: 12753 | D5: 8190 | E5: =SUM(C5:D5) -> 20943 | F5: 7715 | G5: 4657 | H5: =SUM(F5:G5) -> 12372 | I5: 6369 | J5: 3752 | K5: =SUM(I5:J5) -> 10121 | L5: 5476 | M5: 3236 | N5: =SUM(L5:M5) -> 8712 | O5: 4582 | P5: 2641 | Q5: =SUM(O5:P5) -> 7223 | V5: 2 | W5: ADAMAWA | X5: 11678 | Y5: 7871 | Z5: =SUM(X5:Y5) -> 19549 | AA5: 9671 | AB5: 6646 | AC5: =SUM(AA5:AB5) -> 16317 | AD5: 8833 | AE5: 6046 | AF5: =SUM(AD5:AE5) -> 14879 | AG5: 8044 | AH5: 5532 | AI5: =SUM(AG5:AH5) -> 13576 | AJ5: 7388 | AK5: 5048 | AL5: =SUM(AJ5:AK5) -> 12436 | AO5: 2 | AP5: ADAMAWA | AQ5: 20427 | AR5: 12167 | AS5: =SUM(AQ5:AR5) -> 32594 | AT5: 17216 | AU5: 10247 | AV5: =SUM(AT5:AU5) -> 27463 | AW5: 14092 | AX5: 8219 | AY5: =SUM(AW5:AX5) -> 22311 | AZ5: 14332 | BA5: 8378 | BB5: =SUM(AZ5:BA5) -> 22710 | BC5: 11836 | BD5: 6803 | BE5: =SUM(BC5:BD5) -> 18639
A6: 3 | B6: AKWA IBOM | C6: 8674 | D6: 9953 | E6: =SUM(C6:D6) -> 18627 | F6: 6233 | G6: 7171 | H6: =SUM(F6:G6) -> 13404 | I6: 5272 | J6: 5864 | K6: =SUM(I6:J6) -> 11136 | L6: 5190 | M6: 5871 | N6: =SUM(L6:M6) -> 11061 | O6: 4421 | P6: 4858 | Q6: =SUM(O6:P6) -> 9279 | V6: 3 | W6: AKWA IBOM | X6: 8417 | Y6: 9507 | Z6: =SUM(X6:Y6) -> 17924 | AA6: 7291 | AB6: 8208 | AC6: =SUM(AA6:AB6) -> 15499 | AD6: 6293 | AE6: 7036 | AF6: =SUM(AD6:AE6) -> 13329 | AG6: 6095 | AH6: 6774 | AI6: =SUM(AG6:AH6) -> 12869 | AJ6: 5301 | AK6: 5865 | AL6: =SUM(AJ6:AK6) -> 11166 | AO6: 3 | AP6: AKWA IBOM | AQ6: 7728 | AR6: 9075 | AS6: =SUM(AQ6:AR6) -> 16803 | AT6: 6824 | AU6: 8184 | AV6: =SUM(AT6:AU6) -> 15008 | AW6: 6328 | AX6: 7702 | AY6: =SUM(AW6:AX6) -> 14030 | AZ6: 5898 | BA6: 7125 | BB6: =SUM(AZ6:BA6) -> 13023 | BC6: 5503 | BD6: 6719 | BE6: =SUM(BC6:BD6) -> 12222
A7: 4 | B7: ANAMBRA | C7: 2226 | D7: 2901 | E7: =SUM(C7:D7) -> 5127 | F7: 1813 | G7: 2264 | H7: =SUM(F7:G7) -> 4077 | I7: 1608 | J7: 1918 | K7: =SUM(I7:J7) -> 3526 | L7: 1403 | M7: 1655 | N7: =SUM(L7:M7) -> 3058 | O7: 1253 | P7: 1417 | Q7: =SUM(O7:P7) -> 2670 | V7: 4 | W7: ANAMBRA | X7: 2506 | Y7: 3216 | Z7: =SUM(X7:Y7) -> 5722 | AA7: 2317 | AB7: 2952 | AC7: =SUM(AA7:AB7) -> 5269 | AD7: 2135 | AE7: 2720 | AF7: =SUM(AD7:AE7) -> 4855 | AG7: 1920 | AH7: 2524 | AI7: =SUM(AG7:AH7) -> 4444 | AJ7: 1776 | AK7: 2340 | AL7: =SUM(AJ7:AK7) -> 4116 | AO7: 4 | AP7: ANAMBRA | AQ7: 2476 | AR7: 3605 | AS7: =SUM(AQ7:AR7) -> 6081 | AT7: 2265 | AU7: 3296 | AV7: =SUM(AT7:AU7) -> 5561 | AW7: 2132 | AX7: 3100 | AY7: =SUM(AW7:AX7) -> 5232 | AZ7: 2017 | BA7: 2842 | BB7: =SUM(AZ7:BA7) -> 4859 | BC7: 1899 | BD7: 2673 | BE7: =SUM(BC7:BD7) -> 4572
A8: 5 | B8: BAUCHI | C8: 16164 | D8: 6231 | E8: =SUM(C8:D8) -> 22395 | F8: 10027 | G8: 4588 | H8: =SUM(F8:G8) -> 14615 | I8: 7347 | J8: 3104 | K8: =SUM(I8:J8) -> 10451 | L8: 7409 | M8: 3675 | N8: =SUM(L8:M8) -> 11084 | O8: 5320 | P8: 2508 | Q8: =SUM(O8:P8) -> 7828 | V8: 5 | W8: BAUCHI | X8: 19306 | Y8: 6771 | Z8: =SUM(X8:Y8) -> 26077 | AA8: 15675 | AB8: 5926 | AC8: =SUM(AA8:AB8) -> 21601 | AD8: 12717 | AE8: 4820 | AF8: =SUM(AD8:AE8) -> 17537 | AG8: 13771 | AH8: 5267 | AI8: =SUM(AG8:AH8) -> 19038 | AJ8: 11255 | AK8: 4341 | AL8: =SUM(AJ8:AK8) -> 15596 | AO8: 5 | AP8: BAUCHI | AQ8: 22827 | AR8: 7547 | AS8: =SUM(AQ8:AR8) -> 30374 | AT8: 18679 | AU8: 6556 | AV8: =SUM(AT8:AU8) -> 25235 | AW8: 15015 | AX8: 5401 | AY8: =SUM(AW8:AX8) -> 20416 | AZ8: 14466 | BA8: 5457 | BB8: =SUM(AZ8:BA8) -> 19923 | BC8: 11860 | BD8: 4549 | BE8: =SUM(BC8:BD8) -> 16409
A9: 6 | B9: BAYELSA | C9: 6198 | D9: 5401 | E9: =SUM(C9:D9) -> 11599 | F9: 5339 | G9: 4780 | H9: =SUM(F9:G9) -> 10119 | I9: 4869 | J9: 4354 | K9: =SUM(I9:J9) -> 9223 | L9: 4903 | M9: 4415 | N9: =SUM(L9:M9) -> 9318 | O9: 4483 | P9: 4033 | Q9: =SUM(O9:P9) -> 8516 | V9: 6 | W9: BAYELSA | X9: 6086 | Y9: 5386 | Z9: =SUM(X9:Y9) -> 11472 | AA9: 5465 | AB9: 4939 | AC9: =SUM(AA9:AB9) -> 10404 | AD9: 5303 | AE9: 4776 | AF9: =SUM(AD9:AE9) -> 10079 | AG9: 5073 | AH9: 4546 | AI9: =SUM(AG9:AH9) -> 9619 | AJ9: 4943 | AK9: 4421 | AL9: =SUM(AJ9:AK9) -> 9364 | AO9: 6 | AP9: BAYELSA | AQ9: 2031 | AR9: 1873 | AS9: =SUM(AQ9:AR9) -> 3904 | AT9: 1879 | AU9: 1758 | AV9: =SUM(AT9:AU9) -> 3637 | AW9: 1824 | AX9: 1727 | AY9: =SUM(AW9:AX9) -> 3551 | AZ9: 1794 | BA9: 1693 | BB9: =SUM(AZ9:BA9) -> 3487 | BC9: 1744 | BD9: 1666 | BE9: =SUM(BC9:BD9) -> 3410
A10: 7 | B10: BENUE | C10: 12173 | D10: 8366 | E10: =SUM(C10:D10) -> 20539 | F10: 9377 | G10: 6461 | H10: =SUM(F10:G10) -> 15838 | I10: 7669 | J10: 5268 | K10: =SUM(I10:J10) -> 12937 | L10: 7592 | M10: 5349 | N10: =SUM(L10:M10) -> 12941 | O10: 6304 | P10: 4401 | Q10: =SUM(O10:P10) -> 10705 | V10: 7 | W10: BENUE | X10: 10492 | Y10: 7734 | Z10: =SUM(X10:Y10) -> 18226 | AA10: 9553 | AB10: 7008 | AC10: =SUM(AA10:AB10) -> 16561 | AD10: 8755 | AE10: 6411 | AF10: =SUM(AD10:AE10) -> 15166 | AG10: 8403 | AH10: 6167 | AI10: =SUM(AG10:AH10) -> 14570 | AJ10: 7730 | AK10: 5667 | AL10: =SUM(AJ10:AK10) -> 13397 | AO10: 7 | AP10: BENUE | AQ10: 9520 | AR10: 6643 | AS10: =SUM(AQ10:AR10) -> 16163 | AT10: 8967 | AU10: 6240 | AV10: =SUM(AT10:AU10) -> 15207 | AW10: 8419 | AX10: 5905 | AY10: =SUM(AW10:AX10) -> 14324 | AZ10: 7959 | BA10: 5481 | BB10: =SUM(AZ10:BA10) -> 13440 | BC10: 7511 | BD10: 5198 | BE10: =SUM(BC10:BD10) -> 12709
A11: 8 | B11: BOMO | C11: 13096 | D11: 8864 | E11: =SUM(C11:D11) -> 21960 | F11: 7105 | G11: 5830 | H11: =SUM(F11:G11) -> 12935 | I11: 5360 | J11: 3691 | K11: =SUM(I11:J11) -> 9051 | L11: 5576 | M11: 5171 | N11: =SUM(L11:M11) -> 10747 | O11: 4242 | P11: 3273 | Q11: =SUM(O11:P11) -> 7515 | V11: 8 | W11: BOMO | X11: 8271 | Y11: 5798 | Z11: =SUM(X11:Y11) -> 14069 | AA11: 7113 | AB11: 5292 | AC11: =SUM(AA11:AB11) -> 12405 | AD11: 6100 | AE11: 4633 | AF11: =SUM(AD11:AE11) -> 10733 | AG11: 5836 | AH11: 4656 | AI11: =SUM(AG11:AH11) -> 10492 | AJ11: 5106 | AK11: 4129 | AL11: =SUM(AJ11:AK11) -> 9235 | AO11: 8 | AP11: BOMO | AQ11: 3387 | AR11: 2223 | AS11: =SUM(AQ11:AR11) -> 5610 | AT11: 2999 | AU11: 2042 | AV11: =SUM(AT11:AU11) -> 5041 | AW11: 2396 | AX11: 1604 | AY11: =SUM(AW11:AX11) -> 4000 | AZ11: 2805 | BA11: 1913 | BB11: =SUM(AZ11:BA11) -> 4718 | BC11: 2256 | BD11: 1534 | BE11: =SUM(BC11:BD11) -> 3790
A12: 9 | B12: CROSS RIVER | C12: 1760 | D12: 1811 | E12: =SUM(C12:D12) -> 3571 | F12: 1065 | G12: 1117 | H12: =SUM(F12:G12) -> 2182 | I12: 898 | J12: 944 | K12: =SUM(I12:J12) -> 1842 | L12: 759 | M12: 780 | N12: =SUM(L12:M12) -> 1539 | O12: 631 | P12: 660 | Q12: =SUM(O12:P12) -> 1291 | V12: 9 | W12: CROSS RIVER | X12: 1837 | Y12: 1873 | Z12: =SUM(X12:Y12) -> 3710 | AA12: 1563 | AB12: 1550 | AC12: =SUM(AA12:AB12) -> 3113 | AD12: 1395 | AE12: 1373 | AF12: =SUM(AD12:AE12) -> 2768 | AG12: 1311 | AH12: 1254 | AI12: =SUM(AG12:AH12) -> 2565 | AJ12: 1175 | AK12: 1114 | AL12: =SUM(AJ12:AK12) -> 2289 | AO12: 9 | AP12: CROSS RIVER | AQ12: 2245 | AR12: 1990 | AS12: =SUM(AQ12:AR12) -> 4235 | AT12: 2001 | AU12: 1794 | AV12: =SUM(AT12:AU12) -> 3795 | AW12: 1922 | AX12: 1737 | AY12: =SUM(AW12:AX12) -> 3659 | AZ12: 1662 | BA12: 1549 | BB12: =SUM(AZ12:BA12) -> 3211 | BC12: 1600 | BD12: 1505 | BE12: =SUM(BC12:BD12) -> 3105
A13: 10 | B13: DELTA | C13: 4870 | D13: 4628 | E13: =SUM(C13:D13) -> 9498 | F13: 4027 | G13: 3845 | H13: =SUM(F13:G13) -> 7872 | I13: 3622 | J13: 3472 | K13: =SUM(I13:J13) -> 7094 | L13: 3669 | M13: 3425 | N13: =SUM(L13:M13) -> 7094 | O13: 3330 | P13: 3102 | Q13: =SUM(O13:P13) -> 6432 | V13: 10 | W13: DELTA | X13: 4927 | Y13: 4818 | Z13: =SUM(X13:Y13) -> 9745 | AA13: 4481 | AB13: 4350 | AC13: =SUM(AA13:AB13) -> 8831 | AD13: 4213 | AE13: 4111 | AF13: =SUM(AD13:AE13) -> 8324 | AG13: 4254 | AH13: 4140 | AI13: =SUM(AG13:AH13) -> 8394 | AJ13: 4011 | AK13: 3911 | AL13: =SUM(AJ13:AK13) -> 7922 | AO13: 10 | AP13: DELTA | AQ13: 3840 | AR13: 4199 | AS13: =SUM(AQ13:AR13) -> 8039 | AT13: 3522 | AU13: 3934 | AV13: =SUM(AT13:AU13) -> 7456 | AW13: 3398 | AX13: 3782 | AY13: =SUM(AW13:AX13) -> 7180 | AZ13: 3236 | BA13: 3636 | BB13: =SUM(AZ13:BA13) -> 6872 | BC13: 3126 | BD13: 3501 | BE13: =SUM(BC13:BD13) -> 6627
A14: 11 | B14: EBONYI | C14: 2195 | D14: 1926 | E14: =SUM(C14:D14) -> 4121 | F14: 1940 | G14: 1694 | H14: =SUM(F14:G14) -> 3634 | I14: 1665 | J14: 1405 | K14: =SUM(I14:J14) -> 3070 | L14: 1715 | M14: 1482 | N14: =SUM(L14:M14) -> 3197 | O14: 1469 | P14: 1235 | Q14: =SUM(O14:P14) -> 2704 | V14: 11 | W14: EBONYI | X14: 2304 | Y14: 2019 | Z14: =SUM(X14:Y14) -> 4323 | AA14: 2210 | AB14: 1900 | AC14: =SUM(AA14:AB14) -> 4110 | AD14: 2123 | AE14: 1838 | AF14: =SUM(AD14:AE14) -> 3961 | AG14: 1938 | AH14: 1622 | AI14: =SUM(AG14:AH14) -> 3560 | AJ14: 1872 | AK14: 1579 | AL14: =SUM(AJ14:AK14) -> 3451 | AO14: 11 | AP14: EBONYI | AQ14: 2288 | AR14: 2087 | AS14: =SUM(AQ14:AR14) -> 4375 | AT14: 2195 | AU14: 1953 | AV14: =SUM(AT14:AU14) -> 4148 | AW14: 2105 | AX14: 1872 | AY14: =SUM(AW14:AX14) -> 3977 | AZ14: 1941 | BA14: 1672 | BB14: =SUM(AZ14:BA14) -> 3613 | BC14: 1863 | BD14: 1606 | BE14: =SUM(BC14:BD14) -> 3469
A15: 12 | B15: EDO | C15: 8836 | D15: 8243 | E15: =SUM(C15:D15) -> 17079 | F15: 7641 | G15: 7261 | H15: =SUM(F15:G15) -> 14902 | I15: 6932 | J15: 6653 | K15: =SUM(I15:J15) -> 13585 | L15: 7056 | M15: 6693 | N15: =SUM(L15:M15) -> 13749 | O15: 6425 | P15: 6145 | Q15: =SUM(O15:P15) -> 12570 | V15: 12 | W15: EDO | X15: 7583 | Y15: 6839 | Z15: =SUM(X15:Y15) -> 14422 | AA15: 7040 | AB15: 6476 | AC15: =SUM(AA15:AB15) -> 13516 | AD15: 6509 | AE15: 6038 | AF15: =SUM(AD15:AE15) -> 12547 | AG15: 6639 | AH15: 6058 | AI15: =SUM(AG15:AH15) -> 12697 | AJ15: 6176 | AK15: 5670 | AL15: =SUM(AJ15:AK15) -> 11846 | AO15: 12 | AP15: EDO | AQ15: 6330 | AR15: 5978 | AS15: =SUM(AQ15:AR15) -> 12308 | AT15: 6047 | AU15: 5771 | AV15: =SUM(AT15:AU15) -> 11818 | AW15: 5891 | AX15: 5667 | AY15: =SUM(AW15:AX15) -> 11558 | AZ15: 5689 | BA15: 5392 | BB15: =SUM(AZ15:BA15) -> 11081 | BC15: 5544 | BD15: 5296 | BE15: =SUM(BC15:BD15) -> 10840
A16: 13 | B16: EKITI | C16: 4184 | D16: 3881 | E16: =SUM(C16:D16) -> 8065 | F16: 3191 | G16: 3153 | H16: =SUM(F16:G16) -> 6344 | I16: 2903 | J16: 2842 | K16: =SUM(I16:J16) -> 5745 | L16: 2829 | M16: 2772 | N16: =SUM(L16:M16) -> 5601 | O16: 2577 | P16: 2504 | Q16: =SUM(O16:P16) -> 5081 | V16: 13 | W16: EKITI | X16: 3957 | Y16: 3751 | Z16: =SUM(X16:Y16) -> 7708 | AA16: 3632 | AB16: 3503 | AC16: =SUM(AA16:AB16) -> 7135 | AD16: 3424 | AE16: 3339 | AF16: =SUM(AD16:AE16) -> 6763 | AG16: 3349 | AH16: 3281 | AI16: =SUM(AG16:AH16) -> 6630 | AJ16: 3172 | AK16: 3144 | AL16: =SUM(AJ16:AK16) -> 6316 | AO16: 13 | AP16: EKITI | AQ16: 2520 | AR16: 2167 | AS16: =SUM(AQ16:AR16) -> 4687 | AT16: 2409 | AU16: 2093 | AV16: =SUM(AT16:AU16) -> 4502 | AW16: 2298 | AX16: 2006 | AY16: =SUM(AW16:AX16) -> 4304 | AZ16: 2304 | BA16: 1974 | BB16: =SUM(AZ16:BA16) -> 4278 | BC16: 2197 | BD16: 1890 | BE16: =SUM(BC16:BD16) -> 4087
... A40: 37 | B40: ZAMFARA | C40: 20482 | D40: 5892 | E40: =SUM(C40:D40) -> 26374 | F40: 12184 | G40: 3784 | H40: =SUM(F40:G40) -> 15968 | I40: 8325 | J40: 2192 | K40: =SUM(I40:J40) -> 10517 | L40: 8840 | M40: 2838 | N40: =SUM(L40:M40) -> 11678 | O40: 5995 | P40: 1649 | Q40: =SUM(O40:P40) -> 7644 | V40: 37 | W40: ZAMFARA | X40: 16917 | Y40: 5607 | Z40: =SUM(X40:Y40) -> 22524 | AA40: 11878 | AB40: 4201 | AC40: =SUM(AA40:AB40) -> 16079 | AD40: 8564 | AE40: 2695 | AF40: =SUM(AD40:AE40) -> 11259 | AG40: 8594 | AH40: 2498 | AI40: =SUM(AG40:AH40) -> 11092 | AJ40: 6293 | AK40: 1596 | AL40: =SUM(AJ40:AK40) -> 7889 | AO40: 37 | AP40: ZAMFARA | AQ40: 17702 | AR40: 6027 | AS40: =SUM(AQ40:AR40) -> 23729 | AT40: 12707 | AU40: 5187 | AV40: =SUM(AT40:AU40) -> 17894 | AW40: 9494 | AX40: 3966 | AY40: =SUM(AW40:AX40) -> 13460 | AZ40: 9371 | BA40: 4084 | BB40: =SUM(AZ40:BA40) -> 13455 | BC40: 7259 | BD40: 3230 | BE40: =SUM(BC40:BD40) -> 10489
A41: 38 | B41: NATIONAL | C41: =SUM(C4:C40) -> 379402 | D41: =SUM(D4:D40) -> 238594 | E41: =SUM(E4:E40) -> 617996 | F41: =SUM(F4:F40) -> 254188 | G41: =SUM(G4:G40) -> 170875 | H41: =SUM(H4:H40) -> 425063 | I41: =SUM(I4:I40) -> 207191 | J41: =SUM(J4:J40) -> 139203 | ... Q41: =SUM(Q4:Q40) -> 280706 | V41: 38 | W41: NATIONAL | X41: =SUM(X4:X40) -> 367271 | Y41: =SUM(Y4:Y40) -> 232114 | Z41: =SUM(Z4:Z40) -> 599385 | AA41: =SUM(AA4:AA40) -> 302172 | AB41: =SUM(AB4:AB40) -> 200485 | AC41: =SUM(AC4:AC40) -> 502657 | AD41: =SUM(AD4:AD40) -> 260148 | AE41: =SUM(AE4:AE40) -> 174763 | ... AL41: =SUM(AL4:AL40) -> 374685 | AO41: 38 | AP41: NATIONAL | AQ41: =SUM(AQ4:AQ40) -> 385261 | AR41: =SUM(AR4:AR40) -> 233525 | AS41: =SUM(AS4:AS40) -> 618786 | AT41: =SUM(AT4:AT40) -> 320440 | AU41: =SUM(AU4:AU40) -> 206005 | AV41: =SUM(AV4:AV40) -> 526445 | AW41: =SUM(AW4:AW40) -> 275272 | AX41: =SUM(AX4:AX40) -> 183437 | ... BE41: =SUM(BE4:BE40) -> 389080

Sheet ENROL IN NBC EXAMS
A1: TOTAL ENROLMENT IN MAY/JUNE NBC/NTC EXAMINATIONS
A2: S/N | B2: =UPPER(C2) -> STATE | C2: State | D2: 2014 | H2: 2015 | L2: 2016
D3: MALE | E3: FEMALE | F3: TOTAL | G3: % FEMALE | H3: MALE | I3: FEMALE | J3: TOTAL | K3: % FEMALE | L3: MALE | M3: FEMALE | N3: TOTAL | O3: % FEMALE
A4: 1 | B4: =UPPER(C4) -> ABIA | C4: Abia | D4: 314 | E4: 238 | F4: =SUM(D4:E4) -> 552 | G4: =E4/F4*100 -> 43.115942 | H4: 301 | I4: 285 | J4: =SUM(H4:I4) -> 586 | K4: =I4/J4*100 -> 48.634812 | L4: 240 | M4: 230 | N4: =SUM(L4:M4) -> 470 | O4: =M4/N4*100 -> 48.93617
A5: 2 | B5: =UPPER(C5) -> ADAMAWA | C5: Adamawa | D5: 3482 | E5: 1438 | F5: =SUM(D5:E5) -> 4920 | G5: =E5/F5*100 -> 29.227642 | H5: 2225 | I5: 1007 | J5: =SUM(H5:I5) -> 3232 | K5: =I5/J5*100 -> 31.157178 | L5: 2764 | M5: 1265 | N5: =SUM(L5:M5) -> 4029 | O5: =M5/N5*100 -> 31.397369
A6: 3 | B6: =UPPER(C6) -> AKWA IBOM | C6: Akwa Ibom | D6: 1646 | E6: 333 | F6: =SUM(D6:E6) -> 1979 | G6: =E6/F6*100 -> 16.82668 | H6: 1413 | I6: 324 | J6: =SUM(H6:I6) -> 1737 | K6: =I6/J6*100 -> 18.65285 | L6: 1188 | M6: 362 | N6: =SUM(L6:M6) -> 1550 | O6: =M6/N6*100 -> 23.354839
A7: 4 | B7: =UPPER(C7) -> ANAMBRA | C7: Anambra | D7: 784 | E7: 639 | F7: =SUM(D7:E7) -> 1423 | G7: =E7/F7*100 -> 44.90513 | H7: 800 | I7: 470 | J7: =SUM(H7:I7) -> 1270 | K7: =I7/J7*100 -> 37.007874 | L7: 810 | M7: 539 | N7: =SUM(L7:M7) -> 1349 | O7: =M7/N7*100 -> 39.955523
A8: 5 | B8: =UPPER(C8) -> BAUCHI | C8: Bauchi | D8: 2201 | E8: 353 | F8: =SUM(D8:E8) -> 2554 | G8: =E8/F8*100 -> 13.821457 | H8: 1330 | I8: 222 | J8: =SUM(H8:I8) -> 1552 | K8: =I8/J8*100 -> 14.304124 | L8: 1142 | M8: 223 | N8: =SUM(L8:M8) -> 1365 | O8: =M8/N8*100 -> 16.336996
A9: 6 | B9: =UPPER(C9) -> BAYELSA | C9: Bayelsa | D9: 33 | E9: 9 | F9: =SUM(D9:E9) -> 42 | G9: =E9/F9*100 -> 21.428571 | H9: 11 | I9: 8 | J9: =SUM(H9:I9) -> 19 | K9: =I9/J9*100 -> 42.105263 | L9: 61 | M9: 7 | N9: =SUM(L9:M9) -> 68 | O9: =M9/N9*100 -> 10.294118
A10: 7 | B10: =UPPER(C10) -> BENUE | C10: Benue | D10: 1448 | E10: 422 | F10: =SUM(D10:E10) -> 1870 | G10: =E10/F10*100 -> 22.566845 | H10: 1616 | I10: 503 | J10: =SUM(H10:I10) -> 2119 | K10: =I10/J10*100 -> 23.737612 | L10: 1770 | M10: 620 | N10: =SUM(L10:M10) -> 2390 | O10: =M10/N10*100 -> 25.941423
A11: 8 | B11: =UPPER(C11) -> BORNO | C11: Borno | D11: 344 | E11: 151 | F11: =SUM(D11:E11) -> 495 | G11: =E11/F11*100 -> 30.505051 | H11: 196 | I11: 95 | J11: =SUM(H11:I11) -> 291 | K11: =I11/J11*100 -> 32.646048 | L11: 176 | M11: 102 | N11: =SUM(L11:M11) -> 278 | O11: =M11/N11*100 -> 36.690647
A12: 9 | B12: =UPPER(C12) -> CROSS RIVER | C12: Cross River | D12: 778 | E12: 504 | F12: =SUM(D12:E12) -> 1282 | G12: =E12/F12*100 -> 39.313573 | H12: 551 | I12: 394 | J12: =SUM(H12:I12) -> 945 | K12: =I12/J12*100 -> 41.693122 | L12: 395 | M12: 263 | N12: =SUM(L12:M12) -> 658 | O12: =M12/N12*100 -> 39.969605
A13: 10 | B13: =UPPER(C13) -> DELTA | C13: Delta | D13: 426 | E13: 191 | F13: =SUM(D13:E13) -> 617 | G13: =E13/F13*100 -> 30.95624 | H13: 480 | I13: 200 | J13: =SUM(H13:I13) -> 680 | K13: =I13/J13*100 -> 29.411765 | L13: 310 | M13: 114 | N13: =SUM(L13:M13) -> 424 | O13: =M13/N13*100 -> 26.886792
A14: 11 | B14: =UPPER(C14) -> EBONYI | C14: Ebonyi | D14: 218 | E14: 153 | F14: =SUM(D14:E14) -> 371 | G14: =E14/F14*100 -> 41.239892 | H14: 204 | I14: 114 | J14: =SUM(H14:I14) -> 318 | K14: =I14/J14*100 -> 35.849057 | L14: 240 | M14: 96 | N14: =SUM(L14:M14) -> 336 | O14: =M14/N14*100 -> 28.571429
A15: 12 | B15: =UPPER(C15) -> EDO | C15: Edo | D15: 738 | E15: 410 | F15: =SUM(D15:E15) -> 1148 | G15: =E15/F15*100 -> 35.714286 | H15: 635 | I15: 372 | J15: =SUM(H15:I15) -> 1007 | K15: =I15/J15*100 -> 36.94141 | L15: 631 | M15: 354 | N15: =SUM(L15:M15) -> 985 | O15: =M15/N15*100 -> 35.939086
... A40: 37 | B40: =UPPER(C40) -> ZAMFARA | C40: Zamfara | D40: 578 | E40: 43 | F40: =SUM(D40:E40) -> 621 | G40: =E40/F40*100 -> 6.9243156 | H40: 649 | I40: 143 | J40: =SUM(H40:I40) -> 792 | K40: =I40/J40*100 -> 18.055556 | L40: 763 | M40: 149 | N40: =SUM(L40:M40) -> 912 | O40: =M40/N40*100 -> 16.337719
A41: 38 | B41: =UPPER(C41) -> NATIONAL | C41: National | D41: =SUM(D4:D40) -> 55473 | E41: =SUM(E4:E40) -> 23450 | F41: =SUM(F4:F40) -> 78923 | G41: =SUM(G4:G40) -> 1015.0718 | H41: =SUM(H4:H40) -> 53051 | I41: =SUM(I4:I40) -> 23312 | J41: =SUM(J4:J40) -> 76363 | K41: =SUM(K4:K40) -> 1042.5414 | ... O41: =SUM(O4:O40) -> 1003.2586
D43: NOTE: NBC- National Business Certificate, NTC- National Technical Certification

Sheet PERF. IN NBC
A1: PERFORMANCE IN THE MAY/JUNE NBC/NTC EXAMINATION BY STATE 2014 | M1: PERFORMANCE IN THE MAY/JUNE NBC/NTC EXAMINATION BY STATE 2015 | Z1: PERFORMANCE IN THE MAY/JUNE NBC/NTC EXAMINATION BY STATE 2016
A2: S/N | B2: State | C2: No of Candidates that Sat for the Examination | F2: Candidates With Five (5) Credits and Above with or Without English Language and Mathematics | I2: Candidates with Five (5) Credits and Above Including English Language & Mathematics (Successful Candidates) | M2: S/N | N2: State | O2: No of Candidates that Sat for the Examination | R2: Candidates With Five (5) Credits and Above with or Without English Language and Mathematics | U2: Candidates with Five (5) Credits and Above Including English Language & Mathematics (Successful Candidates) | Z2: S/N | AA2: State | AB2: No of Candidates that Sat for the Examination | AE2: Candidates With Five (5) Credits and Above with or Without English Language and Mathematics | AH2: Candidates with Five (5) Credits and Above Including English Language & Mathematics (Successful Candidates)
C3: MALE | D3: FEMALE | E3: TOTAL | F3: MALE | G3: FEMALE | H3: TOTAL | I3: MALE | J3: FEMALE | K3: TOTAL | O3: MALE | P3: FEMALE | Q3: TOTAL | R3: MALE | S3: FEMALE | T3: TOTAL | U3: MALE | V3: FEMALE | W3: TOTAL | AB3: MALE | AC3: FEMALE | AD3: TOTAL | AE3: MALE | AF3: FEMALE | AG3: TOTAL | AH3: MALE | AI3: FEMALE | AJ3: TOTAL
A4: 1 | B4: Abia | C4: 314 | D4: 238 | E4: =SUM(C4:D4) -> 552 | F4: 158 | G4: 141 | H4: =SUM(F4:G4) -> 299 | I4: 81 | J4: 94 | K4: =SUM(I4:J4) -> 175 | M4: 1 | N4: Abia | O4: 301 | P4: 285 | Q4: =SUM(O4:P4) -> 586 | R4: 209 | S4: 213 | T4: =SUM(R4:S4) -> 422 | U4: 145 | V4: 155 | W4: =SUM(U4:V4) -> 300 | Z4: 1 | AA4: Abia | AB4: 240 | AC4: 230 | AD4: =SUM(AB4:AC4) -> 470 | AE4: 203 | AF4: 195 | AG4: =SUM(AE4:AF4) -> 398 | AH4: 109 | AI4: 152 | AJ4: =SUM(AH4:AI4) -> 261
A5: 2 | B5: Adamawa | C5: 3482 | D5: 1438 | E5: =SUM(C5:D5) -> 4920 | F5: 1400 | G5: 677 | H5: =SUM(F5:G5) -> 2077 | I5: 974 | J5: 473 | K5: =SUM(I5:J5) -> 1447 | M5: 2 | N5: Adamawa | O5: 2225 | P5: 1007 | Q5: =SUM(O5:P5) -> 3232 | R5: 1251 | S5: 642 | T5: =SUM(R5:S5) -> 1893 | U5: 955 | V5: 489 | W5: =SUM(U5:V5) -> 1444 | Z5: 2 | AA5: Adamawa | AB5: 2764 | AC5: 1265 | AD5: =SUM(AB5:AC5) -> 4029 | AE5: 2181 | AF5: 1028 | AG5: =SUM(AE5:AF5) -> 3209 | AH5: 1508 | AI5: 731 | AJ5: =SUM(AH5:AI5) -> 2239
A6: 3 | B6: Akwa Ibom | C6: 1646 | D6: 333 | E6: =SUM(C6:D6) -> 1979 | F6: 868 | G6: 152 | H6: =SUM(F6:G6) -> 1020 | I6: 389 | J6: 80 | K6: =SUM(I6:J6) -> 469 | M6: 3 | N6: Akwa Ibom | O6: 1413 | P6: 324 | Q6: =SUM(O6:P6) -> 1737 | R6: 1000 | S6: 166 | T6: =SUM(R6:S6) -> 1166 | U6: 737 | V6: 122 | W6: =SUM(U6:V6) -> 859 | Z6: 3 | AA6: Akwa Ibom | AB6: 1188 | AC6: 362 | AD6: =SUM(AB6:AC6) -> 1550 | AE6: 937 | AF6: 246 | AG6: =SUM(AE6:AF6) -> 1183 | AH6: 536 | AI6: 123 | AJ6: =SUM(AH6:AI6) -> 659
A7: 4 | B7: Anambra | C7: 784 | D7: 639 | E7: =SUM(C7:D7) -> 1423 | F7: 560 | G7: 433 | H7: =SUM(F7:G7) -> 993 | I7: 363 | J7: 331 | K7: =SUM(I7:J7) -> 694 | M7: 4 | N7: Anambra | O7: 800 | P7: 470 | Q7: =SUM(O7:P7) -> 1270 | R7: 578 | S7: 332 | T7: =SUM(R7:S7) -> 910 | U7: 358 | V7: 240 | W7: =SUM(U7:V7) -> 598 | Z7: 4 | AA7: Anambra | AB7: 810 | AC7: 539 | AD7: =SUM(AB7:AC7) -> 1349 | AE7: 693 | AF7: 455 | AG7: =SUM(AE7:AF7) -> 1148 | AH7: 527 | AI7: 377 | AJ7: =SUM(AH7:AI7) -> 904
A8: 5 | B8: Bauchi | C8: 2201 | D8: 353 | E8: =SUM(C8:D8) -> 2554 | F8: 194 | G8: 33 | H8: =SUM(F8:G8) -> 227 | I8: 53 | J8: 6 | K8: =SUM(I8:J8) -> 59 | M8: 5 | N8: Bauchi | O8: 1330 | P8: 222 | Q8: =SUM(O8:P8) -> 1552 | R8: 355 | S8: 49 | T8: =SUM(R8:S8) -> 404 | U8: 243 | V8: 34 | W8: =SUM(U8:V8) -> 277 | Z8: 5 | AA8: Bauchi | AB8: 1142 | AC8: 223 | AD8: =SUM(AB8:AC8) -> 1365 | AE8: 537 | AF8: 116 | AG8: =SUM(AE8:AF8) -> 653 | AH8: 211 | AI8: 23 | AJ8: =SUM(AH8:AI8) -> 234
